BEGIN:VCALENDAR
VERSION:2.0
PRODID:-//Mullumbimby Ex-Services Club - ECPv6.15.17.1//NONSGML v1.0//EN
CALSCALE:GREGORIAN
METHOD:PUBLISH
X-WR-CALNAME:Mullumbimby Ex-Services Club
X-ORIGINAL-URL:https://www.mullumexservices.com.au
X-WR-CALDESC:Events for Mullumbimby Ex-Services Club
REFRESH-INTERVAL;VALUE=DURATION:PT1H
X-Robots-Tag:noindex
X-PUBLISHED-TTL:PT1H
BEGIN:VTIMEZONE
TZID:Australia/Sydney
BEGIN:STANDARD
TZOFFSETFROM:+1100
TZOFFSETTO:+1000
TZNAME:AEST
DTSTART:20250405T160000
END:STANDARD
BEGIN:DAYLIGHT
TZOFFSETFROM:+1000
TZOFFSETTO:+1100
TZNAME:AEDT
DTSTART:20251004T160000
END:DAYLIGHT
BEGIN:STANDARD
TZOFFSETFROM:+1100
TZOFFSETTO:+1000
TZNAME:AEST
DTSTART:20260404T160000
END:STANDARD
BEGIN:DAYLIGHT
TZOFFSETFROM:+1000
TZOFFSETTO:+1100
TZNAME:AEDT
DTSTART:20261003T160000
END:DAYLIGHT
BEGIN:STANDARD
TZOFFSETFROM:+1100
TZOFFSETTO:+1000
TZNAME:AEST
DTSTART:20270403T160000
END:STANDARD
BEGIN:DAYLIGHT
TZOFFSETFROM:+1000
TZOFFSETTO:+1100
TZNAME:AEDT
DTSTART:20271002T160000
END:DAYLIGHT
END:VTIMEZONE
BEGIN:VEVENT
DTSTART;TZID=Australia/Sydney:20260423T170000
DTEND;TZID=Australia/Sydney:20260423T210000
DTSTAMP:20260422T144015
CREATED:20250814T011015Z
LAST-MODIFIED:20260113T053715Z
UID:10011033-1776963600-1776978000@www.mullumexservices.com.au
SUMMARY:Thursday Curry Night
DESCRIPTION:Join us at Mullum for our Thursday Curry Night Specials! \nBookings are recommended\, please call us on 02 6684 2533. \n*Terms & Conditions Apply. Drink Responsibly.
URL:https://www.mullumexservices.com.au/event/thursday-curry-night/2026-04-23/
LOCATION:Mullumbimby Ex-Services Club\, 58 Dalley Street\, Mullumbimby\, NSW\, 2482
CATEGORIES:All,Meal specials,Specials
ATTACH;FMTTYPE=image/png:https://www.mullumexservices.com.au/wp-content/uploads/2025/08/EVENT-FEATURED-IMAGE.png
END:VEVENT
BEGIN:VEVENT
DTSTART;TZID=Australia/Sydney:20260430T170000
DTEND;TZID=Australia/Sydney:20260430T210000
DTSTAMP:20260422T144015
CREATED:20250814T011015Z
LAST-MODIFIED:20260113T053715Z
UID:10011034-1777568400-1777582800@www.mullumexservices.com.au
SUMMARY:Thursday Curry Night
DESCRIPTION:Join us at Mullum for our Thursday Curry Night Specials! \nBookings are recommended\, please call us on 02 6684 2533. \n*Terms & Conditions Apply. Drink Responsibly.
URL:https://www.mullumexservices.com.au/event/thursday-curry-night/2026-04-30/
LOCATION:Mullumbimby Ex-Services Club\, 58 Dalley Street\, Mullumbimby\, NSW\, 2482
CATEGORIES:All,Meal specials,Specials
ATTACH;FMTTYPE=image/png:https://www.mullumexservices.com.au/wp-content/uploads/2025/08/EVENT-FEATURED-IMAGE.png
END:VEVENT
BEGIN:VEVENT
DTSTART;TZID=Australia/Sydney:20260507T170000
DTEND;TZID=Australia/Sydney:20260507T210000
DTSTAMP:20260422T144015
CREATED:20250814T011015Z
LAST-MODIFIED:20260113T053715Z
UID:10011035-1778173200-1778187600@www.mullumexservices.com.au
SUMMARY:Thursday Curry Night
DESCRIPTION:Join us at Mullum for our Thursday Curry Night Specials! \nBookings are recommended\, please call us on 02 6684 2533. \n*Terms & Conditions Apply. Drink Responsibly.
URL:https://www.mullumexservices.com.au/event/thursday-curry-night/2026-05-07/
LOCATION:Mullumbimby Ex-Services Club\, 58 Dalley Street\, Mullumbimby\, NSW\, 2482
CATEGORIES:All,Meal specials,Specials
ATTACH;FMTTYPE=image/png:https://www.mullumexservices.com.au/wp-content/uploads/2025/08/EVENT-FEATURED-IMAGE.png
END:VEVENT
BEGIN:VEVENT
DTSTART;TZID=Australia/Sydney:20260514T170000
DTEND;TZID=Australia/Sydney:20260514T210000
DTSTAMP:20260422T144015
CREATED:20250814T011015Z
LAST-MODIFIED:20260113T053715Z
UID:10011036-1778778000-1778792400@www.mullumexservices.com.au
SUMMARY:Thursday Curry Night
DESCRIPTION:Join us at Mullum for our Thursday Curry Night Specials! \nBookings are recommended\, please call us on 02 6684 2533. \n*Terms & Conditions Apply. Drink Responsibly.
URL:https://www.mullumexservices.com.au/event/thursday-curry-night/2026-05-14/
LOCATION:Mullumbimby Ex-Services Club\, 58 Dalley Street\, Mullumbimby\, NSW\, 2482
CATEGORIES:All,Meal specials,Specials
ATTACH;FMTTYPE=image/png:https://www.mullumexservices.com.au/wp-content/uploads/2025/08/EVENT-FEATURED-IMAGE.png
END:VEVENT
BEGIN:VEVENT
DTSTART;TZID=Australia/Sydney:20260521T170000
DTEND;TZID=Australia/Sydney:20260521T210000
DTSTAMP:20260422T144015
CREATED:20250814T011015Z
LAST-MODIFIED:20260113T053715Z
UID:10011037-1779382800-1779397200@www.mullumexservices.com.au
SUMMARY:Thursday Curry Night
DESCRIPTION:Join us at Mullum for our Thursday Curry Night Specials! \nBookings are recommended\, please call us on 02 6684 2533. \n*Terms & Conditions Apply. Drink Responsibly.
URL:https://www.mullumexservices.com.au/event/thursday-curry-night/2026-05-21/
LOCATION:Mullumbimby Ex-Services Club\, 58 Dalley Street\, Mullumbimby\, NSW\, 2482
CATEGORIES:All,Meal specials,Specials
ATTACH;FMTTYPE=image/png:https://www.mullumexservices.com.au/wp-content/uploads/2025/08/EVENT-FEATURED-IMAGE.png
END:VEVENT
BEGIN:VEVENT
DTSTART;TZID=Australia/Sydney:20260528T170000
DTEND;TZID=Australia/Sydney:20260528T210000
DTSTAMP:20260422T144015
CREATED:20250814T011015Z
LAST-MODIFIED:20260113T053715Z
UID:10011038-1779987600-1780002000@www.mullumexservices.com.au
SUMMARY:Thursday Curry Night
DESCRIPTION:Join us at Mullum for our Thursday Curry Night Specials! \nBookings are recommended\, please call us on 02 6684 2533. \n*Terms & Conditions Apply. Drink Responsibly.
URL:https://www.mullumexservices.com.au/event/thursday-curry-night/2026-05-28/
LOCATION:Mullumbimby Ex-Services Club\, 58 Dalley Street\, Mullumbimby\, NSW\, 2482
CATEGORIES:All,Meal specials,Specials
ATTACH;FMTTYPE=image/png:https://www.mullumexservices.com.au/wp-content/uploads/2025/08/EVENT-FEATURED-IMAGE.png
END:VEVENT
BEGIN:VEVENT
DTSTART;TZID=Australia/Sydney:20260604T170000
DTEND;TZID=Australia/Sydney:20260604T210000
DTSTAMP:20260422T144015
CREATED:20250814T011015Z
LAST-MODIFIED:20260113T053715Z
UID:10011039-1780592400-1780606800@www.mullumexservices.com.au
SUMMARY:Thursday Curry Night
DESCRIPTION:Join us at Mullum for our Thursday Curry Night Specials! \nBookings are recommended\, please call us on 02 6684 2533. \n*Terms & Conditions Apply. Drink Responsibly.
URL:https://www.mullumexservices.com.au/event/thursday-curry-night/2026-06-04/
LOCATION:Mullumbimby Ex-Services Club\, 58 Dalley Street\, Mullumbimby\, NSW\, 2482
CATEGORIES:All,Meal specials,Specials
ATTACH;FMTTYPE=image/png:https://www.mullumexservices.com.au/wp-content/uploads/2025/08/EVENT-FEATURED-IMAGE.png
END:VEVENT
BEGIN:VEVENT
DTSTART;TZID=Australia/Sydney:20260611T170000
DTEND;TZID=Australia/Sydney:20260611T210000
DTSTAMP:20260422T144015
CREATED:20250814T011015Z
LAST-MODIFIED:20260113T053715Z
UID:10011040-1781197200-1781211600@www.mullumexservices.com.au
SUMMARY:Thursday Curry Night
DESCRIPTION:Join us at Mullum for our Thursday Curry Night Specials! \nBookings are recommended\, please call us on 02 6684 2533. \n*Terms & Conditions Apply. Drink Responsibly.
URL:https://www.mullumexservices.com.au/event/thursday-curry-night/2026-06-11/
LOCATION:Mullumbimby Ex-Services Club\, 58 Dalley Street\, Mullumbimby\, NSW\, 2482
CATEGORIES:All,Meal specials,Specials
ATTACH;FMTTYPE=image/png:https://www.mullumexservices.com.au/wp-content/uploads/2025/08/EVENT-FEATURED-IMAGE.png
END:VEVENT
BEGIN:VEVENT
DTSTART;TZID=Australia/Sydney:20260618T170000
DTEND;TZID=Australia/Sydney:20260618T210000
DTSTAMP:20260422T144015
CREATED:20250814T011015Z
LAST-MODIFIED:20260113T053715Z
UID:10011041-1781802000-1781816400@www.mullumexservices.com.au
SUMMARY:Thursday Curry Night
DESCRIPTION:Join us at Mullum for our Thursday Curry Night Specials! \nBookings are recommended\, please call us on 02 6684 2533. \n*Terms & Conditions Apply. Drink Responsibly.
URL:https://www.mullumexservices.com.au/event/thursday-curry-night/2026-06-18/
LOCATION:Mullumbimby Ex-Services Club\, 58 Dalley Street\, Mullumbimby\, NSW\, 2482
CATEGORIES:All,Meal specials,Specials
ATTACH;FMTTYPE=image/png:https://www.mullumexservices.com.au/wp-content/uploads/2025/08/EVENT-FEATURED-IMAGE.png
END:VEVENT
BEGIN:VEVENT
DTSTART;TZID=Australia/Sydney:20260625T170000
DTEND;TZID=Australia/Sydney:20260625T210000
DTSTAMP:20260422T144015
CREATED:20250814T011015Z
LAST-MODIFIED:20260113T053715Z
UID:10011042-1782406800-1782421200@www.mullumexservices.com.au
SUMMARY:Thursday Curry Night
DESCRIPTION:Join us at Mullum for our Thursday Curry Night Specials! \nBookings are recommended\, please call us on 02 6684 2533. \n*Terms & Conditions Apply. Drink Responsibly.
URL:https://www.mullumexservices.com.au/event/thursday-curry-night/2026-06-25/
LOCATION:Mullumbimby Ex-Services Club\, 58 Dalley Street\, Mullumbimby\, NSW\, 2482
CATEGORIES:All,Meal specials,Specials
ATTACH;FMTTYPE=image/png:https://www.mullumexservices.com.au/wp-content/uploads/2025/08/EVENT-FEATURED-IMAGE.png
END:VEVENT
BEGIN:VEVENT
DTSTART;TZID=Australia/Sydney:20260702T170000
DTEND;TZID=Australia/Sydney:20260702T210000
DTSTAMP:20260422T144015
CREATED:20250814T011015Z
LAST-MODIFIED:20260113T053715Z
UID:10011043-1783011600-1783026000@www.mullumexservices.com.au
SUMMARY:Thursday Curry Night
DESCRIPTION:Join us at Mullum for our Thursday Curry Night Specials! \nBookings are recommended\, please call us on 02 6684 2533. \n*Terms & Conditions Apply. Drink Responsibly.
URL:https://www.mullumexservices.com.au/event/thursday-curry-night/2026-07-02/
LOCATION:Mullumbimby Ex-Services Club\, 58 Dalley Street\, Mullumbimby\, NSW\, 2482
CATEGORIES:All,Meal specials,Specials
ATTACH;FMTTYPE=image/png:https://www.mullumexservices.com.au/wp-content/uploads/2025/08/EVENT-FEATURED-IMAGE.png
END:VEVENT
BEGIN:VEVENT
DTSTART;TZID=Australia/Sydney:20260709T170000
DTEND;TZID=Australia/Sydney:20260709T210000
DTSTAMP:20260422T144015
CREATED:20250814T011015Z
LAST-MODIFIED:20260113T053715Z
UID:10011044-1783616400-1783630800@www.mullumexservices.com.au
SUMMARY:Thursday Curry Night
DESCRIPTION:Join us at Mullum for our Thursday Curry Night Specials! \nBookings are recommended\, please call us on 02 6684 2533. \n*Terms & Conditions Apply. Drink Responsibly.
URL:https://www.mullumexservices.com.au/event/thursday-curry-night/2026-07-09/
LOCATION:Mullumbimby Ex-Services Club\, 58 Dalley Street\, Mullumbimby\, NSW\, 2482
CATEGORIES:All,Meal specials,Specials
ATTACH;FMTTYPE=image/png:https://www.mullumexservices.com.au/wp-content/uploads/2025/08/EVENT-FEATURED-IMAGE.png
END:VEVENT
BEGIN:VEVENT
DTSTART;TZID=Australia/Sydney:20260716T170000
DTEND;TZID=Australia/Sydney:20260716T210000
DTSTAMP:20260422T144015
CREATED:20250814T011015Z
LAST-MODIFIED:20260113T053715Z
UID:10011045-1784221200-1784235600@www.mullumexservices.com.au
SUMMARY:Thursday Curry Night
DESCRIPTION:Join us at Mullum for our Thursday Curry Night Specials! \nBookings are recommended\, please call us on 02 6684 2533. \n*Terms & Conditions Apply. Drink Responsibly.
URL:https://www.mullumexservices.com.au/event/thursday-curry-night/2026-07-16/
LOCATION:Mullumbimby Ex-Services Club\, 58 Dalley Street\, Mullumbimby\, NSW\, 2482
CATEGORIES:All,Meal specials,Specials
ATTACH;FMTTYPE=image/png:https://www.mullumexservices.com.au/wp-content/uploads/2025/08/EVENT-FEATURED-IMAGE.png
END:VEVENT
BEGIN:VEVENT
DTSTART;TZID=Australia/Sydney:20260723T170000
DTEND;TZID=Australia/Sydney:20260723T210000
DTSTAMP:20260422T144015
CREATED:20250814T011015Z
LAST-MODIFIED:20260113T053715Z
UID:10011046-1784826000-1784840400@www.mullumexservices.com.au
SUMMARY:Thursday Curry Night
DESCRIPTION:Join us at Mullum for our Thursday Curry Night Specials! \nBookings are recommended\, please call us on 02 6684 2533. \n*Terms & Conditions Apply. Drink Responsibly.
URL:https://www.mullumexservices.com.au/event/thursday-curry-night/2026-07-23/
LOCATION:Mullumbimby Ex-Services Club\, 58 Dalley Street\, Mullumbimby\, NSW\, 2482
CATEGORIES:All,Meal specials,Specials
ATTACH;FMTTYPE=image/png:https://www.mullumexservices.com.au/wp-content/uploads/2025/08/EVENT-FEATURED-IMAGE.png
END:VEVENT
BEGIN:VEVENT
DTSTART;TZID=Australia/Sydney:20260730T170000
DTEND;TZID=Australia/Sydney:20260730T210000
DTSTAMP:20260422T144015
CREATED:20250814T011015Z
LAST-MODIFIED:20260113T053715Z
UID:10011047-1785430800-1785445200@www.mullumexservices.com.au
SUMMARY:Thursday Curry Night
DESCRIPTION:Join us at Mullum for our Thursday Curry Night Specials! \nBookings are recommended\, please call us on 02 6684 2533. \n*Terms & Conditions Apply. Drink Responsibly.
URL:https://www.mullumexservices.com.au/event/thursday-curry-night/2026-07-30/
LOCATION:Mullumbimby Ex-Services Club\, 58 Dalley Street\, Mullumbimby\, NSW\, 2482
CATEGORIES:All,Meal specials,Specials
ATTACH;FMTTYPE=image/png:https://www.mullumexservices.com.au/wp-content/uploads/2025/08/EVENT-FEATURED-IMAGE.png
END:VEVENT
BEGIN:VEVENT
DTSTART;TZID=Australia/Sydney:20260806T170000
DTEND;TZID=Australia/Sydney:20260806T210000
DTSTAMP:20260422T144015
CREATED:20250814T011015Z
LAST-MODIFIED:20260113T053715Z
UID:10011048-1786035600-1786050000@www.mullumexservices.com.au
SUMMARY:Thursday Curry Night
DESCRIPTION:Join us at Mullum for our Thursday Curry Night Specials! \nBookings are recommended\, please call us on 02 6684 2533. \n*Terms & Conditions Apply. Drink Responsibly.
URL:https://www.mullumexservices.com.au/event/thursday-curry-night/2026-08-06/
LOCATION:Mullumbimby Ex-Services Club\, 58 Dalley Street\, Mullumbimby\, NSW\, 2482
CATEGORIES:All,Meal specials,Specials
ATTACH;FMTTYPE=image/png:https://www.mullumexservices.com.au/wp-content/uploads/2025/08/EVENT-FEATURED-IMAGE.png
END:VEVENT
BEGIN:VEVENT
DTSTART;TZID=Australia/Sydney:20260813T170000
DTEND;TZID=Australia/Sydney:20260813T210000
DTSTAMP:20260422T144015
CREATED:20250814T011015Z
LAST-MODIFIED:20260113T053715Z
UID:10011049-1786640400-1786654800@www.mullumexservices.com.au
SUMMARY:Thursday Curry Night
DESCRIPTION:Join us at Mullum for our Thursday Curry Night Specials! \nBookings are recommended\, please call us on 02 6684 2533. \n*Terms & Conditions Apply. Drink Responsibly.
URL:https://www.mullumexservices.com.au/event/thursday-curry-night/2026-08-13/
LOCATION:Mullumbimby Ex-Services Club\, 58 Dalley Street\, Mullumbimby\, NSW\, 2482
CATEGORIES:All,Meal specials,Specials
ATTACH;FMTTYPE=image/png:https://www.mullumexservices.com.au/wp-content/uploads/2025/08/EVENT-FEATURED-IMAGE.png
END:VEVENT
BEGIN:VEVENT
DTSTART;TZID=Australia/Sydney:20260820T170000
DTEND;TZID=Australia/Sydney:20260820T210000
DTSTAMP:20260422T144015
CREATED:20250814T011015Z
LAST-MODIFIED:20260113T053715Z
UID:10011050-1787245200-1787259600@www.mullumexservices.com.au
SUMMARY:Thursday Curry Night
DESCRIPTION:Join us at Mullum for our Thursday Curry Night Specials! \nBookings are recommended\, please call us on 02 6684 2533. \n*Terms & Conditions Apply. Drink Responsibly.
URL:https://www.mullumexservices.com.au/event/thursday-curry-night/2026-08-20/
LOCATION:Mullumbimby Ex-Services Club\, 58 Dalley Street\, Mullumbimby\, NSW\, 2482
CATEGORIES:All,Meal specials,Specials
ATTACH;FMTTYPE=image/png:https://www.mullumexservices.com.au/wp-content/uploads/2025/08/EVENT-FEATURED-IMAGE.png
END:VEVENT
BEGIN:VEVENT
DTSTART;TZID=Australia/Sydney:20260827T170000
DTEND;TZID=Australia/Sydney:20260827T210000
DTSTAMP:20260422T144015
CREATED:20250814T011015Z
LAST-MODIFIED:20260113T053715Z
UID:10011051-1787850000-1787864400@www.mullumexservices.com.au
SUMMARY:Thursday Curry Night
DESCRIPTION:Join us at Mullum for our Thursday Curry Night Specials! \nBookings are recommended\, please call us on 02 6684 2533. \n*Terms & Conditions Apply. Drink Responsibly.
URL:https://www.mullumexservices.com.au/event/thursday-curry-night/2026-08-27/
LOCATION:Mullumbimby Ex-Services Club\, 58 Dalley Street\, Mullumbimby\, NSW\, 2482
CATEGORIES:All,Meal specials,Specials
ATTACH;FMTTYPE=image/png:https://www.mullumexservices.com.au/wp-content/uploads/2025/08/EVENT-FEATURED-IMAGE.png
END:VEVENT
BEGIN:VEVENT
DTSTART;TZID=Australia/Sydney:20260903T170000
DTEND;TZID=Australia/Sydney:20260903T210000
DTSTAMP:20260422T144015
CREATED:20250814T011015Z
LAST-MODIFIED:20260113T053715Z
UID:10011052-1788454800-1788469200@www.mullumexservices.com.au
SUMMARY:Thursday Curry Night
DESCRIPTION:Join us at Mullum for our Thursday Curry Night Specials! \nBookings are recommended\, please call us on 02 6684 2533. \n*Terms & Conditions Apply. Drink Responsibly.
URL:https://www.mullumexservices.com.au/event/thursday-curry-night/2026-09-03/
LOCATION:Mullumbimby Ex-Services Club\, 58 Dalley Street\, Mullumbimby\, NSW\, 2482
CATEGORIES:All,Meal specials,Specials
ATTACH;FMTTYPE=image/png:https://www.mullumexservices.com.au/wp-content/uploads/2025/08/EVENT-FEATURED-IMAGE.png
END:VEVENT
BEGIN:VEVENT
DTSTART;TZID=Australia/Sydney:20260910T170000
DTEND;TZID=Australia/Sydney:20260910T210000
DTSTAMP:20260422T144015
CREATED:20250814T011015Z
LAST-MODIFIED:20260113T053715Z
UID:10011053-1789059600-1789074000@www.mullumexservices.com.au
SUMMARY:Thursday Curry Night
DESCRIPTION:Join us at Mullum for our Thursday Curry Night Specials! \nBookings are recommended\, please call us on 02 6684 2533. \n*Terms & Conditions Apply. Drink Responsibly.
URL:https://www.mullumexservices.com.au/event/thursday-curry-night/2026-09-10/
LOCATION:Mullumbimby Ex-Services Club\, 58 Dalley Street\, Mullumbimby\, NSW\, 2482
CATEGORIES:All,Meal specials,Specials
ATTACH;FMTTYPE=image/png:https://www.mullumexservices.com.au/wp-content/uploads/2025/08/EVENT-FEATURED-IMAGE.png
END:VEVENT
BEGIN:VEVENT
DTSTART;TZID=Australia/Sydney:20260917T170000
DTEND;TZID=Australia/Sydney:20260917T210000
DTSTAMP:20260422T144015
CREATED:20250814T011015Z
LAST-MODIFIED:20260113T053715Z
UID:10011054-1789664400-1789678800@www.mullumexservices.com.au
SUMMARY:Thursday Curry Night
DESCRIPTION:Join us at Mullum for our Thursday Curry Night Specials! \nBookings are recommended\, please call us on 02 6684 2533. \n*Terms & Conditions Apply. Drink Responsibly.
URL:https://www.mullumexservices.com.au/event/thursday-curry-night/2026-09-17/
LOCATION:Mullumbimby Ex-Services Club\, 58 Dalley Street\, Mullumbimby\, NSW\, 2482
CATEGORIES:All,Meal specials,Specials
ATTACH;FMTTYPE=image/png:https://www.mullumexservices.com.au/wp-content/uploads/2025/08/EVENT-FEATURED-IMAGE.png
END:VEVENT
BEGIN:VEVENT
DTSTART;TZID=Australia/Sydney:20260924T170000
DTEND;TZID=Australia/Sydney:20260924T210000
DTSTAMP:20260422T144015
CREATED:20250814T011015Z
LAST-MODIFIED:20260113T053715Z
UID:10011055-1790269200-1790283600@www.mullumexservices.com.au
SUMMARY:Thursday Curry Night
DESCRIPTION:Join us at Mullum for our Thursday Curry Night Specials! \nBookings are recommended\, please call us on 02 6684 2533. \n*Terms & Conditions Apply. Drink Responsibly.
URL:https://www.mullumexservices.com.au/event/thursday-curry-night/2026-09-24/
LOCATION:Mullumbimby Ex-Services Club\, 58 Dalley Street\, Mullumbimby\, NSW\, 2482
CATEGORIES:All,Meal specials,Specials
ATTACH;FMTTYPE=image/png:https://www.mullumexservices.com.au/wp-content/uploads/2025/08/EVENT-FEATURED-IMAGE.png
END:VEVENT
BEGIN:VEVENT
DTSTART;TZID=Australia/Sydney:20261001T170000
DTEND;TZID=Australia/Sydney:20261001T210000
DTSTAMP:20260422T144015
CREATED:20250814T011015Z
LAST-MODIFIED:20260113T053715Z
UID:10011056-1790874000-1790888400@www.mullumexservices.com.au
SUMMARY:Thursday Curry Night
DESCRIPTION:Join us at Mullum for our Thursday Curry Night Specials! \nBookings are recommended\, please call us on 02 6684 2533. \n*Terms & Conditions Apply. Drink Responsibly.
URL:https://www.mullumexservices.com.au/event/thursday-curry-night/2026-10-01/
LOCATION:Mullumbimby Ex-Services Club\, 58 Dalley Street\, Mullumbimby\, NSW\, 2482
CATEGORIES:All,Meal specials,Specials
ATTACH;FMTTYPE=image/png:https://www.mullumexservices.com.au/wp-content/uploads/2025/08/EVENT-FEATURED-IMAGE.png
END:VEVENT
BEGIN:VEVENT
DTSTART;TZID=Australia/Sydney:20261008T170000
DTEND;TZID=Australia/Sydney:20261008T210000
DTSTAMP:20260422T144015
CREATED:20250814T011015Z
LAST-MODIFIED:20260113T053715Z
UID:10011057-1791478800-1791493200@www.mullumexservices.com.au
SUMMARY:Thursday Curry Night
DESCRIPTION:Join us at Mullum for our Thursday Curry Night Specials! \nBookings are recommended\, please call us on 02 6684 2533. \n*Terms & Conditions Apply. Drink Responsibly.
URL:https://www.mullumexservices.com.au/event/thursday-curry-night/2026-10-08/
LOCATION:Mullumbimby Ex-Services Club\, 58 Dalley Street\, Mullumbimby\, NSW\, 2482
CATEGORIES:All,Meal specials,Specials
ATTACH;FMTTYPE=image/png:https://www.mullumexservices.com.au/wp-content/uploads/2025/08/EVENT-FEATURED-IMAGE.png
END:VEVENT
BEGIN:VEVENT
DTSTART;TZID=Australia/Sydney:20261015T170000
DTEND;TZID=Australia/Sydney:20261015T210000
DTSTAMP:20260422T144015
CREATED:20250814T011015Z
LAST-MODIFIED:20260113T053715Z
UID:10011058-1792083600-1792098000@www.mullumexservices.com.au
SUMMARY:Thursday Curry Night
DESCRIPTION:Join us at Mullum for our Thursday Curry Night Specials! \nBookings are recommended\, please call us on 02 6684 2533. \n*Terms & Conditions Apply. Drink Responsibly.
URL:https://www.mullumexservices.com.au/event/thursday-curry-night/2026-10-15/
LOCATION:Mullumbimby Ex-Services Club\, 58 Dalley Street\, Mullumbimby\, NSW\, 2482
CATEGORIES:All,Meal specials,Specials
ATTACH;FMTTYPE=image/png:https://www.mullumexservices.com.au/wp-content/uploads/2025/08/EVENT-FEATURED-IMAGE.png
END:VEVENT
BEGIN:VEVENT
DTSTART;TZID=Australia/Sydney:20261022T170000
DTEND;TZID=Australia/Sydney:20261022T210000
DTSTAMP:20260422T144015
CREATED:20250814T011015Z
LAST-MODIFIED:20260113T053715Z
UID:10011059-1792688400-1792702800@www.mullumexservices.com.au
SUMMARY:Thursday Curry Night
DESCRIPTION:Join us at Mullum for our Thursday Curry Night Specials! \nBookings are recommended\, please call us on 02 6684 2533. \n*Terms & Conditions Apply. Drink Responsibly.
URL:https://www.mullumexservices.com.au/event/thursday-curry-night/2026-10-22/
LOCATION:Mullumbimby Ex-Services Club\, 58 Dalley Street\, Mullumbimby\, NSW\, 2482
CATEGORIES:All,Meal specials,Specials
ATTACH;FMTTYPE=image/png:https://www.mullumexservices.com.au/wp-content/uploads/2025/08/EVENT-FEATURED-IMAGE.png
END:VEVENT
BEGIN:VEVENT
DTSTART;TZID=Australia/Sydney:20261029T170000
DTEND;TZID=Australia/Sydney:20261029T210000
DTSTAMP:20260422T144015
CREATED:20250814T011015Z
LAST-MODIFIED:20260113T053715Z
UID:10011060-1793293200-1793307600@www.mullumexservices.com.au
SUMMARY:Thursday Curry Night
DESCRIPTION:Join us at Mullum for our Thursday Curry Night Specials! \nBookings are recommended\, please call us on 02 6684 2533. \n*Terms & Conditions Apply. Drink Responsibly.
URL:https://www.mullumexservices.com.au/event/thursday-curry-night/2026-10-29/
LOCATION:Mullumbimby Ex-Services Club\, 58 Dalley Street\, Mullumbimby\, NSW\, 2482
CATEGORIES:All,Meal specials,Specials
ATTACH;FMTTYPE=image/png:https://www.mullumexservices.com.au/wp-content/uploads/2025/08/EVENT-FEATURED-IMAGE.png
END:VEVENT
BEGIN:VEVENT
DTSTART;TZID=Australia/Sydney:20261105T170000
DTEND;TZID=Australia/Sydney:20261105T210000
DTSTAMP:20260422T144015
CREATED:20250814T011015Z
LAST-MODIFIED:20260113T053715Z
UID:10011061-1793898000-1793912400@www.mullumexservices.com.au
SUMMARY:Thursday Curry Night
DESCRIPTION:Join us at Mullum for our Thursday Curry Night Specials! \nBookings are recommended\, please call us on 02 6684 2533. \n*Terms & Conditions Apply. Drink Responsibly.
URL:https://www.mullumexservices.com.au/event/thursday-curry-night/2026-11-05/
LOCATION:Mullumbimby Ex-Services Club\, 58 Dalley Street\, Mullumbimby\, NSW\, 2482
CATEGORIES:All,Meal specials,Specials
ATTACH;FMTTYPE=image/png:https://www.mullumexservices.com.au/wp-content/uploads/2025/08/EVENT-FEATURED-IMAGE.png
END:VEVENT
BEGIN:VEVENT
DTSTART;TZID=Australia/Sydney:20261112T170000
DTEND;TZID=Australia/Sydney:20261112T210000
DTSTAMP:20260422T144015
CREATED:20250814T011015Z
LAST-MODIFIED:20260113T053715Z
UID:10011062-1794502800-1794517200@www.mullumexservices.com.au
SUMMARY:Thursday Curry Night
DESCRIPTION:Join us at Mullum for our Thursday Curry Night Specials! \nBookings are recommended\, please call us on 02 6684 2533. \n*Terms & Conditions Apply. Drink Responsibly.
URL:https://www.mullumexservices.com.au/event/thursday-curry-night/2026-11-12/
LOCATION:Mullumbimby Ex-Services Club\, 58 Dalley Street\, Mullumbimby\, NSW\, 2482
CATEGORIES:All,Meal specials,Specials
ATTACH;FMTTYPE=image/png:https://www.mullumexservices.com.au/wp-content/uploads/2025/08/EVENT-FEATURED-IMAGE.png
END:VEVENT
END:VCALENDAR