BEGIN:VCALENDAR
VERSION:2.0
PRODID:-//Mullumbimby Ex-Services Club - ECPv6.15.17.1//NONSGML v1.0//EN
CALSCALE:GREGORIAN
METHOD:PUBLISH
X-WR-CALNAME:Mullumbimby Ex-Services Club
X-ORIGINAL-URL:https://www.mullumexservices.com.au
X-WR-CALDESC:Events for Mullumbimby Ex-Services Club
REFRESH-INTERVAL;VALUE=DURATION:PT1H
X-Robots-Tag:noindex
X-PUBLISHED-TTL:PT1H
BEGIN:VTIMEZONE
TZID:Australia/Melbourne
BEGIN:STANDARD
TZOFFSETFROM:+1100
TZOFFSETTO:+1000
TZNAME:AEST
DTSTART:20250405T160000
END:STANDARD
BEGIN:DAYLIGHT
TZOFFSETFROM:+1000
TZOFFSETTO:+1100
TZNAME:AEDT
DTSTART:20251004T160000
END:DAYLIGHT
BEGIN:STANDARD
TZOFFSETFROM:+1100
TZOFFSETTO:+1000
TZNAME:AEST
DTSTART:20260404T160000
END:STANDARD
BEGIN:DAYLIGHT
TZOFFSETFROM:+1000
TZOFFSETTO:+1100
TZNAME:AEDT
DTSTART:20261003T160000
END:DAYLIGHT
BEGIN:STANDARD
TZOFFSETFROM:+1100
TZOFFSETTO:+1000
TZNAME:AEST
DTSTART:20270403T160000
END:STANDARD
BEGIN:DAYLIGHT
TZOFFSETFROM:+1000
TZOFFSETTO:+1100
TZNAME:AEDT
DTSTART:20271002T160000
END:DAYLIGHT
END:VTIMEZONE
BEGIN:VEVENT
DTSTART;TZID=Australia/Melbourne:20260426T120000
DTEND;TZID=Australia/Melbourne:20260426T210000
DTSTAMP:20260423T050547
CREATED:20231214T000049Z
LAST-MODIFIED:20240912T225038Z
UID:10007577-1777204800-1777237200@www.mullumexservices.com.au
SUMMARY:Sunday Roast Special
DESCRIPTION:Join us at Mullum for our Sunday Roast Special! \nEnjoy a hearty Sunday roast starting from just $16*! \nAvailable every Sunday for lunch (12pm – 2pm) and dinner (from 5:30pm). \n$16 M | $18 NM \nBookings are recommended\, please call us on 02 6684 2533.
URL:https://www.mullumexservices.com.au/event/sunday-roast/2026-04-26/
LOCATION:Mullumbimby Ex-Services Club\, 58 Dalley Street\, Mullumbimby\, NSW\, 2482
CATEGORIES:All,Meal specials,Specials
ATTACH;FMTTYPE=image/jpeg:https://www.mullumexservices.com.au/wp-content/uploads/2023/12/Sunday-Roast-Header.jpg
END:VEVENT
BEGIN:VEVENT
DTSTART;TZID=Australia/Melbourne:20260503T120000
DTEND;TZID=Australia/Melbourne:20260503T210000
DTSTAMP:20260423T050547
CREATED:20231214T000049Z
LAST-MODIFIED:20240912T225038Z
UID:10007578-1777809600-1777842000@www.mullumexservices.com.au
SUMMARY:Sunday Roast Special
DESCRIPTION:Join us at Mullum for our Sunday Roast Special! \nEnjoy a hearty Sunday roast starting from just $16*! \nAvailable every Sunday for lunch (12pm – 2pm) and dinner (from 5:30pm). \n$16 M | $18 NM \nBookings are recommended\, please call us on 02 6684 2533.
URL:https://www.mullumexservices.com.au/event/sunday-roast/2026-05-03/
LOCATION:Mullumbimby Ex-Services Club\, 58 Dalley Street\, Mullumbimby\, NSW\, 2482
CATEGORIES:All,Meal specials,Specials
ATTACH;FMTTYPE=image/jpeg:https://www.mullumexservices.com.au/wp-content/uploads/2023/12/Sunday-Roast-Header.jpg
END:VEVENT
BEGIN:VEVENT
DTSTART;TZID=Australia/Melbourne:20260510T120000
DTEND;TZID=Australia/Melbourne:20260510T210000
DTSTAMP:20260423T050547
CREATED:20231214T000049Z
LAST-MODIFIED:20240912T225038Z
UID:10007579-1778414400-1778446800@www.mullumexservices.com.au
SUMMARY:Sunday Roast Special
DESCRIPTION:Join us at Mullum for our Sunday Roast Special! \nEnjoy a hearty Sunday roast starting from just $16*! \nAvailable every Sunday for lunch (12pm – 2pm) and dinner (from 5:30pm). \n$16 M | $18 NM \nBookings are recommended\, please call us on 02 6684 2533.
URL:https://www.mullumexservices.com.au/event/sunday-roast/2026-05-10/
LOCATION:Mullumbimby Ex-Services Club\, 58 Dalley Street\, Mullumbimby\, NSW\, 2482
CATEGORIES:All,Meal specials,Specials
ATTACH;FMTTYPE=image/jpeg:https://www.mullumexservices.com.au/wp-content/uploads/2023/12/Sunday-Roast-Header.jpg
END:VEVENT
BEGIN:VEVENT
DTSTART;TZID=Australia/Melbourne:20260517T120000
DTEND;TZID=Australia/Melbourne:20260517T210000
DTSTAMP:20260423T050547
CREATED:20231214T000049Z
LAST-MODIFIED:20240912T225038Z
UID:10007580-1779019200-1779051600@www.mullumexservices.com.au
SUMMARY:Sunday Roast Special
DESCRIPTION:Join us at Mullum for our Sunday Roast Special! \nEnjoy a hearty Sunday roast starting from just $16*! \nAvailable every Sunday for lunch (12pm – 2pm) and dinner (from 5:30pm). \n$16 M | $18 NM \nBookings are recommended\, please call us on 02 6684 2533.
URL:https://www.mullumexservices.com.au/event/sunday-roast/2026-05-17/
LOCATION:Mullumbimby Ex-Services Club\, 58 Dalley Street\, Mullumbimby\, NSW\, 2482
CATEGORIES:All,Meal specials,Specials
ATTACH;FMTTYPE=image/jpeg:https://www.mullumexservices.com.au/wp-content/uploads/2023/12/Sunday-Roast-Header.jpg
END:VEVENT
BEGIN:VEVENT
DTSTART;TZID=Australia/Melbourne:20260524T120000
DTEND;TZID=Australia/Melbourne:20260524T210000
DTSTAMP:20260423T050547
CREATED:20231214T000049Z
LAST-MODIFIED:20240912T225038Z
UID:10007581-1779624000-1779656400@www.mullumexservices.com.au
SUMMARY:Sunday Roast Special
DESCRIPTION:Join us at Mullum for our Sunday Roast Special! \nEnjoy a hearty Sunday roast starting from just $16*! \nAvailable every Sunday for lunch (12pm – 2pm) and dinner (from 5:30pm). \n$16 M | $18 NM \nBookings are recommended\, please call us on 02 6684 2533.
URL:https://www.mullumexservices.com.au/event/sunday-roast/2026-05-24/
LOCATION:Mullumbimby Ex-Services Club\, 58 Dalley Street\, Mullumbimby\, NSW\, 2482
CATEGORIES:All,Meal specials,Specials
ATTACH;FMTTYPE=image/jpeg:https://www.mullumexservices.com.au/wp-content/uploads/2023/12/Sunday-Roast-Header.jpg
END:VEVENT
BEGIN:VEVENT
DTSTART;TZID=Australia/Melbourne:20260531T120000
DTEND;TZID=Australia/Melbourne:20260531T210000
DTSTAMP:20260423T050547
CREATED:20231214T000049Z
LAST-MODIFIED:20240912T225038Z
UID:10007582-1780228800-1780261200@www.mullumexservices.com.au
SUMMARY:Sunday Roast Special
DESCRIPTION:Join us at Mullum for our Sunday Roast Special! \nEnjoy a hearty Sunday roast starting from just $16*! \nAvailable every Sunday for lunch (12pm – 2pm) and dinner (from 5:30pm). \n$16 M | $18 NM \nBookings are recommended\, please call us on 02 6684 2533.
URL:https://www.mullumexservices.com.au/event/sunday-roast/2026-05-31/
LOCATION:Mullumbimby Ex-Services Club\, 58 Dalley Street\, Mullumbimby\, NSW\, 2482
CATEGORIES:All,Meal specials,Specials
ATTACH;FMTTYPE=image/jpeg:https://www.mullumexservices.com.au/wp-content/uploads/2023/12/Sunday-Roast-Header.jpg
END:VEVENT
BEGIN:VEVENT
DTSTART;TZID=Australia/Melbourne:20260607T120000
DTEND;TZID=Australia/Melbourne:20260607T210000
DTSTAMP:20260423T050547
CREATED:20231214T000049Z
LAST-MODIFIED:20240912T225038Z
UID:10007583-1780833600-1780866000@www.mullumexservices.com.au
SUMMARY:Sunday Roast Special
DESCRIPTION:Join us at Mullum for our Sunday Roast Special! \nEnjoy a hearty Sunday roast starting from just $16*! \nAvailable every Sunday for lunch (12pm – 2pm) and dinner (from 5:30pm). \n$16 M | $18 NM \nBookings are recommended\, please call us on 02 6684 2533.
URL:https://www.mullumexservices.com.au/event/sunday-roast/2026-06-07/
LOCATION:Mullumbimby Ex-Services Club\, 58 Dalley Street\, Mullumbimby\, NSW\, 2482
CATEGORIES:All,Meal specials,Specials
ATTACH;FMTTYPE=image/jpeg:https://www.mullumexservices.com.au/wp-content/uploads/2023/12/Sunday-Roast-Header.jpg
END:VEVENT
BEGIN:VEVENT
DTSTART;TZID=Australia/Melbourne:20260614T120000
DTEND;TZID=Australia/Melbourne:20260614T210000
DTSTAMP:20260423T050547
CREATED:20231214T000049Z
LAST-MODIFIED:20240912T225038Z
UID:10007584-1781438400-1781470800@www.mullumexservices.com.au
SUMMARY:Sunday Roast Special
DESCRIPTION:Join us at Mullum for our Sunday Roast Special! \nEnjoy a hearty Sunday roast starting from just $16*! \nAvailable every Sunday for lunch (12pm – 2pm) and dinner (from 5:30pm). \n$16 M | $18 NM \nBookings are recommended\, please call us on 02 6684 2533.
URL:https://www.mullumexservices.com.au/event/sunday-roast/2026-06-14/
LOCATION:Mullumbimby Ex-Services Club\, 58 Dalley Street\, Mullumbimby\, NSW\, 2482
CATEGORIES:All,Meal specials,Specials
ATTACH;FMTTYPE=image/jpeg:https://www.mullumexservices.com.au/wp-content/uploads/2023/12/Sunday-Roast-Header.jpg
END:VEVENT
BEGIN:VEVENT
DTSTART;TZID=Australia/Melbourne:20260621T120000
DTEND;TZID=Australia/Melbourne:20260621T210000
DTSTAMP:20260423T050547
CREATED:20231214T000049Z
LAST-MODIFIED:20240912T225038Z
UID:10007585-1782043200-1782075600@www.mullumexservices.com.au
SUMMARY:Sunday Roast Special
DESCRIPTION:Join us at Mullum for our Sunday Roast Special! \nEnjoy a hearty Sunday roast starting from just $16*! \nAvailable every Sunday for lunch (12pm – 2pm) and dinner (from 5:30pm). \n$16 M | $18 NM \nBookings are recommended\, please call us on 02 6684 2533.
URL:https://www.mullumexservices.com.au/event/sunday-roast/2026-06-21/
LOCATION:Mullumbimby Ex-Services Club\, 58 Dalley Street\, Mullumbimby\, NSW\, 2482
CATEGORIES:All,Meal specials,Specials
ATTACH;FMTTYPE=image/jpeg:https://www.mullumexservices.com.au/wp-content/uploads/2023/12/Sunday-Roast-Header.jpg
END:VEVENT
BEGIN:VEVENT
DTSTART;TZID=Australia/Melbourne:20260628T120000
DTEND;TZID=Australia/Melbourne:20260628T210000
DTSTAMP:20260423T050547
CREATED:20231214T000049Z
LAST-MODIFIED:20240912T225038Z
UID:10007586-1782648000-1782680400@www.mullumexservices.com.au
SUMMARY:Sunday Roast Special
DESCRIPTION:Join us at Mullum for our Sunday Roast Special! \nEnjoy a hearty Sunday roast starting from just $16*! \nAvailable every Sunday for lunch (12pm – 2pm) and dinner (from 5:30pm). \n$16 M | $18 NM \nBookings are recommended\, please call us on 02 6684 2533.
URL:https://www.mullumexservices.com.au/event/sunday-roast/2026-06-28/
LOCATION:Mullumbimby Ex-Services Club\, 58 Dalley Street\, Mullumbimby\, NSW\, 2482
CATEGORIES:All,Meal specials,Specials
ATTACH;FMTTYPE=image/jpeg:https://www.mullumexservices.com.au/wp-content/uploads/2023/12/Sunday-Roast-Header.jpg
END:VEVENT
BEGIN:VEVENT
DTSTART;TZID=Australia/Melbourne:20260705T120000
DTEND;TZID=Australia/Melbourne:20260705T210000
DTSTAMP:20260423T050547
CREATED:20231214T000049Z
LAST-MODIFIED:20240912T225038Z
UID:10007587-1783252800-1783285200@www.mullumexservices.com.au
SUMMARY:Sunday Roast Special
DESCRIPTION:Join us at Mullum for our Sunday Roast Special! \nEnjoy a hearty Sunday roast starting from just $16*! \nAvailable every Sunday for lunch (12pm – 2pm) and dinner (from 5:30pm). \n$16 M | $18 NM \nBookings are recommended\, please call us on 02 6684 2533.
URL:https://www.mullumexservices.com.au/event/sunday-roast/2026-07-05/
LOCATION:Mullumbimby Ex-Services Club\, 58 Dalley Street\, Mullumbimby\, NSW\, 2482
CATEGORIES:All,Meal specials,Specials
ATTACH;FMTTYPE=image/jpeg:https://www.mullumexservices.com.au/wp-content/uploads/2023/12/Sunday-Roast-Header.jpg
END:VEVENT
BEGIN:VEVENT
DTSTART;TZID=Australia/Melbourne:20260712T120000
DTEND;TZID=Australia/Melbourne:20260712T210000
DTSTAMP:20260423T050547
CREATED:20231214T000049Z
LAST-MODIFIED:20240912T225038Z
UID:10007588-1783857600-1783890000@www.mullumexservices.com.au
SUMMARY:Sunday Roast Special
DESCRIPTION:Join us at Mullum for our Sunday Roast Special! \nEnjoy a hearty Sunday roast starting from just $16*! \nAvailable every Sunday for lunch (12pm – 2pm) and dinner (from 5:30pm). \n$16 M | $18 NM \nBookings are recommended\, please call us on 02 6684 2533.
URL:https://www.mullumexservices.com.au/event/sunday-roast/2026-07-12/
LOCATION:Mullumbimby Ex-Services Club\, 58 Dalley Street\, Mullumbimby\, NSW\, 2482
CATEGORIES:All,Meal specials,Specials
ATTACH;FMTTYPE=image/jpeg:https://www.mullumexservices.com.au/wp-content/uploads/2023/12/Sunday-Roast-Header.jpg
END:VEVENT
BEGIN:VEVENT
DTSTART;TZID=Australia/Melbourne:20260719T120000
DTEND;TZID=Australia/Melbourne:20260719T210000
DTSTAMP:20260423T050547
CREATED:20231214T000049Z
LAST-MODIFIED:20240912T225038Z
UID:10007589-1784462400-1784494800@www.mullumexservices.com.au
SUMMARY:Sunday Roast Special
DESCRIPTION:Join us at Mullum for our Sunday Roast Special! \nEnjoy a hearty Sunday roast starting from just $16*! \nAvailable every Sunday for lunch (12pm – 2pm) and dinner (from 5:30pm). \n$16 M | $18 NM \nBookings are recommended\, please call us on 02 6684 2533.
URL:https://www.mullumexservices.com.au/event/sunday-roast/2026-07-19/
LOCATION:Mullumbimby Ex-Services Club\, 58 Dalley Street\, Mullumbimby\, NSW\, 2482
CATEGORIES:All,Meal specials,Specials
ATTACH;FMTTYPE=image/jpeg:https://www.mullumexservices.com.au/wp-content/uploads/2023/12/Sunday-Roast-Header.jpg
END:VEVENT
BEGIN:VEVENT
DTSTART;TZID=Australia/Melbourne:20260726T120000
DTEND;TZID=Australia/Melbourne:20260726T210000
DTSTAMP:20260423T050547
CREATED:20231214T000049Z
LAST-MODIFIED:20240912T225038Z
UID:10007590-1785067200-1785099600@www.mullumexservices.com.au
SUMMARY:Sunday Roast Special
DESCRIPTION:Join us at Mullum for our Sunday Roast Special! \nEnjoy a hearty Sunday roast starting from just $16*! \nAvailable every Sunday for lunch (12pm – 2pm) and dinner (from 5:30pm). \n$16 M | $18 NM \nBookings are recommended\, please call us on 02 6684 2533.
URL:https://www.mullumexservices.com.au/event/sunday-roast/2026-07-26/
LOCATION:Mullumbimby Ex-Services Club\, 58 Dalley Street\, Mullumbimby\, NSW\, 2482
CATEGORIES:All,Meal specials,Specials
ATTACH;FMTTYPE=image/jpeg:https://www.mullumexservices.com.au/wp-content/uploads/2023/12/Sunday-Roast-Header.jpg
END:VEVENT
BEGIN:VEVENT
DTSTART;TZID=Australia/Melbourne:20260802T120000
DTEND;TZID=Australia/Melbourne:20260802T210000
DTSTAMP:20260423T050547
CREATED:20231214T000049Z
LAST-MODIFIED:20240912T225038Z
UID:10007591-1785672000-1785704400@www.mullumexservices.com.au
SUMMARY:Sunday Roast Special
DESCRIPTION:Join us at Mullum for our Sunday Roast Special! \nEnjoy a hearty Sunday roast starting from just $16*! \nAvailable every Sunday for lunch (12pm – 2pm) and dinner (from 5:30pm). \n$16 M | $18 NM \nBookings are recommended\, please call us on 02 6684 2533.
URL:https://www.mullumexservices.com.au/event/sunday-roast/2026-08-02/
LOCATION:Mullumbimby Ex-Services Club\, 58 Dalley Street\, Mullumbimby\, NSW\, 2482
CATEGORIES:All,Meal specials,Specials
ATTACH;FMTTYPE=image/jpeg:https://www.mullumexservices.com.au/wp-content/uploads/2023/12/Sunday-Roast-Header.jpg
END:VEVENT
BEGIN:VEVENT
DTSTART;TZID=Australia/Melbourne:20260809T120000
DTEND;TZID=Australia/Melbourne:20260809T210000
DTSTAMP:20260423T050547
CREATED:20231214T000049Z
LAST-MODIFIED:20240912T225038Z
UID:10007592-1786276800-1786309200@www.mullumexservices.com.au
SUMMARY:Sunday Roast Special
DESCRIPTION:Join us at Mullum for our Sunday Roast Special! \nEnjoy a hearty Sunday roast starting from just $16*! \nAvailable every Sunday for lunch (12pm – 2pm) and dinner (from 5:30pm). \n$16 M | $18 NM \nBookings are recommended\, please call us on 02 6684 2533.
URL:https://www.mullumexservices.com.au/event/sunday-roast/2026-08-09/
LOCATION:Mullumbimby Ex-Services Club\, 58 Dalley Street\, Mullumbimby\, NSW\, 2482
CATEGORIES:All,Meal specials,Specials
ATTACH;FMTTYPE=image/jpeg:https://www.mullumexservices.com.au/wp-content/uploads/2023/12/Sunday-Roast-Header.jpg
END:VEVENT
BEGIN:VEVENT
DTSTART;TZID=Australia/Melbourne:20260816T120000
DTEND;TZID=Australia/Melbourne:20260816T210000
DTSTAMP:20260423T050547
CREATED:20231214T000049Z
LAST-MODIFIED:20240912T225038Z
UID:10007593-1786881600-1786914000@www.mullumexservices.com.au
SUMMARY:Sunday Roast Special
DESCRIPTION:Join us at Mullum for our Sunday Roast Special! \nEnjoy a hearty Sunday roast starting from just $16*! \nAvailable every Sunday for lunch (12pm – 2pm) and dinner (from 5:30pm). \n$16 M | $18 NM \nBookings are recommended\, please call us on 02 6684 2533.
URL:https://www.mullumexservices.com.au/event/sunday-roast/2026-08-16/
LOCATION:Mullumbimby Ex-Services Club\, 58 Dalley Street\, Mullumbimby\, NSW\, 2482
CATEGORIES:All,Meal specials,Specials
ATTACH;FMTTYPE=image/jpeg:https://www.mullumexservices.com.au/wp-content/uploads/2023/12/Sunday-Roast-Header.jpg
END:VEVENT
BEGIN:VEVENT
DTSTART;TZID=Australia/Melbourne:20260823T120000
DTEND;TZID=Australia/Melbourne:20260823T210000
DTSTAMP:20260423T050547
CREATED:20231214T000049Z
LAST-MODIFIED:20240912T225038Z
UID:10007594-1787486400-1787518800@www.mullumexservices.com.au
SUMMARY:Sunday Roast Special
DESCRIPTION:Join us at Mullum for our Sunday Roast Special! \nEnjoy a hearty Sunday roast starting from just $16*! \nAvailable every Sunday for lunch (12pm – 2pm) and dinner (from 5:30pm). \n$16 M | $18 NM \nBookings are recommended\, please call us on 02 6684 2533.
URL:https://www.mullumexservices.com.au/event/sunday-roast/2026-08-23/
LOCATION:Mullumbimby Ex-Services Club\, 58 Dalley Street\, Mullumbimby\, NSW\, 2482
CATEGORIES:All,Meal specials,Specials
ATTACH;FMTTYPE=image/jpeg:https://www.mullumexservices.com.au/wp-content/uploads/2023/12/Sunday-Roast-Header.jpg
END:VEVENT
BEGIN:VEVENT
DTSTART;TZID=Australia/Melbourne:20260830T120000
DTEND;TZID=Australia/Melbourne:20260830T210000
DTSTAMP:20260423T050547
CREATED:20231214T000049Z
LAST-MODIFIED:20240912T225038Z
UID:10007595-1788091200-1788123600@www.mullumexservices.com.au
SUMMARY:Sunday Roast Special
DESCRIPTION:Join us at Mullum for our Sunday Roast Special! \nEnjoy a hearty Sunday roast starting from just $16*! \nAvailable every Sunday for lunch (12pm – 2pm) and dinner (from 5:30pm). \n$16 M | $18 NM \nBookings are recommended\, please call us on 02 6684 2533.
URL:https://www.mullumexservices.com.au/event/sunday-roast/2026-08-30/
LOCATION:Mullumbimby Ex-Services Club\, 58 Dalley Street\, Mullumbimby\, NSW\, 2482
CATEGORIES:All,Meal specials,Specials
ATTACH;FMTTYPE=image/jpeg:https://www.mullumexservices.com.au/wp-content/uploads/2023/12/Sunday-Roast-Header.jpg
END:VEVENT
BEGIN:VEVENT
DTSTART;TZID=Australia/Melbourne:20260906T120000
DTEND;TZID=Australia/Melbourne:20260906T210000
DTSTAMP:20260423T050547
CREATED:20231214T000049Z
LAST-MODIFIED:20240912T225038Z
UID:10007596-1788696000-1788728400@www.mullumexservices.com.au
SUMMARY:Sunday Roast Special
DESCRIPTION:Join us at Mullum for our Sunday Roast Special! \nEnjoy a hearty Sunday roast starting from just $16*! \nAvailable every Sunday for lunch (12pm – 2pm) and dinner (from 5:30pm). \n$16 M | $18 NM \nBookings are recommended\, please call us on 02 6684 2533.
URL:https://www.mullumexservices.com.au/event/sunday-roast/2026-09-06/
LOCATION:Mullumbimby Ex-Services Club\, 58 Dalley Street\, Mullumbimby\, NSW\, 2482
CATEGORIES:All,Meal specials,Specials
ATTACH;FMTTYPE=image/jpeg:https://www.mullumexservices.com.au/wp-content/uploads/2023/12/Sunday-Roast-Header.jpg
END:VEVENT
BEGIN:VEVENT
DTSTART;TZID=Australia/Melbourne:20260913T120000
DTEND;TZID=Australia/Melbourne:20260913T210000
DTSTAMP:20260423T050547
CREATED:20231214T000049Z
LAST-MODIFIED:20240912T225038Z
UID:10007597-1789300800-1789333200@www.mullumexservices.com.au
SUMMARY:Sunday Roast Special
DESCRIPTION:Join us at Mullum for our Sunday Roast Special! \nEnjoy a hearty Sunday roast starting from just $16*! \nAvailable every Sunday for lunch (12pm – 2pm) and dinner (from 5:30pm). \n$16 M | $18 NM \nBookings are recommended\, please call us on 02 6684 2533.
URL:https://www.mullumexservices.com.au/event/sunday-roast/2026-09-13/
LOCATION:Mullumbimby Ex-Services Club\, 58 Dalley Street\, Mullumbimby\, NSW\, 2482
CATEGORIES:All,Meal specials,Specials
ATTACH;FMTTYPE=image/jpeg:https://www.mullumexservices.com.au/wp-content/uploads/2023/12/Sunday-Roast-Header.jpg
END:VEVENT
BEGIN:VEVENT
DTSTART;TZID=Australia/Melbourne:20260920T120000
DTEND;TZID=Australia/Melbourne:20260920T210000
DTSTAMP:20260423T050547
CREATED:20231214T000049Z
LAST-MODIFIED:20240912T225038Z
UID:10007598-1789905600-1789938000@www.mullumexservices.com.au
SUMMARY:Sunday Roast Special
DESCRIPTION:Join us at Mullum for our Sunday Roast Special! \nEnjoy a hearty Sunday roast starting from just $16*! \nAvailable every Sunday for lunch (12pm – 2pm) and dinner (from 5:30pm). \n$16 M | $18 NM \nBookings are recommended\, please call us on 02 6684 2533.
URL:https://www.mullumexservices.com.au/event/sunday-roast/2026-09-20/
LOCATION:Mullumbimby Ex-Services Club\, 58 Dalley Street\, Mullumbimby\, NSW\, 2482
CATEGORIES:All,Meal specials,Specials
ATTACH;FMTTYPE=image/jpeg:https://www.mullumexservices.com.au/wp-content/uploads/2023/12/Sunday-Roast-Header.jpg
END:VEVENT
BEGIN:VEVENT
DTSTART;TZID=Australia/Melbourne:20260927T120000
DTEND;TZID=Australia/Melbourne:20260927T210000
DTSTAMP:20260423T050547
CREATED:20231214T000049Z
LAST-MODIFIED:20240912T225038Z
UID:10007599-1790510400-1790542800@www.mullumexservices.com.au
SUMMARY:Sunday Roast Special
DESCRIPTION:Join us at Mullum for our Sunday Roast Special! \nEnjoy a hearty Sunday roast starting from just $16*! \nAvailable every Sunday for lunch (12pm – 2pm) and dinner (from 5:30pm). \n$16 M | $18 NM \nBookings are recommended\, please call us on 02 6684 2533.
URL:https://www.mullumexservices.com.au/event/sunday-roast/2026-09-27/
LOCATION:Mullumbimby Ex-Services Club\, 58 Dalley Street\, Mullumbimby\, NSW\, 2482
CATEGORIES:All,Meal specials,Specials
ATTACH;FMTTYPE=image/jpeg:https://www.mullumexservices.com.au/wp-content/uploads/2023/12/Sunday-Roast-Header.jpg
END:VEVENT
BEGIN:VEVENT
DTSTART;TZID=Australia/Melbourne:20261004T120000
DTEND;TZID=Australia/Melbourne:20261004T210000
DTSTAMP:20260423T050547
CREATED:20231214T000049Z
LAST-MODIFIED:20240912T225038Z
UID:10007600-1791115200-1791147600@www.mullumexservices.com.au
SUMMARY:Sunday Roast Special
DESCRIPTION:Join us at Mullum for our Sunday Roast Special! \nEnjoy a hearty Sunday roast starting from just $16*! \nAvailable every Sunday for lunch (12pm – 2pm) and dinner (from 5:30pm). \n$16 M | $18 NM \nBookings are recommended\, please call us on 02 6684 2533.
URL:https://www.mullumexservices.com.au/event/sunday-roast/2026-10-04/
LOCATION:Mullumbimby Ex-Services Club\, 58 Dalley Street\, Mullumbimby\, NSW\, 2482
CATEGORIES:All,Meal specials,Specials
ATTACH;FMTTYPE=image/jpeg:https://www.mullumexservices.com.au/wp-content/uploads/2023/12/Sunday-Roast-Header.jpg
END:VEVENT
BEGIN:VEVENT
DTSTART;TZID=Australia/Melbourne:20261011T120000
DTEND;TZID=Australia/Melbourne:20261011T210000
DTSTAMP:20260423T050547
CREATED:20231214T000049Z
LAST-MODIFIED:20240912T225038Z
UID:10007601-1791720000-1791752400@www.mullumexservices.com.au
SUMMARY:Sunday Roast Special
DESCRIPTION:Join us at Mullum for our Sunday Roast Special! \nEnjoy a hearty Sunday roast starting from just $16*! \nAvailable every Sunday for lunch (12pm – 2pm) and dinner (from 5:30pm). \n$16 M | $18 NM \nBookings are recommended\, please call us on 02 6684 2533.
URL:https://www.mullumexservices.com.au/event/sunday-roast/2026-10-11/
LOCATION:Mullumbimby Ex-Services Club\, 58 Dalley Street\, Mullumbimby\, NSW\, 2482
CATEGORIES:All,Meal specials,Specials
ATTACH;FMTTYPE=image/jpeg:https://www.mullumexservices.com.au/wp-content/uploads/2023/12/Sunday-Roast-Header.jpg
END:VEVENT
BEGIN:VEVENT
DTSTART;TZID=Australia/Melbourne:20261018T120000
DTEND;TZID=Australia/Melbourne:20261018T210000
DTSTAMP:20260423T050547
CREATED:20231214T000049Z
LAST-MODIFIED:20240912T225038Z
UID:10007602-1792324800-1792357200@www.mullumexservices.com.au
SUMMARY:Sunday Roast Special
DESCRIPTION:Join us at Mullum for our Sunday Roast Special! \nEnjoy a hearty Sunday roast starting from just $16*! \nAvailable every Sunday for lunch (12pm – 2pm) and dinner (from 5:30pm). \n$16 M | $18 NM \nBookings are recommended\, please call us on 02 6684 2533.
URL:https://www.mullumexservices.com.au/event/sunday-roast/2026-10-18/
LOCATION:Mullumbimby Ex-Services Club\, 58 Dalley Street\, Mullumbimby\, NSW\, 2482
CATEGORIES:All,Meal specials,Specials
ATTACH;FMTTYPE=image/jpeg:https://www.mullumexservices.com.au/wp-content/uploads/2023/12/Sunday-Roast-Header.jpg
END:VEVENT
BEGIN:VEVENT
DTSTART;TZID=Australia/Melbourne:20261025T120000
DTEND;TZID=Australia/Melbourne:20261025T210000
DTSTAMP:20260423T050547
CREATED:20231214T000049Z
LAST-MODIFIED:20240912T225038Z
UID:10007603-1792929600-1792962000@www.mullumexservices.com.au
SUMMARY:Sunday Roast Special
DESCRIPTION:Join us at Mullum for our Sunday Roast Special! \nEnjoy a hearty Sunday roast starting from just $16*! \nAvailable every Sunday for lunch (12pm – 2pm) and dinner (from 5:30pm). \n$16 M | $18 NM \nBookings are recommended\, please call us on 02 6684 2533.
URL:https://www.mullumexservices.com.au/event/sunday-roast/2026-10-25/
LOCATION:Mullumbimby Ex-Services Club\, 58 Dalley Street\, Mullumbimby\, NSW\, 2482
CATEGORIES:All,Meal specials,Specials
ATTACH;FMTTYPE=image/jpeg:https://www.mullumexservices.com.au/wp-content/uploads/2023/12/Sunday-Roast-Header.jpg
END:VEVENT
BEGIN:VEVENT
DTSTART;TZID=Australia/Melbourne:20261101T120000
DTEND;TZID=Australia/Melbourne:20261101T210000
DTSTAMP:20260423T050547
CREATED:20231214T000049Z
LAST-MODIFIED:20240912T225038Z
UID:10007604-1793534400-1793566800@www.mullumexservices.com.au
SUMMARY:Sunday Roast Special
DESCRIPTION:Join us at Mullum for our Sunday Roast Special! \nEnjoy a hearty Sunday roast starting from just $16*! \nAvailable every Sunday for lunch (12pm – 2pm) and dinner (from 5:30pm). \n$16 M | $18 NM \nBookings are recommended\, please call us on 02 6684 2533.
URL:https://www.mullumexservices.com.au/event/sunday-roast/2026-11-01/
LOCATION:Mullumbimby Ex-Services Club\, 58 Dalley Street\, Mullumbimby\, NSW\, 2482
CATEGORIES:All,Meal specials,Specials
ATTACH;FMTTYPE=image/jpeg:https://www.mullumexservices.com.au/wp-content/uploads/2023/12/Sunday-Roast-Header.jpg
END:VEVENT
BEGIN:VEVENT
DTSTART;TZID=Australia/Melbourne:20261108T120000
DTEND;TZID=Australia/Melbourne:20261108T210000
DTSTAMP:20260423T050547
CREATED:20231214T000049Z
LAST-MODIFIED:20240912T225038Z
UID:10007605-1794139200-1794171600@www.mullumexservices.com.au
SUMMARY:Sunday Roast Special
DESCRIPTION:Join us at Mullum for our Sunday Roast Special! \nEnjoy a hearty Sunday roast starting from just $16*! \nAvailable every Sunday for lunch (12pm – 2pm) and dinner (from 5:30pm). \n$16 M | $18 NM \nBookings are recommended\, please call us on 02 6684 2533.
URL:https://www.mullumexservices.com.au/event/sunday-roast/2026-11-08/
LOCATION:Mullumbimby Ex-Services Club\, 58 Dalley Street\, Mullumbimby\, NSW\, 2482
CATEGORIES:All,Meal specials,Specials
ATTACH;FMTTYPE=image/jpeg:https://www.mullumexservices.com.au/wp-content/uploads/2023/12/Sunday-Roast-Header.jpg
END:VEVENT
BEGIN:VEVENT
DTSTART;TZID=Australia/Melbourne:20261115T120000
DTEND;TZID=Australia/Melbourne:20261115T210000
DTSTAMP:20260423T050547
CREATED:20231214T000049Z
LAST-MODIFIED:20240912T225038Z
UID:10007606-1794744000-1794776400@www.mullumexservices.com.au
SUMMARY:Sunday Roast Special
DESCRIPTION:Join us at Mullum for our Sunday Roast Special! \nEnjoy a hearty Sunday roast starting from just $16*! \nAvailable every Sunday for lunch (12pm – 2pm) and dinner (from 5:30pm). \n$16 M | $18 NM \nBookings are recommended\, please call us on 02 6684 2533.
URL:https://www.mullumexservices.com.au/event/sunday-roast/2026-11-15/
LOCATION:Mullumbimby Ex-Services Club\, 58 Dalley Street\, Mullumbimby\, NSW\, 2482
CATEGORIES:All,Meal specials,Specials
ATTACH;FMTTYPE=image/jpeg:https://www.mullumexservices.com.au/wp-content/uploads/2023/12/Sunday-Roast-Header.jpg
END:VEVENT
END:VCALENDAR