BEGIN:VCALENDAR
VERSION:2.0
PRODID:-//Mullumbimby Ex-Services Club - ECPv6.15.17.1//NONSGML v1.0//EN
CALSCALE:GREGORIAN
METHOD:PUBLISH
X-WR-CALNAME:Mullumbimby Ex-Services Club
X-ORIGINAL-URL:https://www.mullumexservices.com.au
X-WR-CALDESC:Events for Mullumbimby Ex-Services Club
REFRESH-INTERVAL;VALUE=DURATION:PT1H
X-Robots-Tag:noindex
X-PUBLISHED-TTL:PT1H
BEGIN:VTIMEZONE
TZID:Australia/Melbourne
BEGIN:STANDARD
TZOFFSETFROM:+1100
TZOFFSETTO:+1000
TZNAME:AEST
DTSTART:20260404T160000
END:STANDARD
BEGIN:DAYLIGHT
TZOFFSETFROM:+1000
TZOFFSETTO:+1100
TZNAME:AEDT
DTSTART:20261003T160000
END:DAYLIGHT
BEGIN:STANDARD
TZOFFSETFROM:+1100
TZOFFSETTO:+1000
TZNAME:AEST
DTSTART:20270403T160000
END:STANDARD
BEGIN:DAYLIGHT
TZOFFSETFROM:+1000
TZOFFSETTO:+1100
TZNAME:AEDT
DTSTART:20271002T160000
END:DAYLIGHT
BEGIN:STANDARD
TZOFFSETFROM:+1100
TZOFFSETTO:+1000
TZNAME:AEST
DTSTART:20280401T160000
END:STANDARD
BEGIN:DAYLIGHT
TZOFFSETFROM:+1000
TZOFFSETTO:+1100
TZNAME:AEDT
DTSTART:20280930T160000
END:DAYLIGHT
END:VTIMEZONE
BEGIN:VEVENT
DTSTART;TZID=Australia/Melbourne:20270824T110000
DTEND;TZID=Australia/Melbourne:20270824T140000
DTSTAMP:20260420T083817
CREATED:20230315T230710Z
LAST-MODIFIED:20251215T060641Z
UID:10003027-1819105200-1819116000@www.mullumexservices.com.au
SUMMARY:Bingo
DESCRIPTION:Dabble in a game of Bingo with friends at Mullum! \nJoin us for one (or all) of four sessions every week. Get settled with your coffee of choice from 10am\, ready for eyes down at 11am.
URL:https://www.mullumexservices.com.au/event/bingo/2027-08-24/
LOCATION:Mullumbimby Ex-Services Club\, 58 Dalley Street\, Mullumbimby\, NSW\, 2482
CATEGORIES:All,Weekly Activities
ATTACH;FMTTYPE=image/jpeg:https://www.mullumexservices.com.au/wp-content/uploads/2023/03/Whats-On_Sub-Pages.jpg
END:VEVENT
BEGIN:VEVENT
DTSTART;TZID=Australia/Melbourne:20270825T110000
DTEND;TZID=Australia/Melbourne:20270825T140000
DTSTAMP:20260420T083817
CREATED:20230315T230710Z
LAST-MODIFIED:20251215T060641Z
UID:10003028-1819191600-1819202400@www.mullumexservices.com.au
SUMMARY:Bingo
DESCRIPTION:Dabble in a game of Bingo with friends at Mullum! \nJoin us for one (or all) of four sessions every week. Get settled with your coffee of choice from 10am\, ready for eyes down at 11am.
URL:https://www.mullumexservices.com.au/event/bingo/2027-08-25/
LOCATION:Mullumbimby Ex-Services Club\, 58 Dalley Street\, Mullumbimby\, NSW\, 2482
CATEGORIES:All,Weekly Activities
ATTACH;FMTTYPE=image/jpeg:https://www.mullumexservices.com.au/wp-content/uploads/2023/03/Whats-On_Sub-Pages.jpg
END:VEVENT
BEGIN:VEVENT
DTSTART;TZID=Australia/Melbourne:20270825T180000
DTEND;TZID=Australia/Melbourne:20270825T190000
DTSTAMP:20260420T083817
CREATED:20251017T013016Z
LAST-MODIFIED:20260311T234558Z
UID:10003377-1819216800-1819220400@www.mullumexservices.com.au
SUMMARY:Wednesday Raffles
DESCRIPTION:Join us for a night of great prize-winning fun! With Meat Trays and Gift Cards to be won every Wednesday night\, you won’t want to miss this weekly event! \nBe sure to come in and grab a feed and a drink before the draws begin! \nTickets are on sale every Wednesday from 6pm\, with draws starting at 7pm. \nWe have a number of meat trays and gift vouchers up for grabs
URL:https://www.mullumexservices.com.au/event/wednesday-raffles-2/2027-08-25/
LOCATION:Mullumbimby Ex-Services Club\, 58 Dalley Street\, Mullumbimby\, NSW\, 2482
CATEGORIES:All,Events,Promotions,Weekly Activities
ATTACH;FMTTYPE=image/png:https://www.mullumexservices.com.au/wp-content/uploads/2025/10/MULLUM-WEEKLY-RAFFLES-WEB-EVENT-1920x1080px.png
END:VEVENT
BEGIN:VEVENT
DTSTART;TZID=Australia/Melbourne:20270826T110000
DTEND;TZID=Australia/Melbourne:20270826T140000
DTSTAMP:20260420T083817
CREATED:20230315T230710Z
LAST-MODIFIED:20251215T060641Z
UID:10003029-1819278000-1819288800@www.mullumexservices.com.au
SUMMARY:Bingo
DESCRIPTION:Dabble in a game of Bingo with friends at Mullum! \nJoin us for one (or all) of four sessions every week. Get settled with your coffee of choice from 10am\, ready for eyes down at 11am.
URL:https://www.mullumexservices.com.au/event/bingo/2027-08-26/
LOCATION:Mullumbimby Ex-Services Club\, 58 Dalley Street\, Mullumbimby\, NSW\, 2482
CATEGORIES:All,Weekly Activities
ATTACH;FMTTYPE=image/jpeg:https://www.mullumexservices.com.au/wp-content/uploads/2023/03/Whats-On_Sub-Pages.jpg
END:VEVENT
BEGIN:VEVENT
DTSTART;TZID=Australia/Melbourne:20270827T110000
DTEND;TZID=Australia/Melbourne:20270827T140000
DTSTAMP:20260420T083817
CREATED:20230315T230710Z
LAST-MODIFIED:20251215T060641Z
UID:10003030-1819364400-1819375200@www.mullumexservices.com.au
SUMMARY:Bingo
DESCRIPTION:Dabble in a game of Bingo with friends at Mullum! \nJoin us for one (or all) of four sessions every week. Get settled with your coffee of choice from 10am\, ready for eyes down at 11am.
URL:https://www.mullumexservices.com.au/event/bingo/2027-08-27/
LOCATION:Mullumbimby Ex-Services Club\, 58 Dalley Street\, Mullumbimby\, NSW\, 2482
CATEGORIES:All,Weekly Activities
ATTACH;FMTTYPE=image/jpeg:https://www.mullumexservices.com.au/wp-content/uploads/2023/03/Whats-On_Sub-Pages.jpg
END:VEVENT
BEGIN:VEVENT
DTSTART;TZID=Australia/Melbourne:20270827T170000
DTEND;TZID=Australia/Melbourne:20270827T180000
DTSTAMP:20260420T083817
CREATED:20240229T000823Z
LAST-MODIFIED:20260311T234708Z
UID:10011573-1819386000-1819389600@www.mullumexservices.com.au
SUMMARY:Friday Roast Raffles
DESCRIPTION:Join us for a night of great prize-winning fun! With Roast Trays to be won every Friday night\, you won’t want to miss this weekly event! \nTickets are on sale every Friday from 5pm\, with draws starting once all 100 tickets are sold. \n$5 for 1 Ticket\n$10 for 3 Tickets\n$20 for 6 Tickets \nMake sure to stick around for our regular Friday Raffles straight after!
URL:https://www.mullumexservices.com.au/event/friday-first-100-raffles-2/2027-08-27/
LOCATION:Mullumbimby Ex-Services Club\, 58 Dalley Street\, Mullumbimby\, NSW\, 2482
CATEGORIES:All,Promotions,Weekly Activities
ATTACH;FMTTYPE=image/png:https://www.mullumexservices.com.au/wp-content/uploads/2025/10/MULLUM-WEEKLY-RAFFLES-WEB-EVENT-1920x1080px.png
END:VEVENT
BEGIN:VEVENT
DTSTART;TZID=Australia/Melbourne:20270831T110000
DTEND;TZID=Australia/Melbourne:20270831T140000
DTSTAMP:20260420T083817
CREATED:20230315T230710Z
LAST-MODIFIED:20251215T060641Z
UID:10003031-1819710000-1819720800@www.mullumexservices.com.au
SUMMARY:Bingo
DESCRIPTION:Dabble in a game of Bingo with friends at Mullum! \nJoin us for one (or all) of four sessions every week. Get settled with your coffee of choice from 10am\, ready for eyes down at 11am.
URL:https://www.mullumexservices.com.au/event/bingo/2027-08-31/
LOCATION:Mullumbimby Ex-Services Club\, 58 Dalley Street\, Mullumbimby\, NSW\, 2482
CATEGORIES:All,Weekly Activities
ATTACH;FMTTYPE=image/jpeg:https://www.mullumexservices.com.au/wp-content/uploads/2023/03/Whats-On_Sub-Pages.jpg
END:VEVENT
BEGIN:VEVENT
DTSTART;TZID=Australia/Melbourne:20270901T110000
DTEND;TZID=Australia/Melbourne:20270901T140000
DTSTAMP:20260420T083817
CREATED:20230315T230710Z
LAST-MODIFIED:20251215T060641Z
UID:10003032-1819796400-1819807200@www.mullumexservices.com.au
SUMMARY:Bingo
DESCRIPTION:Dabble in a game of Bingo with friends at Mullum! \nJoin us for one (or all) of four sessions every week. Get settled with your coffee of choice from 10am\, ready for eyes down at 11am.
URL:https://www.mullumexservices.com.au/event/bingo/2027-09-01/
LOCATION:Mullumbimby Ex-Services Club\, 58 Dalley Street\, Mullumbimby\, NSW\, 2482
CATEGORIES:All,Weekly Activities
ATTACH;FMTTYPE=image/jpeg:https://www.mullumexservices.com.au/wp-content/uploads/2023/03/Whats-On_Sub-Pages.jpg
END:VEVENT
BEGIN:VEVENT
DTSTART;TZID=Australia/Melbourne:20270901T180000
DTEND;TZID=Australia/Melbourne:20270901T190000
DTSTAMP:20260420T083817
CREATED:20251017T013016Z
LAST-MODIFIED:20260311T234558Z
UID:10003378-1819821600-1819825200@www.mullumexservices.com.au
SUMMARY:Wednesday Raffles
DESCRIPTION:Join us for a night of great prize-winning fun! With Meat Trays and Gift Cards to be won every Wednesday night\, you won’t want to miss this weekly event! \nBe sure to come in and grab a feed and a drink before the draws begin! \nTickets are on sale every Wednesday from 6pm\, with draws starting at 7pm. \nWe have a number of meat trays and gift vouchers up for grabs
URL:https://www.mullumexservices.com.au/event/wednesday-raffles-2/2027-09-01/
LOCATION:Mullumbimby Ex-Services Club\, 58 Dalley Street\, Mullumbimby\, NSW\, 2482
CATEGORIES:All,Events,Promotions,Weekly Activities
ATTACH;FMTTYPE=image/png:https://www.mullumexservices.com.au/wp-content/uploads/2025/10/MULLUM-WEEKLY-RAFFLES-WEB-EVENT-1920x1080px.png
END:VEVENT
BEGIN:VEVENT
DTSTART;TZID=Australia/Melbourne:20270902T110000
DTEND;TZID=Australia/Melbourne:20270902T140000
DTSTAMP:20260420T083817
CREATED:20230315T230710Z
LAST-MODIFIED:20251215T060641Z
UID:10003033-1819882800-1819893600@www.mullumexservices.com.au
SUMMARY:Bingo
DESCRIPTION:Dabble in a game of Bingo with friends at Mullum! \nJoin us for one (or all) of four sessions every week. Get settled with your coffee of choice from 10am\, ready for eyes down at 11am.
URL:https://www.mullumexservices.com.au/event/bingo/2027-09-02/
LOCATION:Mullumbimby Ex-Services Club\, 58 Dalley Street\, Mullumbimby\, NSW\, 2482
CATEGORIES:All,Weekly Activities
ATTACH;FMTTYPE=image/jpeg:https://www.mullumexservices.com.au/wp-content/uploads/2023/03/Whats-On_Sub-Pages.jpg
END:VEVENT
BEGIN:VEVENT
DTSTART;TZID=Australia/Melbourne:20270903T110000
DTEND;TZID=Australia/Melbourne:20270903T140000
DTSTAMP:20260420T083817
CREATED:20230315T230710Z
LAST-MODIFIED:20251215T060641Z
UID:10003034-1819969200-1819980000@www.mullumexservices.com.au
SUMMARY:Bingo
DESCRIPTION:Dabble in a game of Bingo with friends at Mullum! \nJoin us for one (or all) of four sessions every week. Get settled with your coffee of choice from 10am\, ready for eyes down at 11am.
URL:https://www.mullumexservices.com.au/event/bingo/2027-09-03/
LOCATION:Mullumbimby Ex-Services Club\, 58 Dalley Street\, Mullumbimby\, NSW\, 2482
CATEGORIES:All,Weekly Activities
ATTACH;FMTTYPE=image/jpeg:https://www.mullumexservices.com.au/wp-content/uploads/2023/03/Whats-On_Sub-Pages.jpg
END:VEVENT
BEGIN:VEVENT
DTSTART;TZID=Australia/Melbourne:20270903T170000
DTEND;TZID=Australia/Melbourne:20270903T180000
DTSTAMP:20260420T083817
CREATED:20240229T000823Z
LAST-MODIFIED:20260311T234708Z
UID:10011574-1819990800-1819994400@www.mullumexservices.com.au
SUMMARY:Friday Roast Raffles
DESCRIPTION:Join us for a night of great prize-winning fun! With Roast Trays to be won every Friday night\, you won’t want to miss this weekly event! \nTickets are on sale every Friday from 5pm\, with draws starting once all 100 tickets are sold. \n$5 for 1 Ticket\n$10 for 3 Tickets\n$20 for 6 Tickets \nMake sure to stick around for our regular Friday Raffles straight after!
URL:https://www.mullumexservices.com.au/event/friday-first-100-raffles-2/2027-09-03/
LOCATION:Mullumbimby Ex-Services Club\, 58 Dalley Street\, Mullumbimby\, NSW\, 2482
CATEGORIES:All,Promotions,Weekly Activities
ATTACH;FMTTYPE=image/png:https://www.mullumexservices.com.au/wp-content/uploads/2025/10/MULLUM-WEEKLY-RAFFLES-WEB-EVENT-1920x1080px.png
END:VEVENT
BEGIN:VEVENT
DTSTART;TZID=Australia/Melbourne:20270907T110000
DTEND;TZID=Australia/Melbourne:20270907T140000
DTSTAMP:20260420T083817
CREATED:20230315T230710Z
LAST-MODIFIED:20251215T060641Z
UID:10003035-1820314800-1820325600@www.mullumexservices.com.au
SUMMARY:Bingo
DESCRIPTION:Dabble in a game of Bingo with friends at Mullum! \nJoin us for one (or all) of four sessions every week. Get settled with your coffee of choice from 10am\, ready for eyes down at 11am.
URL:https://www.mullumexservices.com.au/event/bingo/2027-09-07/
LOCATION:Mullumbimby Ex-Services Club\, 58 Dalley Street\, Mullumbimby\, NSW\, 2482
CATEGORIES:All,Weekly Activities
ATTACH;FMTTYPE=image/jpeg:https://www.mullumexservices.com.au/wp-content/uploads/2023/03/Whats-On_Sub-Pages.jpg
END:VEVENT
BEGIN:VEVENT
DTSTART;TZID=Australia/Melbourne:20270908T110000
DTEND;TZID=Australia/Melbourne:20270908T140000
DTSTAMP:20260420T083817
CREATED:20230315T230710Z
LAST-MODIFIED:20251215T060641Z
UID:10003036-1820401200-1820412000@www.mullumexservices.com.au
SUMMARY:Bingo
DESCRIPTION:Dabble in a game of Bingo with friends at Mullum! \nJoin us for one (or all) of four sessions every week. Get settled with your coffee of choice from 10am\, ready for eyes down at 11am.
URL:https://www.mullumexservices.com.au/event/bingo/2027-09-08/
LOCATION:Mullumbimby Ex-Services Club\, 58 Dalley Street\, Mullumbimby\, NSW\, 2482
CATEGORIES:All,Weekly Activities
ATTACH;FMTTYPE=image/jpeg:https://www.mullumexservices.com.au/wp-content/uploads/2023/03/Whats-On_Sub-Pages.jpg
END:VEVENT
BEGIN:VEVENT
DTSTART;TZID=Australia/Melbourne:20270908T180000
DTEND;TZID=Australia/Melbourne:20270908T190000
DTSTAMP:20260420T083817
CREATED:20251017T013016Z
LAST-MODIFIED:20260311T234558Z
UID:10003379-1820426400-1820430000@www.mullumexservices.com.au
SUMMARY:Wednesday Raffles
DESCRIPTION:Join us for a night of great prize-winning fun! With Meat Trays and Gift Cards to be won every Wednesday night\, you won’t want to miss this weekly event! \nBe sure to come in and grab a feed and a drink before the draws begin! \nTickets are on sale every Wednesday from 6pm\, with draws starting at 7pm. \nWe have a number of meat trays and gift vouchers up for grabs
URL:https://www.mullumexservices.com.au/event/wednesday-raffles-2/2027-09-08/
LOCATION:Mullumbimby Ex-Services Club\, 58 Dalley Street\, Mullumbimby\, NSW\, 2482
CATEGORIES:All,Events,Promotions,Weekly Activities
ATTACH;FMTTYPE=image/png:https://www.mullumexservices.com.au/wp-content/uploads/2025/10/MULLUM-WEEKLY-RAFFLES-WEB-EVENT-1920x1080px.png
END:VEVENT
BEGIN:VEVENT
DTSTART;TZID=Australia/Melbourne:20270909T110000
DTEND;TZID=Australia/Melbourne:20270909T140000
DTSTAMP:20260420T083817
CREATED:20230315T230710Z
LAST-MODIFIED:20251215T060641Z
UID:10003037-1820487600-1820498400@www.mullumexservices.com.au
SUMMARY:Bingo
DESCRIPTION:Dabble in a game of Bingo with friends at Mullum! \nJoin us for one (or all) of four sessions every week. Get settled with your coffee of choice from 10am\, ready for eyes down at 11am.
URL:https://www.mullumexservices.com.au/event/bingo/2027-09-09/
LOCATION:Mullumbimby Ex-Services Club\, 58 Dalley Street\, Mullumbimby\, NSW\, 2482
CATEGORIES:All,Weekly Activities
ATTACH;FMTTYPE=image/jpeg:https://www.mullumexservices.com.au/wp-content/uploads/2023/03/Whats-On_Sub-Pages.jpg
END:VEVENT
BEGIN:VEVENT
DTSTART;TZID=Australia/Melbourne:20270910T110000
DTEND;TZID=Australia/Melbourne:20270910T140000
DTSTAMP:20260420T083817
CREATED:20230315T230710Z
LAST-MODIFIED:20251215T060641Z
UID:10003038-1820574000-1820584800@www.mullumexservices.com.au
SUMMARY:Bingo
DESCRIPTION:Dabble in a game of Bingo with friends at Mullum! \nJoin us for one (or all) of four sessions every week. Get settled with your coffee of choice from 10am\, ready for eyes down at 11am.
URL:https://www.mullumexservices.com.au/event/bingo/2027-09-10/
LOCATION:Mullumbimby Ex-Services Club\, 58 Dalley Street\, Mullumbimby\, NSW\, 2482
CATEGORIES:All,Weekly Activities
ATTACH;FMTTYPE=image/jpeg:https://www.mullumexservices.com.au/wp-content/uploads/2023/03/Whats-On_Sub-Pages.jpg
END:VEVENT
BEGIN:VEVENT
DTSTART;TZID=Australia/Melbourne:20270910T170000
DTEND;TZID=Australia/Melbourne:20270910T180000
DTSTAMP:20260420T083817
CREATED:20240229T000823Z
LAST-MODIFIED:20260311T234708Z
UID:10011575-1820595600-1820599200@www.mullumexservices.com.au
SUMMARY:Friday Roast Raffles
DESCRIPTION:Join us for a night of great prize-winning fun! With Roast Trays to be won every Friday night\, you won’t want to miss this weekly event! \nTickets are on sale every Friday from 5pm\, with draws starting once all 100 tickets are sold. \n$5 for 1 Ticket\n$10 for 3 Tickets\n$20 for 6 Tickets \nMake sure to stick around for our regular Friday Raffles straight after!
URL:https://www.mullumexservices.com.au/event/friday-first-100-raffles-2/2027-09-10/
LOCATION:Mullumbimby Ex-Services Club\, 58 Dalley Street\, Mullumbimby\, NSW\, 2482
CATEGORIES:All,Promotions,Weekly Activities
ATTACH;FMTTYPE=image/png:https://www.mullumexservices.com.au/wp-content/uploads/2025/10/MULLUM-WEEKLY-RAFFLES-WEB-EVENT-1920x1080px.png
END:VEVENT
BEGIN:VEVENT
DTSTART;TZID=Australia/Melbourne:20270914T110000
DTEND;TZID=Australia/Melbourne:20270914T140000
DTSTAMP:20260420T083817
CREATED:20230315T230710Z
LAST-MODIFIED:20251215T060641Z
UID:10003039-1820919600-1820930400@www.mullumexservices.com.au
SUMMARY:Bingo
DESCRIPTION:Dabble in a game of Bingo with friends at Mullum! \nJoin us for one (or all) of four sessions every week. Get settled with your coffee of choice from 10am\, ready for eyes down at 11am.
URL:https://www.mullumexservices.com.au/event/bingo/2027-09-14/
LOCATION:Mullumbimby Ex-Services Club\, 58 Dalley Street\, Mullumbimby\, NSW\, 2482
CATEGORIES:All,Weekly Activities
ATTACH;FMTTYPE=image/jpeg:https://www.mullumexservices.com.au/wp-content/uploads/2023/03/Whats-On_Sub-Pages.jpg
END:VEVENT
BEGIN:VEVENT
DTSTART;TZID=Australia/Melbourne:20270915T110000
DTEND;TZID=Australia/Melbourne:20270915T140000
DTSTAMP:20260420T083817
CREATED:20230315T230710Z
LAST-MODIFIED:20251215T060641Z
UID:10003040-1821006000-1821016800@www.mullumexservices.com.au
SUMMARY:Bingo
DESCRIPTION:Dabble in a game of Bingo with friends at Mullum! \nJoin us for one (or all) of four sessions every week. Get settled with your coffee of choice from 10am\, ready for eyes down at 11am.
URL:https://www.mullumexservices.com.au/event/bingo/2027-09-15/
LOCATION:Mullumbimby Ex-Services Club\, 58 Dalley Street\, Mullumbimby\, NSW\, 2482
CATEGORIES:All,Weekly Activities
ATTACH;FMTTYPE=image/jpeg:https://www.mullumexservices.com.au/wp-content/uploads/2023/03/Whats-On_Sub-Pages.jpg
END:VEVENT
BEGIN:VEVENT
DTSTART;TZID=Australia/Melbourne:20270915T180000
DTEND;TZID=Australia/Melbourne:20270915T190000
DTSTAMP:20260420T083817
CREATED:20251017T013016Z
LAST-MODIFIED:20260311T234558Z
UID:10003380-1821031200-1821034800@www.mullumexservices.com.au
SUMMARY:Wednesday Raffles
DESCRIPTION:Join us for a night of great prize-winning fun! With Meat Trays and Gift Cards to be won every Wednesday night\, you won’t want to miss this weekly event! \nBe sure to come in and grab a feed and a drink before the draws begin! \nTickets are on sale every Wednesday from 6pm\, with draws starting at 7pm. \nWe have a number of meat trays and gift vouchers up for grabs
URL:https://www.mullumexservices.com.au/event/wednesday-raffles-2/2027-09-15/
LOCATION:Mullumbimby Ex-Services Club\, 58 Dalley Street\, Mullumbimby\, NSW\, 2482
CATEGORIES:All,Events,Promotions,Weekly Activities
ATTACH;FMTTYPE=image/png:https://www.mullumexservices.com.au/wp-content/uploads/2025/10/MULLUM-WEEKLY-RAFFLES-WEB-EVENT-1920x1080px.png
END:VEVENT
BEGIN:VEVENT
DTSTART;TZID=Australia/Melbourne:20270916T110000
DTEND;TZID=Australia/Melbourne:20270916T140000
DTSTAMP:20260420T083817
CREATED:20230315T230710Z
LAST-MODIFIED:20251215T060641Z
UID:10003041-1821092400-1821103200@www.mullumexservices.com.au
SUMMARY:Bingo
DESCRIPTION:Dabble in a game of Bingo with friends at Mullum! \nJoin us for one (or all) of four sessions every week. Get settled with your coffee of choice from 10am\, ready for eyes down at 11am.
URL:https://www.mullumexservices.com.au/event/bingo/2027-09-16/
LOCATION:Mullumbimby Ex-Services Club\, 58 Dalley Street\, Mullumbimby\, NSW\, 2482
CATEGORIES:All,Weekly Activities
ATTACH;FMTTYPE=image/jpeg:https://www.mullumexservices.com.au/wp-content/uploads/2023/03/Whats-On_Sub-Pages.jpg
END:VEVENT
BEGIN:VEVENT
DTSTART;TZID=Australia/Melbourne:20270917T110000
DTEND;TZID=Australia/Melbourne:20270917T140000
DTSTAMP:20260420T083817
CREATED:20230315T230710Z
LAST-MODIFIED:20251215T060641Z
UID:10003042-1821178800-1821189600@www.mullumexservices.com.au
SUMMARY:Bingo
DESCRIPTION:Dabble in a game of Bingo with friends at Mullum! \nJoin us for one (or all) of four sessions every week. Get settled with your coffee of choice from 10am\, ready for eyes down at 11am.
URL:https://www.mullumexservices.com.au/event/bingo/2027-09-17/
LOCATION:Mullumbimby Ex-Services Club\, 58 Dalley Street\, Mullumbimby\, NSW\, 2482
CATEGORIES:All,Weekly Activities
ATTACH;FMTTYPE=image/jpeg:https://www.mullumexservices.com.au/wp-content/uploads/2023/03/Whats-On_Sub-Pages.jpg
END:VEVENT
BEGIN:VEVENT
DTSTART;TZID=Australia/Melbourne:20270917T170000
DTEND;TZID=Australia/Melbourne:20270917T180000
DTSTAMP:20260420T083817
CREATED:20240229T000823Z
LAST-MODIFIED:20260311T234708Z
UID:10011576-1821200400-1821204000@www.mullumexservices.com.au
SUMMARY:Friday Roast Raffles
DESCRIPTION:Join us for a night of great prize-winning fun! With Roast Trays to be won every Friday night\, you won’t want to miss this weekly event! \nTickets are on sale every Friday from 5pm\, with draws starting once all 100 tickets are sold. \n$5 for 1 Ticket\n$10 for 3 Tickets\n$20 for 6 Tickets \nMake sure to stick around for our regular Friday Raffles straight after!
URL:https://www.mullumexservices.com.au/event/friday-first-100-raffles-2/2027-09-17/
LOCATION:Mullumbimby Ex-Services Club\, 58 Dalley Street\, Mullumbimby\, NSW\, 2482
CATEGORIES:All,Promotions,Weekly Activities
ATTACH;FMTTYPE=image/png:https://www.mullumexservices.com.au/wp-content/uploads/2025/10/MULLUM-WEEKLY-RAFFLES-WEB-EVENT-1920x1080px.png
END:VEVENT
BEGIN:VEVENT
DTSTART;TZID=Australia/Melbourne:20270921T110000
DTEND;TZID=Australia/Melbourne:20270921T140000
DTSTAMP:20260420T083817
CREATED:20230315T230710Z
LAST-MODIFIED:20251215T060641Z
UID:10003043-1821524400-1821535200@www.mullumexservices.com.au
SUMMARY:Bingo
DESCRIPTION:Dabble in a game of Bingo with friends at Mullum! \nJoin us for one (or all) of four sessions every week. Get settled with your coffee of choice from 10am\, ready for eyes down at 11am.
URL:https://www.mullumexservices.com.au/event/bingo/2027-09-21/
LOCATION:Mullumbimby Ex-Services Club\, 58 Dalley Street\, Mullumbimby\, NSW\, 2482
CATEGORIES:All,Weekly Activities
ATTACH;FMTTYPE=image/jpeg:https://www.mullumexservices.com.au/wp-content/uploads/2023/03/Whats-On_Sub-Pages.jpg
END:VEVENT
BEGIN:VEVENT
DTSTART;TZID=Australia/Melbourne:20270922T110000
DTEND;TZID=Australia/Melbourne:20270922T140000
DTSTAMP:20260420T083817
CREATED:20230315T230710Z
LAST-MODIFIED:20251215T060641Z
UID:10003044-1821610800-1821621600@www.mullumexservices.com.au
SUMMARY:Bingo
DESCRIPTION:Dabble in a game of Bingo with friends at Mullum! \nJoin us for one (or all) of four sessions every week. Get settled with your coffee of choice from 10am\, ready for eyes down at 11am.
URL:https://www.mullumexservices.com.au/event/bingo/2027-09-22/
LOCATION:Mullumbimby Ex-Services Club\, 58 Dalley Street\, Mullumbimby\, NSW\, 2482
CATEGORIES:All,Weekly Activities
ATTACH;FMTTYPE=image/jpeg:https://www.mullumexservices.com.au/wp-content/uploads/2023/03/Whats-On_Sub-Pages.jpg
END:VEVENT
BEGIN:VEVENT
DTSTART;TZID=Australia/Melbourne:20270922T180000
DTEND;TZID=Australia/Melbourne:20270922T190000
DTSTAMP:20260420T083817
CREATED:20251017T013016Z
LAST-MODIFIED:20260311T234558Z
UID:10003381-1821636000-1821639600@www.mullumexservices.com.au
SUMMARY:Wednesday Raffles
DESCRIPTION:Join us for a night of great prize-winning fun! With Meat Trays and Gift Cards to be won every Wednesday night\, you won’t want to miss this weekly event! \nBe sure to come in and grab a feed and a drink before the draws begin! \nTickets are on sale every Wednesday from 6pm\, with draws starting at 7pm. \nWe have a number of meat trays and gift vouchers up for grabs
URL:https://www.mullumexservices.com.au/event/wednesday-raffles-2/2027-09-22/
LOCATION:Mullumbimby Ex-Services Club\, 58 Dalley Street\, Mullumbimby\, NSW\, 2482
CATEGORIES:All,Events,Promotions,Weekly Activities
ATTACH;FMTTYPE=image/png:https://www.mullumexservices.com.au/wp-content/uploads/2025/10/MULLUM-WEEKLY-RAFFLES-WEB-EVENT-1920x1080px.png
END:VEVENT
BEGIN:VEVENT
DTSTART;TZID=Australia/Melbourne:20270923T110000
DTEND;TZID=Australia/Melbourne:20270923T140000
DTSTAMP:20260420T083817
CREATED:20230315T230710Z
LAST-MODIFIED:20251215T060641Z
UID:10003045-1821697200-1821708000@www.mullumexservices.com.au
SUMMARY:Bingo
DESCRIPTION:Dabble in a game of Bingo with friends at Mullum! \nJoin us for one (or all) of four sessions every week. Get settled with your coffee of choice from 10am\, ready for eyes down at 11am.
URL:https://www.mullumexservices.com.au/event/bingo/2027-09-23/
LOCATION:Mullumbimby Ex-Services Club\, 58 Dalley Street\, Mullumbimby\, NSW\, 2482
CATEGORIES:All,Weekly Activities
ATTACH;FMTTYPE=image/jpeg:https://www.mullumexservices.com.au/wp-content/uploads/2023/03/Whats-On_Sub-Pages.jpg
END:VEVENT
BEGIN:VEVENT
DTSTART;TZID=Australia/Melbourne:20270924T110000
DTEND;TZID=Australia/Melbourne:20270924T140000
DTSTAMP:20260420T083817
CREATED:20230315T230710Z
LAST-MODIFIED:20251215T060641Z
UID:10003046-1821783600-1821794400@www.mullumexservices.com.au
SUMMARY:Bingo
DESCRIPTION:Dabble in a game of Bingo with friends at Mullum! \nJoin us for one (or all) of four sessions every week. Get settled with your coffee of choice from 10am\, ready for eyes down at 11am.
URL:https://www.mullumexservices.com.au/event/bingo/2027-09-24/
LOCATION:Mullumbimby Ex-Services Club\, 58 Dalley Street\, Mullumbimby\, NSW\, 2482
CATEGORIES:All,Weekly Activities
ATTACH;FMTTYPE=image/jpeg:https://www.mullumexservices.com.au/wp-content/uploads/2023/03/Whats-On_Sub-Pages.jpg
END:VEVENT
BEGIN:VEVENT
DTSTART;TZID=Australia/Melbourne:20270924T170000
DTEND;TZID=Australia/Melbourne:20270924T180000
DTSTAMP:20260420T083817
CREATED:20240229T000823Z
LAST-MODIFIED:20260311T234708Z
UID:10011577-1821805200-1821808800@www.mullumexservices.com.au
SUMMARY:Friday Roast Raffles
DESCRIPTION:Join us for a night of great prize-winning fun! With Roast Trays to be won every Friday night\, you won’t want to miss this weekly event! \nTickets are on sale every Friday from 5pm\, with draws starting once all 100 tickets are sold. \n$5 for 1 Ticket\n$10 for 3 Tickets\n$20 for 6 Tickets \nMake sure to stick around for our regular Friday Raffles straight after!
URL:https://www.mullumexservices.com.au/event/friday-first-100-raffles-2/2027-09-24/
LOCATION:Mullumbimby Ex-Services Club\, 58 Dalley Street\, Mullumbimby\, NSW\, 2482
CATEGORIES:All,Promotions,Weekly Activities
ATTACH;FMTTYPE=image/png:https://www.mullumexservices.com.au/wp-content/uploads/2025/10/MULLUM-WEEKLY-RAFFLES-WEB-EVENT-1920x1080px.png
END:VEVENT
END:VCALENDAR