BEGIN:VCALENDAR
VERSION:2.0
PRODID:-//Mullumbimby Ex-Services Club - ECPv6.15.17.1//NONSGML v1.0//EN
CALSCALE:GREGORIAN
METHOD:PUBLISH
X-WR-CALNAME:Mullumbimby Ex-Services Club
X-ORIGINAL-URL:https://www.mullumexservices.com.au
X-WR-CALDESC:Events for Mullumbimby Ex-Services Club
REFRESH-INTERVAL;VALUE=DURATION:PT1H
X-Robots-Tag:noindex
X-PUBLISHED-TTL:PT1H
BEGIN:VTIMEZONE
TZID:Australia/Melbourne
BEGIN:STANDARD
TZOFFSETFROM:+1100
TZOFFSETTO:+1000
TZNAME:AEST
DTSTART:20260404T160000
END:STANDARD
BEGIN:DAYLIGHT
TZOFFSETFROM:+1000
TZOFFSETTO:+1100
TZNAME:AEDT
DTSTART:20261003T160000
END:DAYLIGHT
BEGIN:STANDARD
TZOFFSETFROM:+1100
TZOFFSETTO:+1000
TZNAME:AEST
DTSTART:20270403T160000
END:STANDARD
BEGIN:DAYLIGHT
TZOFFSETFROM:+1000
TZOFFSETTO:+1100
TZNAME:AEDT
DTSTART:20271002T160000
END:DAYLIGHT
BEGIN:STANDARD
TZOFFSETFROM:+1100
TZOFFSETTO:+1000
TZNAME:AEST
DTSTART:20280401T160000
END:STANDARD
BEGIN:DAYLIGHT
TZOFFSETFROM:+1000
TZOFFSETTO:+1100
TZNAME:AEDT
DTSTART:20280930T160000
END:DAYLIGHT
BEGIN:STANDARD
TZOFFSETFROM:+1100
TZOFFSETTO:+1000
TZNAME:AEST
DTSTART:20290331T160000
END:STANDARD
BEGIN:DAYLIGHT
TZOFFSETFROM:+1000
TZOFFSETTO:+1100
TZNAME:AEDT
DTSTART:20291006T160000
END:DAYLIGHT
END:VTIMEZONE
BEGIN:VEVENT
DTSTART;TZID=Australia/Melbourne:20271214T110000
DTEND;TZID=Australia/Melbourne:20271214T140000
DTSTAMP:20260422T161153
CREATED:20230315T230710Z
LAST-MODIFIED:20251215T060641Z
UID:10003091-1828782000-1828792800@www.mullumexservices.com.au
SUMMARY:Bingo
DESCRIPTION:Dabble in a game of Bingo with friends at Mullum! \nJoin us for one (or all) of four sessions every week. Get settled with your coffee of choice from 10am\, ready for eyes down at 11am.
URL:https://www.mullumexservices.com.au/event/bingo/2027-12-14/
LOCATION:Mullumbimby Ex-Services Club\, 58 Dalley Street\, Mullumbimby\, NSW\, 2482
CATEGORIES:All,Weekly Activities
ATTACH;FMTTYPE=image/jpeg:https://www.mullumexservices.com.au/wp-content/uploads/2023/03/Whats-On_Sub-Pages.jpg
END:VEVENT
BEGIN:VEVENT
DTSTART;TZID=Australia/Melbourne:20271215T110000
DTEND;TZID=Australia/Melbourne:20271215T140000
DTSTAMP:20260422T161153
CREATED:20230315T230710Z
LAST-MODIFIED:20251215T060641Z
UID:10003092-1828868400-1828879200@www.mullumexservices.com.au
SUMMARY:Bingo
DESCRIPTION:Dabble in a game of Bingo with friends at Mullum! \nJoin us for one (or all) of four sessions every week. Get settled with your coffee of choice from 10am\, ready for eyes down at 11am.
URL:https://www.mullumexservices.com.au/event/bingo/2027-12-15/
LOCATION:Mullumbimby Ex-Services Club\, 58 Dalley Street\, Mullumbimby\, NSW\, 2482
CATEGORIES:All,Weekly Activities
ATTACH;FMTTYPE=image/jpeg:https://www.mullumexservices.com.au/wp-content/uploads/2023/03/Whats-On_Sub-Pages.jpg
END:VEVENT
BEGIN:VEVENT
DTSTART;TZID=Australia/Melbourne:20271215T180000
DTEND;TZID=Australia/Melbourne:20271215T190000
DTSTAMP:20260422T161153
CREATED:20251017T013016Z
LAST-MODIFIED:20260311T234558Z
UID:10003393-1828893600-1828897200@www.mullumexservices.com.au
SUMMARY:Wednesday Raffles
DESCRIPTION:Join us for a night of great prize-winning fun! With Meat Trays and Gift Cards to be won every Wednesday night\, you won’t want to miss this weekly event! \nBe sure to come in and grab a feed and a drink before the draws begin! \nTickets are on sale every Wednesday from 6pm\, with draws starting at 7pm. \nWe have a number of meat trays and gift vouchers up for grabs
URL:https://www.mullumexservices.com.au/event/wednesday-raffles-2/2027-12-15/
LOCATION:Mullumbimby Ex-Services Club\, 58 Dalley Street\, Mullumbimby\, NSW\, 2482
CATEGORIES:All,Events,Promotions,Weekly Activities
ATTACH;FMTTYPE=image/png:https://www.mullumexservices.com.au/wp-content/uploads/2025/10/MULLUM-WEEKLY-RAFFLES-WEB-EVENT-1920x1080px.png
END:VEVENT
BEGIN:VEVENT
DTSTART;TZID=Australia/Melbourne:20271216T110000
DTEND;TZID=Australia/Melbourne:20271216T140000
DTSTAMP:20260422T161153
CREATED:20230315T230710Z
LAST-MODIFIED:20251215T060641Z
UID:10003093-1828954800-1828965600@www.mullumexservices.com.au
SUMMARY:Bingo
DESCRIPTION:Dabble in a game of Bingo with friends at Mullum! \nJoin us for one (or all) of four sessions every week. Get settled with your coffee of choice from 10am\, ready for eyes down at 11am.
URL:https://www.mullumexservices.com.au/event/bingo/2027-12-16/
LOCATION:Mullumbimby Ex-Services Club\, 58 Dalley Street\, Mullumbimby\, NSW\, 2482
CATEGORIES:All,Weekly Activities
ATTACH;FMTTYPE=image/jpeg:https://www.mullumexservices.com.au/wp-content/uploads/2023/03/Whats-On_Sub-Pages.jpg
END:VEVENT
BEGIN:VEVENT
DTSTART;TZID=Australia/Melbourne:20271217T110000
DTEND;TZID=Australia/Melbourne:20271217T140000
DTSTAMP:20260422T161153
CREATED:20230315T230710Z
LAST-MODIFIED:20251215T060641Z
UID:10003094-1829041200-1829052000@www.mullumexservices.com.au
SUMMARY:Bingo
DESCRIPTION:Dabble in a game of Bingo with friends at Mullum! \nJoin us for one (or all) of four sessions every week. Get settled with your coffee of choice from 10am\, ready for eyes down at 11am.
URL:https://www.mullumexservices.com.au/event/bingo/2027-12-17/
LOCATION:Mullumbimby Ex-Services Club\, 58 Dalley Street\, Mullumbimby\, NSW\, 2482
CATEGORIES:All,Weekly Activities
ATTACH;FMTTYPE=image/jpeg:https://www.mullumexservices.com.au/wp-content/uploads/2023/03/Whats-On_Sub-Pages.jpg
END:VEVENT
BEGIN:VEVENT
DTSTART;TZID=Australia/Melbourne:20271217T170000
DTEND;TZID=Australia/Melbourne:20271217T180000
DTSTAMP:20260422T161153
CREATED:20240229T000823Z
LAST-MODIFIED:20260311T234708Z
UID:10011589-1829062800-1829066400@www.mullumexservices.com.au
SUMMARY:Friday Roast Raffles
DESCRIPTION:Join us for a night of great prize-winning fun! With Roast Trays to be won every Friday night\, you won’t want to miss this weekly event! \nTickets are on sale every Friday from 5pm\, with draws starting once all 100 tickets are sold. \n$5 for 1 Ticket\n$10 for 3 Tickets\n$20 for 6 Tickets \nMake sure to stick around for our regular Friday Raffles straight after!
URL:https://www.mullumexservices.com.au/event/friday-first-100-raffles-2/2027-12-17/
LOCATION:Mullumbimby Ex-Services Club\, 58 Dalley Street\, Mullumbimby\, NSW\, 2482
CATEGORIES:All,Promotions,Weekly Activities
ATTACH;FMTTYPE=image/png:https://www.mullumexservices.com.au/wp-content/uploads/2025/10/MULLUM-WEEKLY-RAFFLES-WEB-EVENT-1920x1080px.png
END:VEVENT
BEGIN:VEVENT
DTSTART;TZID=Australia/Melbourne:20271221T110000
DTEND;TZID=Australia/Melbourne:20271221T140000
DTSTAMP:20260422T161153
CREATED:20230315T230710Z
LAST-MODIFIED:20251215T060641Z
UID:10003095-1829386800-1829397600@www.mullumexservices.com.au
SUMMARY:Bingo
DESCRIPTION:Dabble in a game of Bingo with friends at Mullum! \nJoin us for one (or all) of four sessions every week. Get settled with your coffee of choice from 10am\, ready for eyes down at 11am.
URL:https://www.mullumexservices.com.au/event/bingo/2027-12-21/
LOCATION:Mullumbimby Ex-Services Club\, 58 Dalley Street\, Mullumbimby\, NSW\, 2482
CATEGORIES:All,Weekly Activities
ATTACH;FMTTYPE=image/jpeg:https://www.mullumexservices.com.au/wp-content/uploads/2023/03/Whats-On_Sub-Pages.jpg
END:VEVENT
BEGIN:VEVENT
DTSTART;TZID=Australia/Melbourne:20271222T110000
DTEND;TZID=Australia/Melbourne:20271222T140000
DTSTAMP:20260422T161153
CREATED:20230315T230710Z
LAST-MODIFIED:20251215T060641Z
UID:10003096-1829473200-1829484000@www.mullumexservices.com.au
SUMMARY:Bingo
DESCRIPTION:Dabble in a game of Bingo with friends at Mullum! \nJoin us for one (or all) of four sessions every week. Get settled with your coffee of choice from 10am\, ready for eyes down at 11am.
URL:https://www.mullumexservices.com.au/event/bingo/2027-12-22/
LOCATION:Mullumbimby Ex-Services Club\, 58 Dalley Street\, Mullumbimby\, NSW\, 2482
CATEGORIES:All,Weekly Activities
ATTACH;FMTTYPE=image/jpeg:https://www.mullumexservices.com.au/wp-content/uploads/2023/03/Whats-On_Sub-Pages.jpg
END:VEVENT
BEGIN:VEVENT
DTSTART;TZID=Australia/Melbourne:20271222T180000
DTEND;TZID=Australia/Melbourne:20271222T190000
DTSTAMP:20260422T161153
CREATED:20251017T013016Z
LAST-MODIFIED:20260311T234558Z
UID:10003394-1829498400-1829502000@www.mullumexservices.com.au
SUMMARY:Wednesday Raffles
DESCRIPTION:Join us for a night of great prize-winning fun! With Meat Trays and Gift Cards to be won every Wednesday night\, you won’t want to miss this weekly event! \nBe sure to come in and grab a feed and a drink before the draws begin! \nTickets are on sale every Wednesday from 6pm\, with draws starting at 7pm. \nWe have a number of meat trays and gift vouchers up for grabs
URL:https://www.mullumexservices.com.au/event/wednesday-raffles-2/2027-12-22/
LOCATION:Mullumbimby Ex-Services Club\, 58 Dalley Street\, Mullumbimby\, NSW\, 2482
CATEGORIES:All,Events,Promotions,Weekly Activities
ATTACH;FMTTYPE=image/png:https://www.mullumexservices.com.au/wp-content/uploads/2025/10/MULLUM-WEEKLY-RAFFLES-WEB-EVENT-1920x1080px.png
END:VEVENT
BEGIN:VEVENT
DTSTART;TZID=Australia/Melbourne:20271223T110000
DTEND;TZID=Australia/Melbourne:20271223T140000
DTSTAMP:20260422T161153
CREATED:20230315T230710Z
LAST-MODIFIED:20251215T060641Z
UID:10003097-1829559600-1829570400@www.mullumexservices.com.au
SUMMARY:Bingo
DESCRIPTION:Dabble in a game of Bingo with friends at Mullum! \nJoin us for one (or all) of four sessions every week. Get settled with your coffee of choice from 10am\, ready for eyes down at 11am.
URL:https://www.mullumexservices.com.au/event/bingo/2027-12-23/
LOCATION:Mullumbimby Ex-Services Club\, 58 Dalley Street\, Mullumbimby\, NSW\, 2482
CATEGORIES:All,Weekly Activities
ATTACH;FMTTYPE=image/jpeg:https://www.mullumexservices.com.au/wp-content/uploads/2023/03/Whats-On_Sub-Pages.jpg
END:VEVENT
BEGIN:VEVENT
DTSTART;TZID=Australia/Melbourne:20271224T110000
DTEND;TZID=Australia/Melbourne:20271224T140000
DTSTAMP:20260422T161153
CREATED:20230315T230710Z
LAST-MODIFIED:20251215T060641Z
UID:10003098-1829646000-1829656800@www.mullumexservices.com.au
SUMMARY:Bingo
DESCRIPTION:Dabble in a game of Bingo with friends at Mullum! \nJoin us for one (or all) of four sessions every week. Get settled with your coffee of choice from 10am\, ready for eyes down at 11am.
URL:https://www.mullumexservices.com.au/event/bingo/2027-12-24/
LOCATION:Mullumbimby Ex-Services Club\, 58 Dalley Street\, Mullumbimby\, NSW\, 2482
CATEGORIES:All,Weekly Activities
ATTACH;FMTTYPE=image/jpeg:https://www.mullumexservices.com.au/wp-content/uploads/2023/03/Whats-On_Sub-Pages.jpg
END:VEVENT
BEGIN:VEVENT
DTSTART;TZID=Australia/Melbourne:20271224T170000
DTEND;TZID=Australia/Melbourne:20271224T180000
DTSTAMP:20260422T161153
CREATED:20240229T000823Z
LAST-MODIFIED:20260311T234708Z
UID:10011590-1829667600-1829671200@www.mullumexservices.com.au
SUMMARY:Friday Roast Raffles
DESCRIPTION:Join us for a night of great prize-winning fun! With Roast Trays to be won every Friday night\, you won’t want to miss this weekly event! \nTickets are on sale every Friday from 5pm\, with draws starting once all 100 tickets are sold. \n$5 for 1 Ticket\n$10 for 3 Tickets\n$20 for 6 Tickets \nMake sure to stick around for our regular Friday Raffles straight after!
URL:https://www.mullumexservices.com.au/event/friday-first-100-raffles-2/2027-12-24/
LOCATION:Mullumbimby Ex-Services Club\, 58 Dalley Street\, Mullumbimby\, NSW\, 2482
CATEGORIES:All,Promotions,Weekly Activities
ATTACH;FMTTYPE=image/png:https://www.mullumexservices.com.au/wp-content/uploads/2025/10/MULLUM-WEEKLY-RAFFLES-WEB-EVENT-1920x1080px.png
END:VEVENT
BEGIN:VEVENT
DTSTART;TZID=Australia/Melbourne:20271228T110000
DTEND;TZID=Australia/Melbourne:20271228T140000
DTSTAMP:20260422T161153
CREATED:20230315T230710Z
LAST-MODIFIED:20251215T060641Z
UID:10003099-1829991600-1830002400@www.mullumexservices.com.au
SUMMARY:Bingo
DESCRIPTION:Dabble in a game of Bingo with friends at Mullum! \nJoin us for one (or all) of four sessions every week. Get settled with your coffee of choice from 10am\, ready for eyes down at 11am.
URL:https://www.mullumexservices.com.au/event/bingo/2027-12-28/
LOCATION:Mullumbimby Ex-Services Club\, 58 Dalley Street\, Mullumbimby\, NSW\, 2482
CATEGORIES:All,Weekly Activities
ATTACH;FMTTYPE=image/jpeg:https://www.mullumexservices.com.au/wp-content/uploads/2023/03/Whats-On_Sub-Pages.jpg
END:VEVENT
BEGIN:VEVENT
DTSTART;TZID=Australia/Melbourne:20271229T110000
DTEND;TZID=Australia/Melbourne:20271229T140000
DTSTAMP:20260422T161153
CREATED:20230315T230710Z
LAST-MODIFIED:20251215T060641Z
UID:10003100-1830078000-1830088800@www.mullumexservices.com.au
SUMMARY:Bingo
DESCRIPTION:Dabble in a game of Bingo with friends at Mullum! \nJoin us for one (or all) of four sessions every week. Get settled with your coffee of choice from 10am\, ready for eyes down at 11am.
URL:https://www.mullumexservices.com.au/event/bingo/2027-12-29/
LOCATION:Mullumbimby Ex-Services Club\, 58 Dalley Street\, Mullumbimby\, NSW\, 2482
CATEGORIES:All,Weekly Activities
ATTACH;FMTTYPE=image/jpeg:https://www.mullumexservices.com.au/wp-content/uploads/2023/03/Whats-On_Sub-Pages.jpg
END:VEVENT
BEGIN:VEVENT
DTSTART;TZID=Australia/Melbourne:20271229T180000
DTEND;TZID=Australia/Melbourne:20271229T190000
DTSTAMP:20260422T161153
CREATED:20251017T013016Z
LAST-MODIFIED:20260311T234558Z
UID:10003395-1830103200-1830106800@www.mullumexservices.com.au
SUMMARY:Wednesday Raffles
DESCRIPTION:Join us for a night of great prize-winning fun! With Meat Trays and Gift Cards to be won every Wednesday night\, you won’t want to miss this weekly event! \nBe sure to come in and grab a feed and a drink before the draws begin! \nTickets are on sale every Wednesday from 6pm\, with draws starting at 7pm. \nWe have a number of meat trays and gift vouchers up for grabs
URL:https://www.mullumexservices.com.au/event/wednesday-raffles-2/2027-12-29/
LOCATION:Mullumbimby Ex-Services Club\, 58 Dalley Street\, Mullumbimby\, NSW\, 2482
CATEGORIES:All,Events,Promotions,Weekly Activities
ATTACH;FMTTYPE=image/png:https://www.mullumexservices.com.au/wp-content/uploads/2025/10/MULLUM-WEEKLY-RAFFLES-WEB-EVENT-1920x1080px.png
END:VEVENT
BEGIN:VEVENT
DTSTART;TZID=Australia/Melbourne:20271230T110000
DTEND;TZID=Australia/Melbourne:20271230T140000
DTSTAMP:20260422T161153
CREATED:20230315T230710Z
LAST-MODIFIED:20251215T060641Z
UID:10003101-1830164400-1830175200@www.mullumexservices.com.au
SUMMARY:Bingo
DESCRIPTION:Dabble in a game of Bingo with friends at Mullum! \nJoin us for one (or all) of four sessions every week. Get settled with your coffee of choice from 10am\, ready for eyes down at 11am.
URL:https://www.mullumexservices.com.au/event/bingo/2027-12-30/
LOCATION:Mullumbimby Ex-Services Club\, 58 Dalley Street\, Mullumbimby\, NSW\, 2482
CATEGORIES:All,Weekly Activities
ATTACH;FMTTYPE=image/jpeg:https://www.mullumexservices.com.au/wp-content/uploads/2023/03/Whats-On_Sub-Pages.jpg
END:VEVENT
BEGIN:VEVENT
DTSTART;TZID=Australia/Melbourne:20271231T110000
DTEND;TZID=Australia/Melbourne:20271231T140000
DTSTAMP:20260422T161153
CREATED:20230315T230710Z
LAST-MODIFIED:20251215T060641Z
UID:10003102-1830250800-1830261600@www.mullumexservices.com.au
SUMMARY:Bingo
DESCRIPTION:Dabble in a game of Bingo with friends at Mullum! \nJoin us for one (or all) of four sessions every week. Get settled with your coffee of choice from 10am\, ready for eyes down at 11am.
URL:https://www.mullumexservices.com.au/event/bingo/2027-12-31/
LOCATION:Mullumbimby Ex-Services Club\, 58 Dalley Street\, Mullumbimby\, NSW\, 2482
CATEGORIES:All,Weekly Activities
ATTACH;FMTTYPE=image/jpeg:https://www.mullumexservices.com.au/wp-content/uploads/2023/03/Whats-On_Sub-Pages.jpg
END:VEVENT
BEGIN:VEVENT
DTSTART;TZID=Australia/Melbourne:20271231T170000
DTEND;TZID=Australia/Melbourne:20271231T180000
DTSTAMP:20260422T161153
CREATED:20240229T000823Z
LAST-MODIFIED:20260311T234708Z
UID:10011591-1830272400-1830276000@www.mullumexservices.com.au
SUMMARY:Friday Roast Raffles
DESCRIPTION:Join us for a night of great prize-winning fun! With Roast Trays to be won every Friday night\, you won’t want to miss this weekly event! \nTickets are on sale every Friday from 5pm\, with draws starting once all 100 tickets are sold. \n$5 for 1 Ticket\n$10 for 3 Tickets\n$20 for 6 Tickets \nMake sure to stick around for our regular Friday Raffles straight after!
URL:https://www.mullumexservices.com.au/event/friday-first-100-raffles-2/2027-12-31/
LOCATION:Mullumbimby Ex-Services Club\, 58 Dalley Street\, Mullumbimby\, NSW\, 2482
CATEGORIES:All,Promotions,Weekly Activities
ATTACH;FMTTYPE=image/png:https://www.mullumexservices.com.au/wp-content/uploads/2025/10/MULLUM-WEEKLY-RAFFLES-WEB-EVENT-1920x1080px.png
END:VEVENT
BEGIN:VEVENT
DTSTART;TZID=Australia/Melbourne:20280104T110000
DTEND;TZID=Australia/Melbourne:20280104T140000
DTSTAMP:20260422T161153
CREATED:20230315T230710Z
LAST-MODIFIED:20251215T060641Z
UID:10003103-1830596400-1830607200@www.mullumexservices.com.au
SUMMARY:Bingo
DESCRIPTION:Dabble in a game of Bingo with friends at Mullum! \nJoin us for one (or all) of four sessions every week. Get settled with your coffee of choice from 10am\, ready for eyes down at 11am.
URL:https://www.mullumexservices.com.au/event/bingo/2028-01-04/
LOCATION:Mullumbimby Ex-Services Club\, 58 Dalley Street\, Mullumbimby\, NSW\, 2482
CATEGORIES:All,Weekly Activities
ATTACH;FMTTYPE=image/jpeg:https://www.mullumexservices.com.au/wp-content/uploads/2023/03/Whats-On_Sub-Pages.jpg
END:VEVENT
BEGIN:VEVENT
DTSTART;TZID=Australia/Melbourne:20280105T110000
DTEND;TZID=Australia/Melbourne:20280105T140000
DTSTAMP:20260422T161153
CREATED:20230315T230710Z
LAST-MODIFIED:20251215T060641Z
UID:10003104-1830682800-1830693600@www.mullumexservices.com.au
SUMMARY:Bingo
DESCRIPTION:Dabble in a game of Bingo with friends at Mullum! \nJoin us for one (or all) of four sessions every week. Get settled with your coffee of choice from 10am\, ready for eyes down at 11am.
URL:https://www.mullumexservices.com.au/event/bingo/2028-01-05/
LOCATION:Mullumbimby Ex-Services Club\, 58 Dalley Street\, Mullumbimby\, NSW\, 2482
CATEGORIES:All,Weekly Activities
ATTACH;FMTTYPE=image/jpeg:https://www.mullumexservices.com.au/wp-content/uploads/2023/03/Whats-On_Sub-Pages.jpg
END:VEVENT
BEGIN:VEVENT
DTSTART;TZID=Australia/Melbourne:20280105T180000
DTEND;TZID=Australia/Melbourne:20280105T190000
DTSTAMP:20260422T161153
CREATED:20251017T013016Z
LAST-MODIFIED:20260311T234558Z
UID:10003396-1830708000-1830711600@www.mullumexservices.com.au
SUMMARY:Wednesday Raffles
DESCRIPTION:Join us for a night of great prize-winning fun! With Meat Trays and Gift Cards to be won every Wednesday night\, you won’t want to miss this weekly event! \nBe sure to come in and grab a feed and a drink before the draws begin! \nTickets are on sale every Wednesday from 6pm\, with draws starting at 7pm. \nWe have a number of meat trays and gift vouchers up for grabs
URL:https://www.mullumexservices.com.au/event/wednesday-raffles-2/2028-01-05/
LOCATION:Mullumbimby Ex-Services Club\, 58 Dalley Street\, Mullumbimby\, NSW\, 2482
CATEGORIES:All,Events,Promotions,Weekly Activities
ATTACH;FMTTYPE=image/png:https://www.mullumexservices.com.au/wp-content/uploads/2025/10/MULLUM-WEEKLY-RAFFLES-WEB-EVENT-1920x1080px.png
END:VEVENT
BEGIN:VEVENT
DTSTART;TZID=Australia/Melbourne:20280106T110000
DTEND;TZID=Australia/Melbourne:20280106T140000
DTSTAMP:20260422T161153
CREATED:20230315T230710Z
LAST-MODIFIED:20251215T060641Z
UID:10003105-1830769200-1830780000@www.mullumexservices.com.au
SUMMARY:Bingo
DESCRIPTION:Dabble in a game of Bingo with friends at Mullum! \nJoin us for one (or all) of four sessions every week. Get settled with your coffee of choice from 10am\, ready for eyes down at 11am.
URL:https://www.mullumexservices.com.au/event/bingo/2028-01-06/
LOCATION:Mullumbimby Ex-Services Club\, 58 Dalley Street\, Mullumbimby\, NSW\, 2482
CATEGORIES:All,Weekly Activities
ATTACH;FMTTYPE=image/jpeg:https://www.mullumexservices.com.au/wp-content/uploads/2023/03/Whats-On_Sub-Pages.jpg
END:VEVENT
BEGIN:VEVENT
DTSTART;TZID=Australia/Melbourne:20280107T110000
DTEND;TZID=Australia/Melbourne:20280107T140000
DTSTAMP:20260422T161153
CREATED:20230315T230710Z
LAST-MODIFIED:20251215T060641Z
UID:10003106-1830855600-1830866400@www.mullumexservices.com.au
SUMMARY:Bingo
DESCRIPTION:Dabble in a game of Bingo with friends at Mullum! \nJoin us for one (or all) of four sessions every week. Get settled with your coffee of choice from 10am\, ready for eyes down at 11am.
URL:https://www.mullumexservices.com.au/event/bingo/2028-01-07/
LOCATION:Mullumbimby Ex-Services Club\, 58 Dalley Street\, Mullumbimby\, NSW\, 2482
CATEGORIES:All,Weekly Activities
ATTACH;FMTTYPE=image/jpeg:https://www.mullumexservices.com.au/wp-content/uploads/2023/03/Whats-On_Sub-Pages.jpg
END:VEVENT
BEGIN:VEVENT
DTSTART;TZID=Australia/Melbourne:20280107T170000
DTEND;TZID=Australia/Melbourne:20280107T180000
DTSTAMP:20260422T161153
CREATED:20240229T000823Z
LAST-MODIFIED:20260311T234708Z
UID:10011592-1830877200-1830880800@www.mullumexservices.com.au
SUMMARY:Friday Roast Raffles
DESCRIPTION:Join us for a night of great prize-winning fun! With Roast Trays to be won every Friday night\, you won’t want to miss this weekly event! \nTickets are on sale every Friday from 5pm\, with draws starting once all 100 tickets are sold. \n$5 for 1 Ticket\n$10 for 3 Tickets\n$20 for 6 Tickets \nMake sure to stick around for our regular Friday Raffles straight after!
URL:https://www.mullumexservices.com.au/event/friday-first-100-raffles-2/2028-01-07/
LOCATION:Mullumbimby Ex-Services Club\, 58 Dalley Street\, Mullumbimby\, NSW\, 2482
CATEGORIES:All,Promotions,Weekly Activities
ATTACH;FMTTYPE=image/png:https://www.mullumexservices.com.au/wp-content/uploads/2025/10/MULLUM-WEEKLY-RAFFLES-WEB-EVENT-1920x1080px.png
END:VEVENT
BEGIN:VEVENT
DTSTART;TZID=Australia/Melbourne:20280111T110000
DTEND;TZID=Australia/Melbourne:20280111T140000
DTSTAMP:20260422T161153
CREATED:20230315T230710Z
LAST-MODIFIED:20251215T060641Z
UID:10003107-1831201200-1831212000@www.mullumexservices.com.au
SUMMARY:Bingo
DESCRIPTION:Dabble in a game of Bingo with friends at Mullum! \nJoin us for one (or all) of four sessions every week. Get settled with your coffee of choice from 10am\, ready for eyes down at 11am.
URL:https://www.mullumexservices.com.au/event/bingo/2028-01-11/
LOCATION:Mullumbimby Ex-Services Club\, 58 Dalley Street\, Mullumbimby\, NSW\, 2482
CATEGORIES:All,Weekly Activities
ATTACH;FMTTYPE=image/jpeg:https://www.mullumexservices.com.au/wp-content/uploads/2023/03/Whats-On_Sub-Pages.jpg
END:VEVENT
BEGIN:VEVENT
DTSTART;TZID=Australia/Melbourne:20280112T110000
DTEND;TZID=Australia/Melbourne:20280112T140000
DTSTAMP:20260422T161153
CREATED:20230315T230710Z
LAST-MODIFIED:20251215T060641Z
UID:10003108-1831287600-1831298400@www.mullumexservices.com.au
SUMMARY:Bingo
DESCRIPTION:Dabble in a game of Bingo with friends at Mullum! \nJoin us for one (or all) of four sessions every week. Get settled with your coffee of choice from 10am\, ready for eyes down at 11am.
URL:https://www.mullumexservices.com.au/event/bingo/2028-01-12/
LOCATION:Mullumbimby Ex-Services Club\, 58 Dalley Street\, Mullumbimby\, NSW\, 2482
CATEGORIES:All,Weekly Activities
ATTACH;FMTTYPE=image/jpeg:https://www.mullumexservices.com.au/wp-content/uploads/2023/03/Whats-On_Sub-Pages.jpg
END:VEVENT
BEGIN:VEVENT
DTSTART;TZID=Australia/Melbourne:20280112T180000
DTEND;TZID=Australia/Melbourne:20280112T190000
DTSTAMP:20260422T161153
CREATED:20251017T013016Z
LAST-MODIFIED:20260311T234558Z
UID:10003397-1831312800-1831316400@www.mullumexservices.com.au
SUMMARY:Wednesday Raffles
DESCRIPTION:Join us for a night of great prize-winning fun! With Meat Trays and Gift Cards to be won every Wednesday night\, you won’t want to miss this weekly event! \nBe sure to come in and grab a feed and a drink before the draws begin! \nTickets are on sale every Wednesday from 6pm\, with draws starting at 7pm. \nWe have a number of meat trays and gift vouchers up for grabs
URL:https://www.mullumexservices.com.au/event/wednesday-raffles-2/2028-01-12/
LOCATION:Mullumbimby Ex-Services Club\, 58 Dalley Street\, Mullumbimby\, NSW\, 2482
CATEGORIES:All,Events,Promotions,Weekly Activities
ATTACH;FMTTYPE=image/png:https://www.mullumexservices.com.au/wp-content/uploads/2025/10/MULLUM-WEEKLY-RAFFLES-WEB-EVENT-1920x1080px.png
END:VEVENT
BEGIN:VEVENT
DTSTART;TZID=Australia/Melbourne:20280113T110000
DTEND;TZID=Australia/Melbourne:20280113T140000
DTSTAMP:20260422T161153
CREATED:20230315T230710Z
LAST-MODIFIED:20251215T060641Z
UID:10003109-1831374000-1831384800@www.mullumexservices.com.au
SUMMARY:Bingo
DESCRIPTION:Dabble in a game of Bingo with friends at Mullum! \nJoin us for one (or all) of four sessions every week. Get settled with your coffee of choice from 10am\, ready for eyes down at 11am.
URL:https://www.mullumexservices.com.au/event/bingo/2028-01-13/
LOCATION:Mullumbimby Ex-Services Club\, 58 Dalley Street\, Mullumbimby\, NSW\, 2482
CATEGORIES:All,Weekly Activities
ATTACH;FMTTYPE=image/jpeg:https://www.mullumexservices.com.au/wp-content/uploads/2023/03/Whats-On_Sub-Pages.jpg
END:VEVENT
BEGIN:VEVENT
DTSTART;TZID=Australia/Melbourne:20280114T110000
DTEND;TZID=Australia/Melbourne:20280114T140000
DTSTAMP:20260422T161153
CREATED:20230315T230710Z
LAST-MODIFIED:20251215T060641Z
UID:10003110-1831460400-1831471200@www.mullumexservices.com.au
SUMMARY:Bingo
DESCRIPTION:Dabble in a game of Bingo with friends at Mullum! \nJoin us for one (or all) of four sessions every week. Get settled with your coffee of choice from 10am\, ready for eyes down at 11am.
URL:https://www.mullumexservices.com.au/event/bingo/2028-01-14/
LOCATION:Mullumbimby Ex-Services Club\, 58 Dalley Street\, Mullumbimby\, NSW\, 2482
CATEGORIES:All,Weekly Activities
ATTACH;FMTTYPE=image/jpeg:https://www.mullumexservices.com.au/wp-content/uploads/2023/03/Whats-On_Sub-Pages.jpg
END:VEVENT
BEGIN:VEVENT
DTSTART;TZID=Australia/Melbourne:20280114T170000
DTEND;TZID=Australia/Melbourne:20280114T180000
DTSTAMP:20260422T161153
CREATED:20240229T000823Z
LAST-MODIFIED:20260311T234708Z
UID:10011593-1831482000-1831485600@www.mullumexservices.com.au
SUMMARY:Friday Roast Raffles
DESCRIPTION:Join us for a night of great prize-winning fun! With Roast Trays to be won every Friday night\, you won’t want to miss this weekly event! \nTickets are on sale every Friday from 5pm\, with draws starting once all 100 tickets are sold. \n$5 for 1 Ticket\n$10 for 3 Tickets\n$20 for 6 Tickets \nMake sure to stick around for our regular Friday Raffles straight after!
URL:https://www.mullumexservices.com.au/event/friday-first-100-raffles-2/2028-01-14/
LOCATION:Mullumbimby Ex-Services Club\, 58 Dalley Street\, Mullumbimby\, NSW\, 2482
CATEGORIES:All,Promotions,Weekly Activities
ATTACH;FMTTYPE=image/png:https://www.mullumexservices.com.au/wp-content/uploads/2025/10/MULLUM-WEEKLY-RAFFLES-WEB-EVENT-1920x1080px.png
END:VEVENT
END:VCALENDAR