BEGIN:VCALENDAR
VERSION:2.0
PRODID:-//Mullumbimby Ex-Services Club - ECPv6.15.17.1//NONSGML v1.0//EN
CALSCALE:GREGORIAN
METHOD:PUBLISH
X-WR-CALNAME:Mullumbimby Ex-Services Club
X-ORIGINAL-URL:https://www.mullumexservices.com.au
X-WR-CALDESC:Events for Mullumbimby Ex-Services Club
REFRESH-INTERVAL;VALUE=DURATION:PT1H
X-Robots-Tag:noindex
X-PUBLISHED-TTL:PT1H
BEGIN:VTIMEZONE
TZID:Australia/Melbourne
BEGIN:STANDARD
TZOFFSETFROM:+1100
TZOFFSETTO:+1000
TZNAME:AEST
DTSTART:20260404T160000
END:STANDARD
BEGIN:DAYLIGHT
TZOFFSETFROM:+1000
TZOFFSETTO:+1100
TZNAME:AEDT
DTSTART:20261003T160000
END:DAYLIGHT
BEGIN:STANDARD
TZOFFSETFROM:+1100
TZOFFSETTO:+1000
TZNAME:AEST
DTSTART:20270403T160000
END:STANDARD
BEGIN:DAYLIGHT
TZOFFSETFROM:+1000
TZOFFSETTO:+1100
TZNAME:AEDT
DTSTART:20271002T160000
END:DAYLIGHT
BEGIN:STANDARD
TZOFFSETFROM:+1100
TZOFFSETTO:+1000
TZNAME:AEST
DTSTART:20280401T160000
END:STANDARD
BEGIN:DAYLIGHT
TZOFFSETFROM:+1000
TZOFFSETTO:+1100
TZNAME:AEDT
DTSTART:20280930T160000
END:DAYLIGHT
END:VTIMEZONE
BEGIN:VEVENT
DTSTART;TZID=Australia/Melbourne:20271116T110000
DTEND;TZID=Australia/Melbourne:20271116T140000
DTSTAMP:20260420T211625
CREATED:20230315T230710Z
LAST-MODIFIED:20251215T060641Z
UID:10003075-1826362800-1826373600@www.mullumexservices.com.au
SUMMARY:Bingo
DESCRIPTION:Dabble in a game of Bingo with friends at Mullum! \nJoin us for one (or all) of four sessions every week. Get settled with your coffee of choice from 10am\, ready for eyes down at 11am.
URL:https://www.mullumexservices.com.au/event/bingo/2027-11-16/
LOCATION:Mullumbimby Ex-Services Club\, 58 Dalley Street\, Mullumbimby\, NSW\, 2482
CATEGORIES:All,Weekly Activities
ATTACH;FMTTYPE=image/jpeg:https://www.mullumexservices.com.au/wp-content/uploads/2023/03/Whats-On_Sub-Pages.jpg
END:VEVENT
BEGIN:VEVENT
DTSTART;TZID=Australia/Melbourne:20271117T110000
DTEND;TZID=Australia/Melbourne:20271117T140000
DTSTAMP:20260420T211625
CREATED:20230315T230710Z
LAST-MODIFIED:20251215T060641Z
UID:10003076-1826449200-1826460000@www.mullumexservices.com.au
SUMMARY:Bingo
DESCRIPTION:Dabble in a game of Bingo with friends at Mullum! \nJoin us for one (or all) of four sessions every week. Get settled with your coffee of choice from 10am\, ready for eyes down at 11am.
URL:https://www.mullumexservices.com.au/event/bingo/2027-11-17/
LOCATION:Mullumbimby Ex-Services Club\, 58 Dalley Street\, Mullumbimby\, NSW\, 2482
CATEGORIES:All,Weekly Activities
ATTACH;FMTTYPE=image/jpeg:https://www.mullumexservices.com.au/wp-content/uploads/2023/03/Whats-On_Sub-Pages.jpg
END:VEVENT
BEGIN:VEVENT
DTSTART;TZID=Australia/Melbourne:20271117T180000
DTEND;TZID=Australia/Melbourne:20271117T190000
DTSTAMP:20260420T211625
CREATED:20251017T013016Z
LAST-MODIFIED:20260311T234558Z
UID:10003389-1826474400-1826478000@www.mullumexservices.com.au
SUMMARY:Wednesday Raffles
DESCRIPTION:Join us for a night of great prize-winning fun! With Meat Trays and Gift Cards to be won every Wednesday night\, you won’t want to miss this weekly event! \nBe sure to come in and grab a feed and a drink before the draws begin! \nTickets are on sale every Wednesday from 6pm\, with draws starting at 7pm. \nWe have a number of meat trays and gift vouchers up for grabs
URL:https://www.mullumexservices.com.au/event/wednesday-raffles-2/2027-11-17/
LOCATION:Mullumbimby Ex-Services Club\, 58 Dalley Street\, Mullumbimby\, NSW\, 2482
CATEGORIES:All,Events,Promotions,Weekly Activities
ATTACH;FMTTYPE=image/png:https://www.mullumexservices.com.au/wp-content/uploads/2025/10/MULLUM-WEEKLY-RAFFLES-WEB-EVENT-1920x1080px.png
END:VEVENT
BEGIN:VEVENT
DTSTART;TZID=Australia/Melbourne:20271118T110000
DTEND;TZID=Australia/Melbourne:20271118T140000
DTSTAMP:20260420T211625
CREATED:20230315T230710Z
LAST-MODIFIED:20251215T060641Z
UID:10003077-1826535600-1826546400@www.mullumexservices.com.au
SUMMARY:Bingo
DESCRIPTION:Dabble in a game of Bingo with friends at Mullum! \nJoin us for one (or all) of four sessions every week. Get settled with your coffee of choice from 10am\, ready for eyes down at 11am.
URL:https://www.mullumexservices.com.au/event/bingo/2027-11-18/
LOCATION:Mullumbimby Ex-Services Club\, 58 Dalley Street\, Mullumbimby\, NSW\, 2482
CATEGORIES:All,Weekly Activities
ATTACH;FMTTYPE=image/jpeg:https://www.mullumexservices.com.au/wp-content/uploads/2023/03/Whats-On_Sub-Pages.jpg
END:VEVENT
BEGIN:VEVENT
DTSTART;TZID=Australia/Melbourne:20271119T110000
DTEND;TZID=Australia/Melbourne:20271119T140000
DTSTAMP:20260420T211625
CREATED:20230315T230710Z
LAST-MODIFIED:20251215T060641Z
UID:10003078-1826622000-1826632800@www.mullumexservices.com.au
SUMMARY:Bingo
DESCRIPTION:Dabble in a game of Bingo with friends at Mullum! \nJoin us for one (or all) of four sessions every week. Get settled with your coffee of choice from 10am\, ready for eyes down at 11am.
URL:https://www.mullumexservices.com.au/event/bingo/2027-11-19/
LOCATION:Mullumbimby Ex-Services Club\, 58 Dalley Street\, Mullumbimby\, NSW\, 2482
CATEGORIES:All,Weekly Activities
ATTACH;FMTTYPE=image/jpeg:https://www.mullumexservices.com.au/wp-content/uploads/2023/03/Whats-On_Sub-Pages.jpg
END:VEVENT
BEGIN:VEVENT
DTSTART;TZID=Australia/Melbourne:20271119T170000
DTEND;TZID=Australia/Melbourne:20271119T180000
DTSTAMP:20260420T211625
CREATED:20240229T000823Z
LAST-MODIFIED:20260311T234708Z
UID:10011585-1826643600-1826647200@www.mullumexservices.com.au
SUMMARY:Friday Roast Raffles
DESCRIPTION:Join us for a night of great prize-winning fun! With Roast Trays to be won every Friday night\, you won’t want to miss this weekly event! \nTickets are on sale every Friday from 5pm\, with draws starting once all 100 tickets are sold. \n$5 for 1 Ticket\n$10 for 3 Tickets\n$20 for 6 Tickets \nMake sure to stick around for our regular Friday Raffles straight after!
URL:https://www.mullumexservices.com.au/event/friday-first-100-raffles-2/2027-11-19/
LOCATION:Mullumbimby Ex-Services Club\, 58 Dalley Street\, Mullumbimby\, NSW\, 2482
CATEGORIES:All,Promotions,Weekly Activities
ATTACH;FMTTYPE=image/png:https://www.mullumexservices.com.au/wp-content/uploads/2025/10/MULLUM-WEEKLY-RAFFLES-WEB-EVENT-1920x1080px.png
END:VEVENT
BEGIN:VEVENT
DTSTART;TZID=Australia/Melbourne:20271123T110000
DTEND;TZID=Australia/Melbourne:20271123T140000
DTSTAMP:20260420T211625
CREATED:20230315T230710Z
LAST-MODIFIED:20251215T060641Z
UID:10003079-1826967600-1826978400@www.mullumexservices.com.au
SUMMARY:Bingo
DESCRIPTION:Dabble in a game of Bingo with friends at Mullum! \nJoin us for one (or all) of four sessions every week. Get settled with your coffee of choice from 10am\, ready for eyes down at 11am.
URL:https://www.mullumexservices.com.au/event/bingo/2027-11-23/
LOCATION:Mullumbimby Ex-Services Club\, 58 Dalley Street\, Mullumbimby\, NSW\, 2482
CATEGORIES:All,Weekly Activities
ATTACH;FMTTYPE=image/jpeg:https://www.mullumexservices.com.au/wp-content/uploads/2023/03/Whats-On_Sub-Pages.jpg
END:VEVENT
BEGIN:VEVENT
DTSTART;TZID=Australia/Melbourne:20271124T110000
DTEND;TZID=Australia/Melbourne:20271124T140000
DTSTAMP:20260420T211625
CREATED:20230315T230710Z
LAST-MODIFIED:20251215T060641Z
UID:10003080-1827054000-1827064800@www.mullumexservices.com.au
SUMMARY:Bingo
DESCRIPTION:Dabble in a game of Bingo with friends at Mullum! \nJoin us for one (or all) of four sessions every week. Get settled with your coffee of choice from 10am\, ready for eyes down at 11am.
URL:https://www.mullumexservices.com.au/event/bingo/2027-11-24/
LOCATION:Mullumbimby Ex-Services Club\, 58 Dalley Street\, Mullumbimby\, NSW\, 2482
CATEGORIES:All,Weekly Activities
ATTACH;FMTTYPE=image/jpeg:https://www.mullumexservices.com.au/wp-content/uploads/2023/03/Whats-On_Sub-Pages.jpg
END:VEVENT
BEGIN:VEVENT
DTSTART;TZID=Australia/Melbourne:20271124T180000
DTEND;TZID=Australia/Melbourne:20271124T190000
DTSTAMP:20260420T211625
CREATED:20251017T013016Z
LAST-MODIFIED:20260311T234558Z
UID:10003390-1827079200-1827082800@www.mullumexservices.com.au
SUMMARY:Wednesday Raffles
DESCRIPTION:Join us for a night of great prize-winning fun! With Meat Trays and Gift Cards to be won every Wednesday night\, you won’t want to miss this weekly event! \nBe sure to come in and grab a feed and a drink before the draws begin! \nTickets are on sale every Wednesday from 6pm\, with draws starting at 7pm. \nWe have a number of meat trays and gift vouchers up for grabs
URL:https://www.mullumexservices.com.au/event/wednesday-raffles-2/2027-11-24/
LOCATION:Mullumbimby Ex-Services Club\, 58 Dalley Street\, Mullumbimby\, NSW\, 2482
CATEGORIES:All,Events,Promotions,Weekly Activities
ATTACH;FMTTYPE=image/png:https://www.mullumexservices.com.au/wp-content/uploads/2025/10/MULLUM-WEEKLY-RAFFLES-WEB-EVENT-1920x1080px.png
END:VEVENT
BEGIN:VEVENT
DTSTART;TZID=Australia/Melbourne:20271125T110000
DTEND;TZID=Australia/Melbourne:20271125T140000
DTSTAMP:20260420T211625
CREATED:20230315T230710Z
LAST-MODIFIED:20251215T060641Z
UID:10003081-1827140400-1827151200@www.mullumexservices.com.au
SUMMARY:Bingo
DESCRIPTION:Dabble in a game of Bingo with friends at Mullum! \nJoin us for one (or all) of four sessions every week. Get settled with your coffee of choice from 10am\, ready for eyes down at 11am.
URL:https://www.mullumexservices.com.au/event/bingo/2027-11-25/
LOCATION:Mullumbimby Ex-Services Club\, 58 Dalley Street\, Mullumbimby\, NSW\, 2482
CATEGORIES:All,Weekly Activities
ATTACH;FMTTYPE=image/jpeg:https://www.mullumexservices.com.au/wp-content/uploads/2023/03/Whats-On_Sub-Pages.jpg
END:VEVENT
BEGIN:VEVENT
DTSTART;TZID=Australia/Melbourne:20271126T110000
DTEND;TZID=Australia/Melbourne:20271126T140000
DTSTAMP:20260420T211625
CREATED:20230315T230710Z
LAST-MODIFIED:20251215T060641Z
UID:10003082-1827226800-1827237600@www.mullumexservices.com.au
SUMMARY:Bingo
DESCRIPTION:Dabble in a game of Bingo with friends at Mullum! \nJoin us for one (or all) of four sessions every week. Get settled with your coffee of choice from 10am\, ready for eyes down at 11am.
URL:https://www.mullumexservices.com.au/event/bingo/2027-11-26/
LOCATION:Mullumbimby Ex-Services Club\, 58 Dalley Street\, Mullumbimby\, NSW\, 2482
CATEGORIES:All,Weekly Activities
ATTACH;FMTTYPE=image/jpeg:https://www.mullumexservices.com.au/wp-content/uploads/2023/03/Whats-On_Sub-Pages.jpg
END:VEVENT
BEGIN:VEVENT
DTSTART;TZID=Australia/Melbourne:20271126T170000
DTEND;TZID=Australia/Melbourne:20271126T180000
DTSTAMP:20260420T211625
CREATED:20240229T000823Z
LAST-MODIFIED:20260311T234708Z
UID:10011586-1827248400-1827252000@www.mullumexservices.com.au
SUMMARY:Friday Roast Raffles
DESCRIPTION:Join us for a night of great prize-winning fun! With Roast Trays to be won every Friday night\, you won’t want to miss this weekly event! \nTickets are on sale every Friday from 5pm\, with draws starting once all 100 tickets are sold. \n$5 for 1 Ticket\n$10 for 3 Tickets\n$20 for 6 Tickets \nMake sure to stick around for our regular Friday Raffles straight after!
URL:https://www.mullumexservices.com.au/event/friday-first-100-raffles-2/2027-11-26/
LOCATION:Mullumbimby Ex-Services Club\, 58 Dalley Street\, Mullumbimby\, NSW\, 2482
CATEGORIES:All,Promotions,Weekly Activities
ATTACH;FMTTYPE=image/png:https://www.mullumexservices.com.au/wp-content/uploads/2025/10/MULLUM-WEEKLY-RAFFLES-WEB-EVENT-1920x1080px.png
END:VEVENT
BEGIN:VEVENT
DTSTART;TZID=Australia/Melbourne:20271130T110000
DTEND;TZID=Australia/Melbourne:20271130T140000
DTSTAMP:20260420T211625
CREATED:20230315T230710Z
LAST-MODIFIED:20251215T060641Z
UID:10003083-1827572400-1827583200@www.mullumexservices.com.au
SUMMARY:Bingo
DESCRIPTION:Dabble in a game of Bingo with friends at Mullum! \nJoin us for one (or all) of four sessions every week. Get settled with your coffee of choice from 10am\, ready for eyes down at 11am.
URL:https://www.mullumexservices.com.au/event/bingo/2027-11-30/
LOCATION:Mullumbimby Ex-Services Club\, 58 Dalley Street\, Mullumbimby\, NSW\, 2482
CATEGORIES:All,Weekly Activities
ATTACH;FMTTYPE=image/jpeg:https://www.mullumexservices.com.au/wp-content/uploads/2023/03/Whats-On_Sub-Pages.jpg
END:VEVENT
BEGIN:VEVENT
DTSTART;TZID=Australia/Melbourne:20271201T110000
DTEND;TZID=Australia/Melbourne:20271201T140000
DTSTAMP:20260420T211625
CREATED:20230315T230710Z
LAST-MODIFIED:20251215T060641Z
UID:10003084-1827658800-1827669600@www.mullumexservices.com.au
SUMMARY:Bingo
DESCRIPTION:Dabble in a game of Bingo with friends at Mullum! \nJoin us for one (or all) of four sessions every week. Get settled with your coffee of choice from 10am\, ready for eyes down at 11am.
URL:https://www.mullumexservices.com.au/event/bingo/2027-12-01/
LOCATION:Mullumbimby Ex-Services Club\, 58 Dalley Street\, Mullumbimby\, NSW\, 2482
CATEGORIES:All,Weekly Activities
ATTACH;FMTTYPE=image/jpeg:https://www.mullumexservices.com.au/wp-content/uploads/2023/03/Whats-On_Sub-Pages.jpg
END:VEVENT
BEGIN:VEVENT
DTSTART;TZID=Australia/Melbourne:20271201T180000
DTEND;TZID=Australia/Melbourne:20271201T190000
DTSTAMP:20260420T211625
CREATED:20251017T013016Z
LAST-MODIFIED:20260311T234558Z
UID:10003391-1827684000-1827687600@www.mullumexservices.com.au
SUMMARY:Wednesday Raffles
DESCRIPTION:Join us for a night of great prize-winning fun! With Meat Trays and Gift Cards to be won every Wednesday night\, you won’t want to miss this weekly event! \nBe sure to come in and grab a feed and a drink before the draws begin! \nTickets are on sale every Wednesday from 6pm\, with draws starting at 7pm. \nWe have a number of meat trays and gift vouchers up for grabs
URL:https://www.mullumexservices.com.au/event/wednesday-raffles-2/2027-12-01/
LOCATION:Mullumbimby Ex-Services Club\, 58 Dalley Street\, Mullumbimby\, NSW\, 2482
CATEGORIES:All,Events,Promotions,Weekly Activities
ATTACH;FMTTYPE=image/png:https://www.mullumexservices.com.au/wp-content/uploads/2025/10/MULLUM-WEEKLY-RAFFLES-WEB-EVENT-1920x1080px.png
END:VEVENT
BEGIN:VEVENT
DTSTART;TZID=Australia/Melbourne:20271202T110000
DTEND;TZID=Australia/Melbourne:20271202T140000
DTSTAMP:20260420T211625
CREATED:20230315T230710Z
LAST-MODIFIED:20251215T060641Z
UID:10003085-1827745200-1827756000@www.mullumexservices.com.au
SUMMARY:Bingo
DESCRIPTION:Dabble in a game of Bingo with friends at Mullum! \nJoin us for one (or all) of four sessions every week. Get settled with your coffee of choice from 10am\, ready for eyes down at 11am.
URL:https://www.mullumexservices.com.au/event/bingo/2027-12-02/
LOCATION:Mullumbimby Ex-Services Club\, 58 Dalley Street\, Mullumbimby\, NSW\, 2482
CATEGORIES:All,Weekly Activities
ATTACH;FMTTYPE=image/jpeg:https://www.mullumexservices.com.au/wp-content/uploads/2023/03/Whats-On_Sub-Pages.jpg
END:VEVENT
BEGIN:VEVENT
DTSTART;TZID=Australia/Melbourne:20271203T110000
DTEND;TZID=Australia/Melbourne:20271203T140000
DTSTAMP:20260420T211625
CREATED:20230315T230710Z
LAST-MODIFIED:20251215T060641Z
UID:10003086-1827831600-1827842400@www.mullumexservices.com.au
SUMMARY:Bingo
DESCRIPTION:Dabble in a game of Bingo with friends at Mullum! \nJoin us for one (or all) of four sessions every week. Get settled with your coffee of choice from 10am\, ready for eyes down at 11am.
URL:https://www.mullumexservices.com.au/event/bingo/2027-12-03/
LOCATION:Mullumbimby Ex-Services Club\, 58 Dalley Street\, Mullumbimby\, NSW\, 2482
CATEGORIES:All,Weekly Activities
ATTACH;FMTTYPE=image/jpeg:https://www.mullumexservices.com.au/wp-content/uploads/2023/03/Whats-On_Sub-Pages.jpg
END:VEVENT
BEGIN:VEVENT
DTSTART;TZID=Australia/Melbourne:20271203T170000
DTEND;TZID=Australia/Melbourne:20271203T180000
DTSTAMP:20260420T211625
CREATED:20240229T000823Z
LAST-MODIFIED:20260311T234708Z
UID:10011587-1827853200-1827856800@www.mullumexservices.com.au
SUMMARY:Friday Roast Raffles
DESCRIPTION:Join us for a night of great prize-winning fun! With Roast Trays to be won every Friday night\, you won’t want to miss this weekly event! \nTickets are on sale every Friday from 5pm\, with draws starting once all 100 tickets are sold. \n$5 for 1 Ticket\n$10 for 3 Tickets\n$20 for 6 Tickets \nMake sure to stick around for our regular Friday Raffles straight after!
URL:https://www.mullumexservices.com.au/event/friday-first-100-raffles-2/2027-12-03/
LOCATION:Mullumbimby Ex-Services Club\, 58 Dalley Street\, Mullumbimby\, NSW\, 2482
CATEGORIES:All,Promotions,Weekly Activities
ATTACH;FMTTYPE=image/png:https://www.mullumexservices.com.au/wp-content/uploads/2025/10/MULLUM-WEEKLY-RAFFLES-WEB-EVENT-1920x1080px.png
END:VEVENT
BEGIN:VEVENT
DTSTART;TZID=Australia/Melbourne:20271207T110000
DTEND;TZID=Australia/Melbourne:20271207T140000
DTSTAMP:20260420T211625
CREATED:20230315T230710Z
LAST-MODIFIED:20251215T060641Z
UID:10003087-1828177200-1828188000@www.mullumexservices.com.au
SUMMARY:Bingo
DESCRIPTION:Dabble in a game of Bingo with friends at Mullum! \nJoin us for one (or all) of four sessions every week. Get settled with your coffee of choice from 10am\, ready for eyes down at 11am.
URL:https://www.mullumexservices.com.au/event/bingo/2027-12-07/
LOCATION:Mullumbimby Ex-Services Club\, 58 Dalley Street\, Mullumbimby\, NSW\, 2482
CATEGORIES:All,Weekly Activities
ATTACH;FMTTYPE=image/jpeg:https://www.mullumexservices.com.au/wp-content/uploads/2023/03/Whats-On_Sub-Pages.jpg
END:VEVENT
BEGIN:VEVENT
DTSTART;TZID=Australia/Melbourne:20271208T110000
DTEND;TZID=Australia/Melbourne:20271208T140000
DTSTAMP:20260420T211625
CREATED:20230315T230710Z
LAST-MODIFIED:20251215T060641Z
UID:10003088-1828263600-1828274400@www.mullumexservices.com.au
SUMMARY:Bingo
DESCRIPTION:Dabble in a game of Bingo with friends at Mullum! \nJoin us for one (or all) of four sessions every week. Get settled with your coffee of choice from 10am\, ready for eyes down at 11am.
URL:https://www.mullumexservices.com.au/event/bingo/2027-12-08/
LOCATION:Mullumbimby Ex-Services Club\, 58 Dalley Street\, Mullumbimby\, NSW\, 2482
CATEGORIES:All,Weekly Activities
ATTACH;FMTTYPE=image/jpeg:https://www.mullumexservices.com.au/wp-content/uploads/2023/03/Whats-On_Sub-Pages.jpg
END:VEVENT
BEGIN:VEVENT
DTSTART;TZID=Australia/Melbourne:20271208T180000
DTEND;TZID=Australia/Melbourne:20271208T190000
DTSTAMP:20260420T211625
CREATED:20251017T013016Z
LAST-MODIFIED:20260311T234558Z
UID:10003392-1828288800-1828292400@www.mullumexservices.com.au
SUMMARY:Wednesday Raffles
DESCRIPTION:Join us for a night of great prize-winning fun! With Meat Trays and Gift Cards to be won every Wednesday night\, you won’t want to miss this weekly event! \nBe sure to come in and grab a feed and a drink before the draws begin! \nTickets are on sale every Wednesday from 6pm\, with draws starting at 7pm. \nWe have a number of meat trays and gift vouchers up for grabs
URL:https://www.mullumexservices.com.au/event/wednesday-raffles-2/2027-12-08/
LOCATION:Mullumbimby Ex-Services Club\, 58 Dalley Street\, Mullumbimby\, NSW\, 2482
CATEGORIES:All,Events,Promotions,Weekly Activities
ATTACH;FMTTYPE=image/png:https://www.mullumexservices.com.au/wp-content/uploads/2025/10/MULLUM-WEEKLY-RAFFLES-WEB-EVENT-1920x1080px.png
END:VEVENT
BEGIN:VEVENT
DTSTART;TZID=Australia/Melbourne:20271209T110000
DTEND;TZID=Australia/Melbourne:20271209T140000
DTSTAMP:20260420T211625
CREATED:20230315T230710Z
LAST-MODIFIED:20251215T060641Z
UID:10003089-1828350000-1828360800@www.mullumexservices.com.au
SUMMARY:Bingo
DESCRIPTION:Dabble in a game of Bingo with friends at Mullum! \nJoin us for one (or all) of four sessions every week. Get settled with your coffee of choice from 10am\, ready for eyes down at 11am.
URL:https://www.mullumexservices.com.au/event/bingo/2027-12-09/
LOCATION:Mullumbimby Ex-Services Club\, 58 Dalley Street\, Mullumbimby\, NSW\, 2482
CATEGORIES:All,Weekly Activities
ATTACH;FMTTYPE=image/jpeg:https://www.mullumexservices.com.au/wp-content/uploads/2023/03/Whats-On_Sub-Pages.jpg
END:VEVENT
BEGIN:VEVENT
DTSTART;TZID=Australia/Melbourne:20271210T110000
DTEND;TZID=Australia/Melbourne:20271210T140000
DTSTAMP:20260420T211625
CREATED:20230315T230710Z
LAST-MODIFIED:20251215T060641Z
UID:10003090-1828436400-1828447200@www.mullumexservices.com.au
SUMMARY:Bingo
DESCRIPTION:Dabble in a game of Bingo with friends at Mullum! \nJoin us for one (or all) of four sessions every week. Get settled with your coffee of choice from 10am\, ready for eyes down at 11am.
URL:https://www.mullumexservices.com.au/event/bingo/2027-12-10/
LOCATION:Mullumbimby Ex-Services Club\, 58 Dalley Street\, Mullumbimby\, NSW\, 2482
CATEGORIES:All,Weekly Activities
ATTACH;FMTTYPE=image/jpeg:https://www.mullumexservices.com.au/wp-content/uploads/2023/03/Whats-On_Sub-Pages.jpg
END:VEVENT
BEGIN:VEVENT
DTSTART;TZID=Australia/Melbourne:20271210T170000
DTEND;TZID=Australia/Melbourne:20271210T180000
DTSTAMP:20260420T211625
CREATED:20240229T000823Z
LAST-MODIFIED:20260311T234708Z
UID:10011588-1828458000-1828461600@www.mullumexservices.com.au
SUMMARY:Friday Roast Raffles
DESCRIPTION:Join us for a night of great prize-winning fun! With Roast Trays to be won every Friday night\, you won’t want to miss this weekly event! \nTickets are on sale every Friday from 5pm\, with draws starting once all 100 tickets are sold. \n$5 for 1 Ticket\n$10 for 3 Tickets\n$20 for 6 Tickets \nMake sure to stick around for our regular Friday Raffles straight after!
URL:https://www.mullumexservices.com.au/event/friday-first-100-raffles-2/2027-12-10/
LOCATION:Mullumbimby Ex-Services Club\, 58 Dalley Street\, Mullumbimby\, NSW\, 2482
CATEGORIES:All,Promotions,Weekly Activities
ATTACH;FMTTYPE=image/png:https://www.mullumexservices.com.au/wp-content/uploads/2025/10/MULLUM-WEEKLY-RAFFLES-WEB-EVENT-1920x1080px.png
END:VEVENT
BEGIN:VEVENT
DTSTART;TZID=Australia/Melbourne:20271214T110000
DTEND;TZID=Australia/Melbourne:20271214T140000
DTSTAMP:20260420T211625
CREATED:20230315T230710Z
LAST-MODIFIED:20251215T060641Z
UID:10003091-1828782000-1828792800@www.mullumexservices.com.au
SUMMARY:Bingo
DESCRIPTION:Dabble in a game of Bingo with friends at Mullum! \nJoin us for one (or all) of four sessions every week. Get settled with your coffee of choice from 10am\, ready for eyes down at 11am.
URL:https://www.mullumexservices.com.au/event/bingo/2027-12-14/
LOCATION:Mullumbimby Ex-Services Club\, 58 Dalley Street\, Mullumbimby\, NSW\, 2482
CATEGORIES:All,Weekly Activities
ATTACH;FMTTYPE=image/jpeg:https://www.mullumexservices.com.au/wp-content/uploads/2023/03/Whats-On_Sub-Pages.jpg
END:VEVENT
BEGIN:VEVENT
DTSTART;TZID=Australia/Melbourne:20271215T110000
DTEND;TZID=Australia/Melbourne:20271215T140000
DTSTAMP:20260420T211625
CREATED:20230315T230710Z
LAST-MODIFIED:20251215T060641Z
UID:10003092-1828868400-1828879200@www.mullumexservices.com.au
SUMMARY:Bingo
DESCRIPTION:Dabble in a game of Bingo with friends at Mullum! \nJoin us for one (or all) of four sessions every week. Get settled with your coffee of choice from 10am\, ready for eyes down at 11am.
URL:https://www.mullumexservices.com.au/event/bingo/2027-12-15/
LOCATION:Mullumbimby Ex-Services Club\, 58 Dalley Street\, Mullumbimby\, NSW\, 2482
CATEGORIES:All,Weekly Activities
ATTACH;FMTTYPE=image/jpeg:https://www.mullumexservices.com.au/wp-content/uploads/2023/03/Whats-On_Sub-Pages.jpg
END:VEVENT
BEGIN:VEVENT
DTSTART;TZID=Australia/Melbourne:20271215T180000
DTEND;TZID=Australia/Melbourne:20271215T190000
DTSTAMP:20260420T211625
CREATED:20251017T013016Z
LAST-MODIFIED:20260311T234558Z
UID:10003393-1828893600-1828897200@www.mullumexservices.com.au
SUMMARY:Wednesday Raffles
DESCRIPTION:Join us for a night of great prize-winning fun! With Meat Trays and Gift Cards to be won every Wednesday night\, you won’t want to miss this weekly event! \nBe sure to come in and grab a feed and a drink before the draws begin! \nTickets are on sale every Wednesday from 6pm\, with draws starting at 7pm. \nWe have a number of meat trays and gift vouchers up for grabs
URL:https://www.mullumexservices.com.au/event/wednesday-raffles-2/2027-12-15/
LOCATION:Mullumbimby Ex-Services Club\, 58 Dalley Street\, Mullumbimby\, NSW\, 2482
CATEGORIES:All,Events,Promotions,Weekly Activities
ATTACH;FMTTYPE=image/png:https://www.mullumexservices.com.au/wp-content/uploads/2025/10/MULLUM-WEEKLY-RAFFLES-WEB-EVENT-1920x1080px.png
END:VEVENT
BEGIN:VEVENT
DTSTART;TZID=Australia/Melbourne:20271216T110000
DTEND;TZID=Australia/Melbourne:20271216T140000
DTSTAMP:20260420T211625
CREATED:20230315T230710Z
LAST-MODIFIED:20251215T060641Z
UID:10003093-1828954800-1828965600@www.mullumexservices.com.au
SUMMARY:Bingo
DESCRIPTION:Dabble in a game of Bingo with friends at Mullum! \nJoin us for one (or all) of four sessions every week. Get settled with your coffee of choice from 10am\, ready for eyes down at 11am.
URL:https://www.mullumexservices.com.au/event/bingo/2027-12-16/
LOCATION:Mullumbimby Ex-Services Club\, 58 Dalley Street\, Mullumbimby\, NSW\, 2482
CATEGORIES:All,Weekly Activities
ATTACH;FMTTYPE=image/jpeg:https://www.mullumexservices.com.au/wp-content/uploads/2023/03/Whats-On_Sub-Pages.jpg
END:VEVENT
BEGIN:VEVENT
DTSTART;TZID=Australia/Melbourne:20271217T110000
DTEND;TZID=Australia/Melbourne:20271217T140000
DTSTAMP:20260420T211625
CREATED:20230315T230710Z
LAST-MODIFIED:20251215T060641Z
UID:10003094-1829041200-1829052000@www.mullumexservices.com.au
SUMMARY:Bingo
DESCRIPTION:Dabble in a game of Bingo with friends at Mullum! \nJoin us for one (or all) of four sessions every week. Get settled with your coffee of choice from 10am\, ready for eyes down at 11am.
URL:https://www.mullumexservices.com.au/event/bingo/2027-12-17/
LOCATION:Mullumbimby Ex-Services Club\, 58 Dalley Street\, Mullumbimby\, NSW\, 2482
CATEGORIES:All,Weekly Activities
ATTACH;FMTTYPE=image/jpeg:https://www.mullumexservices.com.au/wp-content/uploads/2023/03/Whats-On_Sub-Pages.jpg
END:VEVENT
BEGIN:VEVENT
DTSTART;TZID=Australia/Melbourne:20271217T170000
DTEND;TZID=Australia/Melbourne:20271217T180000
DTSTAMP:20260420T211625
CREATED:20240229T000823Z
LAST-MODIFIED:20260311T234708Z
UID:10011589-1829062800-1829066400@www.mullumexservices.com.au
SUMMARY:Friday Roast Raffles
DESCRIPTION:Join us for a night of great prize-winning fun! With Roast Trays to be won every Friday night\, you won’t want to miss this weekly event! \nTickets are on sale every Friday from 5pm\, with draws starting once all 100 tickets are sold. \n$5 for 1 Ticket\n$10 for 3 Tickets\n$20 for 6 Tickets \nMake sure to stick around for our regular Friday Raffles straight after!
URL:https://www.mullumexservices.com.au/event/friday-first-100-raffles-2/2027-12-17/
LOCATION:Mullumbimby Ex-Services Club\, 58 Dalley Street\, Mullumbimby\, NSW\, 2482
CATEGORIES:All,Promotions,Weekly Activities
ATTACH;FMTTYPE=image/png:https://www.mullumexservices.com.au/wp-content/uploads/2025/10/MULLUM-WEEKLY-RAFFLES-WEB-EVENT-1920x1080px.png
END:VEVENT
END:VCALENDAR