BEGIN:VCALENDAR
VERSION:2.0
PRODID:-//Mullumbimby Ex-Services Club - ECPv6.15.17.1//NONSGML v1.0//EN
CALSCALE:GREGORIAN
METHOD:PUBLISH
X-ORIGINAL-URL:https://www.mullumexservices.com.au
X-WR-CALDESC:Events for Mullumbimby Ex-Services Club
REFRESH-INTERVAL;VALUE=DURATION:PT1H
X-Robots-Tag:noindex
X-PUBLISHED-TTL:PT1H
BEGIN:VTIMEZONE
TZID:Australia/Melbourne
BEGIN:STANDARD
TZOFFSETFROM:+1100
TZOFFSETTO:+1000
TZNAME:AEST
DTSTART:20240406T160000
END:STANDARD
BEGIN:DAYLIGHT
TZOFFSETFROM:+1000
TZOFFSETTO:+1100
TZNAME:AEDT
DTSTART:20241005T160000
END:DAYLIGHT
BEGIN:STANDARD
TZOFFSETFROM:+1100
TZOFFSETTO:+1000
TZNAME:AEST
DTSTART:20250405T160000
END:STANDARD
BEGIN:DAYLIGHT
TZOFFSETFROM:+1000
TZOFFSETTO:+1100
TZNAME:AEDT
DTSTART:20251004T160000
END:DAYLIGHT
BEGIN:STANDARD
TZOFFSETFROM:+1100
TZOFFSETTO:+1000
TZNAME:AEST
DTSTART:20260404T160000
END:STANDARD
BEGIN:DAYLIGHT
TZOFFSETFROM:+1000
TZOFFSETTO:+1100
TZNAME:AEDT
DTSTART:20261003T160000
END:DAYLIGHT
END:VTIMEZONE
BEGIN:VEVENT
DTSTART;TZID=Australia/Melbourne:20251104T110000
DTEND;TZID=Australia/Melbourne:20251104T140000
DTSTAMP:20260425T090859
CREATED:20230315T230710Z
LAST-MODIFIED:20251215T060641Z
UID:10002651-1762254000-1762264800@www.mullumexservices.com.au
SUMMARY:Bingo
DESCRIPTION:Dabble in a game of Bingo with friends at Mullum! \nJoin us for one (or all) of four sessions every week. Get settled with your coffee of choice from 10am\, ready for eyes down at 11am.
URL:https://www.mullumexservices.com.au/event/bingo/2025-11-04/
LOCATION:Mullumbimby Ex-Services Club\, 58 Dalley Street\, Mullumbimby\, NSW\, 2482
CATEGORIES:All,Weekly Activities
ATTACH;FMTTYPE=image/jpeg:https://www.mullumexservices.com.au/wp-content/uploads/2023/03/Whats-On_Sub-Pages.jpg
END:VEVENT
BEGIN:VEVENT
DTSTART;TZID=Australia/Melbourne:20251105T110000
DTEND;TZID=Australia/Melbourne:20251105T140000
DTSTAMP:20260425T090859
CREATED:20230315T230710Z
LAST-MODIFIED:20251215T060641Z
UID:10002652-1762340400-1762351200@www.mullumexservices.com.au
SUMMARY:Bingo
DESCRIPTION:Dabble in a game of Bingo with friends at Mullum! \nJoin us for one (or all) of four sessions every week. Get settled with your coffee of choice from 10am\, ready for eyes down at 11am.
URL:https://www.mullumexservices.com.au/event/bingo/2025-11-05/
LOCATION:Mullumbimby Ex-Services Club\, 58 Dalley Street\, Mullumbimby\, NSW\, 2482
CATEGORIES:All,Weekly Activities
ATTACH;FMTTYPE=image/jpeg:https://www.mullumexservices.com.au/wp-content/uploads/2023/03/Whats-On_Sub-Pages.jpg
END:VEVENT
BEGIN:VEVENT
DTSTART;TZID=Australia/Melbourne:20251105T180000
DTEND;TZID=Australia/Melbourne:20251105T190000
DTSTAMP:20260425T090859
CREATED:20251017T013016Z
LAST-MODIFIED:20260311T234558Z
UID:10003283-1762365600-1762369200@www.mullumexservices.com.au
SUMMARY:Wednesday Raffles
DESCRIPTION:Join us for a night of great prize-winning fun! With Meat Trays and Gift Cards to be won every Wednesday night\, you won’t want to miss this weekly event! \nBe sure to come in and grab a feed and a drink before the draws begin! \nTickets are on sale every Wednesday from 6pm\, with draws starting at 7pm. \nWe have a number of meat trays and gift vouchers up for grabs
URL:https://www.mullumexservices.com.au/event/wednesday-raffles-2/2025-11-05/
LOCATION:Mullumbimby Ex-Services Club\, 58 Dalley Street\, Mullumbimby\, NSW\, 2482
CATEGORIES:All,Events,Promotions,Weekly Activities
ATTACH;FMTTYPE=image/png:https://www.mullumexservices.com.au/wp-content/uploads/2025/10/MULLUM-WEEKLY-RAFFLES-WEB-EVENT-1920x1080px.png
END:VEVENT
BEGIN:VEVENT
DTSTART;TZID=Australia/Melbourne:20251106T110000
DTEND;TZID=Australia/Melbourne:20251106T140000
DTSTAMP:20260425T090859
CREATED:20230315T230710Z
LAST-MODIFIED:20251215T060641Z
UID:10002653-1762426800-1762437600@www.mullumexservices.com.au
SUMMARY:Bingo
DESCRIPTION:Dabble in a game of Bingo with friends at Mullum! \nJoin us for one (or all) of four sessions every week. Get settled with your coffee of choice from 10am\, ready for eyes down at 11am.
URL:https://www.mullumexservices.com.au/event/bingo/2025-11-06/
LOCATION:Mullumbimby Ex-Services Club\, 58 Dalley Street\, Mullumbimby\, NSW\, 2482
CATEGORIES:All,Weekly Activities
ATTACH;FMTTYPE=image/jpeg:https://www.mullumexservices.com.au/wp-content/uploads/2023/03/Whats-On_Sub-Pages.jpg
END:VEVENT
BEGIN:VEVENT
DTSTART;TZID=Australia/Melbourne:20251107T110000
DTEND;TZID=Australia/Melbourne:20251107T140000
DTSTAMP:20260425T090859
CREATED:20230315T230710Z
LAST-MODIFIED:20251215T060641Z
UID:10002654-1762513200-1762524000@www.mullumexservices.com.au
SUMMARY:Bingo
DESCRIPTION:Dabble in a game of Bingo with friends at Mullum! \nJoin us for one (or all) of four sessions every week. Get settled with your coffee of choice from 10am\, ready for eyes down at 11am.
URL:https://www.mullumexservices.com.au/event/bingo/2025-11-07/
LOCATION:Mullumbimby Ex-Services Club\, 58 Dalley Street\, Mullumbimby\, NSW\, 2482
CATEGORIES:All,Weekly Activities
ATTACH;FMTTYPE=image/jpeg:https://www.mullumexservices.com.au/wp-content/uploads/2023/03/Whats-On_Sub-Pages.jpg
END:VEVENT
BEGIN:VEVENT
DTSTART;TZID=Australia/Melbourne:20251107T170000
DTEND;TZID=Australia/Melbourne:20251107T180000
DTSTAMP:20260425T090859
CREATED:20240229T000823Z
LAST-MODIFIED:20260311T234708Z
UID:10011456-1762534800-1762538400@www.mullumexservices.com.au
SUMMARY:Friday Roast Raffles
DESCRIPTION:Join us for a night of great prize-winning fun! With Roast Trays to be won every Friday night\, you won’t want to miss this weekly event! \nTickets are on sale every Friday from 5pm\, with draws starting once all 100 tickets are sold. \n$5 for 1 Ticket\n$10 for 3 Tickets\n$20 for 6 Tickets \nMake sure to stick around for our regular Friday Raffles straight after!
URL:https://www.mullumexservices.com.au/event/friday-first-100-raffles-2/2025-11-07/
LOCATION:Mullumbimby Ex-Services Club\, 58 Dalley Street\, Mullumbimby\, NSW\, 2482
CATEGORIES:All,Promotions,Weekly Activities
ATTACH;FMTTYPE=image/png:https://www.mullumexservices.com.au/wp-content/uploads/2025/10/MULLUM-WEEKLY-RAFFLES-WEB-EVENT-1920x1080px.png
END:VEVENT
BEGIN:VEVENT
DTSTART;TZID=Australia/Melbourne:20251111T110000
DTEND;TZID=Australia/Melbourne:20251111T140000
DTSTAMP:20260425T090859
CREATED:20230315T230710Z
LAST-MODIFIED:20251215T060641Z
UID:10002655-1762858800-1762869600@www.mullumexservices.com.au
SUMMARY:Bingo
DESCRIPTION:Dabble in a game of Bingo with friends at Mullum! \nJoin us for one (or all) of four sessions every week. Get settled with your coffee of choice from 10am\, ready for eyes down at 11am.
URL:https://www.mullumexservices.com.au/event/bingo/2025-11-11/
LOCATION:Mullumbimby Ex-Services Club\, 58 Dalley Street\, Mullumbimby\, NSW\, 2482
CATEGORIES:All,Weekly Activities
ATTACH;FMTTYPE=image/jpeg:https://www.mullumexservices.com.au/wp-content/uploads/2023/03/Whats-On_Sub-Pages.jpg
END:VEVENT
BEGIN:VEVENT
DTSTART;TZID=Australia/Melbourne:20251112T110000
DTEND;TZID=Australia/Melbourne:20251112T140000
DTSTAMP:20260425T090859
CREATED:20230315T230710Z
LAST-MODIFIED:20251215T060641Z
UID:10002656-1762945200-1762956000@www.mullumexservices.com.au
SUMMARY:Bingo
DESCRIPTION:Dabble in a game of Bingo with friends at Mullum! \nJoin us for one (or all) of four sessions every week. Get settled with your coffee of choice from 10am\, ready for eyes down at 11am.
URL:https://www.mullumexservices.com.au/event/bingo/2025-11-12/
LOCATION:Mullumbimby Ex-Services Club\, 58 Dalley Street\, Mullumbimby\, NSW\, 2482
CATEGORIES:All,Weekly Activities
ATTACH;FMTTYPE=image/jpeg:https://www.mullumexservices.com.au/wp-content/uploads/2023/03/Whats-On_Sub-Pages.jpg
END:VEVENT
BEGIN:VEVENT
DTSTART;TZID=Australia/Melbourne:20251112T180000
DTEND;TZID=Australia/Melbourne:20251112T190000
DTSTAMP:20260425T090859
CREATED:20251017T013016Z
LAST-MODIFIED:20260311T234558Z
UID:10003284-1762970400-1762974000@www.mullumexservices.com.au
SUMMARY:Wednesday Raffles
DESCRIPTION:Join us for a night of great prize-winning fun! With Meat Trays and Gift Cards to be won every Wednesday night\, you won’t want to miss this weekly event! \nBe sure to come in and grab a feed and a drink before the draws begin! \nTickets are on sale every Wednesday from 6pm\, with draws starting at 7pm. \nWe have a number of meat trays and gift vouchers up for grabs
URL:https://www.mullumexservices.com.au/event/wednesday-raffles-2/2025-11-12/
LOCATION:Mullumbimby Ex-Services Club\, 58 Dalley Street\, Mullumbimby\, NSW\, 2482
CATEGORIES:All,Events,Promotions,Weekly Activities
ATTACH;FMTTYPE=image/png:https://www.mullumexservices.com.au/wp-content/uploads/2025/10/MULLUM-WEEKLY-RAFFLES-WEB-EVENT-1920x1080px.png
END:VEVENT
BEGIN:VEVENT
DTSTART;TZID=Australia/Melbourne:20251113T110000
DTEND;TZID=Australia/Melbourne:20251113T140000
DTSTAMP:20260425T090859
CREATED:20230315T230710Z
LAST-MODIFIED:20251215T060641Z
UID:10002657-1763031600-1763042400@www.mullumexservices.com.au
SUMMARY:Bingo
DESCRIPTION:Dabble in a game of Bingo with friends at Mullum! \nJoin us for one (or all) of four sessions every week. Get settled with your coffee of choice from 10am\, ready for eyes down at 11am.
URL:https://www.mullumexservices.com.au/event/bingo/2025-11-13/
LOCATION:Mullumbimby Ex-Services Club\, 58 Dalley Street\, Mullumbimby\, NSW\, 2482
CATEGORIES:All,Weekly Activities
ATTACH;FMTTYPE=image/jpeg:https://www.mullumexservices.com.au/wp-content/uploads/2023/03/Whats-On_Sub-Pages.jpg
END:VEVENT
BEGIN:VEVENT
DTSTART;TZID=Australia/Melbourne:20251114T110000
DTEND;TZID=Australia/Melbourne:20251114T140000
DTSTAMP:20260425T090859
CREATED:20230315T230710Z
LAST-MODIFIED:20251215T060641Z
UID:10002658-1763118000-1763128800@www.mullumexservices.com.au
SUMMARY:Bingo
DESCRIPTION:Dabble in a game of Bingo with friends at Mullum! \nJoin us for one (or all) of four sessions every week. Get settled with your coffee of choice from 10am\, ready for eyes down at 11am.
URL:https://www.mullumexservices.com.au/event/bingo/2025-11-14/
LOCATION:Mullumbimby Ex-Services Club\, 58 Dalley Street\, Mullumbimby\, NSW\, 2482
CATEGORIES:All,Weekly Activities
ATTACH;FMTTYPE=image/jpeg:https://www.mullumexservices.com.au/wp-content/uploads/2023/03/Whats-On_Sub-Pages.jpg
END:VEVENT
BEGIN:VEVENT
DTSTART;TZID=Australia/Melbourne:20251114T170000
DTEND;TZID=Australia/Melbourne:20251114T180000
DTSTAMP:20260425T090859
CREATED:20240229T000823Z
LAST-MODIFIED:20260311T234708Z
UID:10011457-1763139600-1763143200@www.mullumexservices.com.au
SUMMARY:Friday Roast Raffles
DESCRIPTION:Join us for a night of great prize-winning fun! With Roast Trays to be won every Friday night\, you won’t want to miss this weekly event! \nTickets are on sale every Friday from 5pm\, with draws starting once all 100 tickets are sold. \n$5 for 1 Ticket\n$10 for 3 Tickets\n$20 for 6 Tickets \nMake sure to stick around for our regular Friday Raffles straight after!
URL:https://www.mullumexservices.com.au/event/friday-first-100-raffles-2/2025-11-14/
LOCATION:Mullumbimby Ex-Services Club\, 58 Dalley Street\, Mullumbimby\, NSW\, 2482
CATEGORIES:All,Promotions,Weekly Activities
ATTACH;FMTTYPE=image/png:https://www.mullumexservices.com.au/wp-content/uploads/2025/10/MULLUM-WEEKLY-RAFFLES-WEB-EVENT-1920x1080px.png
END:VEVENT
BEGIN:VEVENT
DTSTART;TZID=Australia/Melbourne:20251118T110000
DTEND;TZID=Australia/Melbourne:20251118T140000
DTSTAMP:20260425T090859
CREATED:20230315T230710Z
LAST-MODIFIED:20251215T060641Z
UID:10002659-1763463600-1763474400@www.mullumexservices.com.au
SUMMARY:Bingo
DESCRIPTION:Dabble in a game of Bingo with friends at Mullum! \nJoin us for one (or all) of four sessions every week. Get settled with your coffee of choice from 10am\, ready for eyes down at 11am.
URL:https://www.mullumexservices.com.au/event/bingo/2025-11-18/
LOCATION:Mullumbimby Ex-Services Club\, 58 Dalley Street\, Mullumbimby\, NSW\, 2482
CATEGORIES:All,Weekly Activities
ATTACH;FMTTYPE=image/jpeg:https://www.mullumexservices.com.au/wp-content/uploads/2023/03/Whats-On_Sub-Pages.jpg
END:VEVENT
BEGIN:VEVENT
DTSTART;TZID=Australia/Melbourne:20251119T110000
DTEND;TZID=Australia/Melbourne:20251119T140000
DTSTAMP:20260425T090859
CREATED:20230315T230710Z
LAST-MODIFIED:20251215T060641Z
UID:10002660-1763550000-1763560800@www.mullumexservices.com.au
SUMMARY:Bingo
DESCRIPTION:Dabble in a game of Bingo with friends at Mullum! \nJoin us for one (or all) of four sessions every week. Get settled with your coffee of choice from 10am\, ready for eyes down at 11am.
URL:https://www.mullumexservices.com.au/event/bingo/2025-11-19/
LOCATION:Mullumbimby Ex-Services Club\, 58 Dalley Street\, Mullumbimby\, NSW\, 2482
CATEGORIES:All,Weekly Activities
ATTACH;FMTTYPE=image/jpeg:https://www.mullumexservices.com.au/wp-content/uploads/2023/03/Whats-On_Sub-Pages.jpg
END:VEVENT
BEGIN:VEVENT
DTSTART;TZID=Australia/Melbourne:20251119T180000
DTEND;TZID=Australia/Melbourne:20251119T190000
DTSTAMP:20260425T090859
CREATED:20251017T013016Z
LAST-MODIFIED:20260311T234558Z
UID:10003285-1763575200-1763578800@www.mullumexservices.com.au
SUMMARY:Wednesday Raffles
DESCRIPTION:Join us for a night of great prize-winning fun! With Meat Trays and Gift Cards to be won every Wednesday night\, you won’t want to miss this weekly event! \nBe sure to come in and grab a feed and a drink before the draws begin! \nTickets are on sale every Wednesday from 6pm\, with draws starting at 7pm. \nWe have a number of meat trays and gift vouchers up for grabs
URL:https://www.mullumexservices.com.au/event/wednesday-raffles-2/2025-11-19/
LOCATION:Mullumbimby Ex-Services Club\, 58 Dalley Street\, Mullumbimby\, NSW\, 2482
CATEGORIES:All,Events,Promotions,Weekly Activities
ATTACH;FMTTYPE=image/png:https://www.mullumexservices.com.au/wp-content/uploads/2025/10/MULLUM-WEEKLY-RAFFLES-WEB-EVENT-1920x1080px.png
END:VEVENT
BEGIN:VEVENT
DTSTART;TZID=Australia/Melbourne:20251120T110000
DTEND;TZID=Australia/Melbourne:20251120T140000
DTSTAMP:20260425T090859
CREATED:20230315T230710Z
LAST-MODIFIED:20251215T060641Z
UID:10002661-1763636400-1763647200@www.mullumexservices.com.au
SUMMARY:Bingo
DESCRIPTION:Dabble in a game of Bingo with friends at Mullum! \nJoin us for one (or all) of four sessions every week. Get settled with your coffee of choice from 10am\, ready for eyes down at 11am.
URL:https://www.mullumexservices.com.au/event/bingo/2025-11-20/
LOCATION:Mullumbimby Ex-Services Club\, 58 Dalley Street\, Mullumbimby\, NSW\, 2482
CATEGORIES:All,Weekly Activities
ATTACH;FMTTYPE=image/jpeg:https://www.mullumexservices.com.au/wp-content/uploads/2023/03/Whats-On_Sub-Pages.jpg
END:VEVENT
BEGIN:VEVENT
DTSTART;TZID=Australia/Melbourne:20251121T110000
DTEND;TZID=Australia/Melbourne:20251121T140000
DTSTAMP:20260425T090859
CREATED:20230315T230710Z
LAST-MODIFIED:20251215T060641Z
UID:10002662-1763722800-1763733600@www.mullumexservices.com.au
SUMMARY:Bingo
DESCRIPTION:Dabble in a game of Bingo with friends at Mullum! \nJoin us for one (or all) of four sessions every week. Get settled with your coffee of choice from 10am\, ready for eyes down at 11am.
URL:https://www.mullumexservices.com.au/event/bingo/2025-11-21/
LOCATION:Mullumbimby Ex-Services Club\, 58 Dalley Street\, Mullumbimby\, NSW\, 2482
CATEGORIES:All,Weekly Activities
ATTACH;FMTTYPE=image/jpeg:https://www.mullumexservices.com.au/wp-content/uploads/2023/03/Whats-On_Sub-Pages.jpg
END:VEVENT
BEGIN:VEVENT
DTSTART;TZID=Australia/Melbourne:20251121T170000
DTEND;TZID=Australia/Melbourne:20251121T180000
DTSTAMP:20260425T090859
CREATED:20240229T000823Z
LAST-MODIFIED:20260311T234708Z
UID:10011458-1763744400-1763748000@www.mullumexservices.com.au
SUMMARY:Friday Roast Raffles
DESCRIPTION:Join us for a night of great prize-winning fun! With Roast Trays to be won every Friday night\, you won’t want to miss this weekly event! \nTickets are on sale every Friday from 5pm\, with draws starting once all 100 tickets are sold. \n$5 for 1 Ticket\n$10 for 3 Tickets\n$20 for 6 Tickets \nMake sure to stick around for our regular Friday Raffles straight after!
URL:https://www.mullumexservices.com.au/event/friday-first-100-raffles-2/2025-11-21/
LOCATION:Mullumbimby Ex-Services Club\, 58 Dalley Street\, Mullumbimby\, NSW\, 2482
CATEGORIES:All,Promotions,Weekly Activities
ATTACH;FMTTYPE=image/png:https://www.mullumexservices.com.au/wp-content/uploads/2025/10/MULLUM-WEEKLY-RAFFLES-WEB-EVENT-1920x1080px.png
END:VEVENT
BEGIN:VEVENT
DTSTART;TZID=Australia/Melbourne:20251125T110000
DTEND;TZID=Australia/Melbourne:20251125T140000
DTSTAMP:20260425T090859
CREATED:20230315T230710Z
LAST-MODIFIED:20251215T060641Z
UID:10002663-1764068400-1764079200@www.mullumexservices.com.au
SUMMARY:Bingo
DESCRIPTION:Dabble in a game of Bingo with friends at Mullum! \nJoin us for one (or all) of four sessions every week. Get settled with your coffee of choice from 10am\, ready for eyes down at 11am.
URL:https://www.mullumexservices.com.au/event/bingo/2025-11-25/
LOCATION:Mullumbimby Ex-Services Club\, 58 Dalley Street\, Mullumbimby\, NSW\, 2482
CATEGORIES:All,Weekly Activities
ATTACH;FMTTYPE=image/jpeg:https://www.mullumexservices.com.au/wp-content/uploads/2023/03/Whats-On_Sub-Pages.jpg
END:VEVENT
BEGIN:VEVENT
DTSTART;TZID=Australia/Melbourne:20251126T110000
DTEND;TZID=Australia/Melbourne:20251126T140000
DTSTAMP:20260425T090859
CREATED:20230315T230710Z
LAST-MODIFIED:20251215T060641Z
UID:10002664-1764154800-1764165600@www.mullumexservices.com.au
SUMMARY:Bingo
DESCRIPTION:Dabble in a game of Bingo with friends at Mullum! \nJoin us for one (or all) of four sessions every week. Get settled with your coffee of choice from 10am\, ready for eyes down at 11am.
URL:https://www.mullumexservices.com.au/event/bingo/2025-11-26/
LOCATION:Mullumbimby Ex-Services Club\, 58 Dalley Street\, Mullumbimby\, NSW\, 2482
CATEGORIES:All,Weekly Activities
ATTACH;FMTTYPE=image/jpeg:https://www.mullumexservices.com.au/wp-content/uploads/2023/03/Whats-On_Sub-Pages.jpg
END:VEVENT
BEGIN:VEVENT
DTSTART;TZID=Australia/Melbourne:20251126T180000
DTEND;TZID=Australia/Melbourne:20251126T190000
DTSTAMP:20260425T090859
CREATED:20251017T013016Z
LAST-MODIFIED:20260311T234558Z
UID:10003286-1764180000-1764183600@www.mullumexservices.com.au
SUMMARY:Wednesday Raffles
DESCRIPTION:Join us for a night of great prize-winning fun! With Meat Trays and Gift Cards to be won every Wednesday night\, you won’t want to miss this weekly event! \nBe sure to come in and grab a feed and a drink before the draws begin! \nTickets are on sale every Wednesday from 6pm\, with draws starting at 7pm. \nWe have a number of meat trays and gift vouchers up for grabs
URL:https://www.mullumexservices.com.au/event/wednesday-raffles-2/2025-11-26/
LOCATION:Mullumbimby Ex-Services Club\, 58 Dalley Street\, Mullumbimby\, NSW\, 2482
CATEGORIES:All,Events,Promotions,Weekly Activities
ATTACH;FMTTYPE=image/png:https://www.mullumexservices.com.au/wp-content/uploads/2025/10/MULLUM-WEEKLY-RAFFLES-WEB-EVENT-1920x1080px.png
END:VEVENT
BEGIN:VEVENT
DTSTART;TZID=Australia/Melbourne:20251127T110000
DTEND;TZID=Australia/Melbourne:20251127T140000
DTSTAMP:20260425T090859
CREATED:20230315T230710Z
LAST-MODIFIED:20251215T060641Z
UID:10002665-1764241200-1764252000@www.mullumexservices.com.au
SUMMARY:Bingo
DESCRIPTION:Dabble in a game of Bingo with friends at Mullum! \nJoin us for one (or all) of four sessions every week. Get settled with your coffee of choice from 10am\, ready for eyes down at 11am.
URL:https://www.mullumexservices.com.au/event/bingo/2025-11-27/
LOCATION:Mullumbimby Ex-Services Club\, 58 Dalley Street\, Mullumbimby\, NSW\, 2482
CATEGORIES:All,Weekly Activities
ATTACH;FMTTYPE=image/jpeg:https://www.mullumexservices.com.au/wp-content/uploads/2023/03/Whats-On_Sub-Pages.jpg
END:VEVENT
BEGIN:VEVENT
DTSTART;TZID=Australia/Melbourne:20251128T110000
DTEND;TZID=Australia/Melbourne:20251128T140000
DTSTAMP:20260425T090859
CREATED:20230315T230710Z
LAST-MODIFIED:20251215T060641Z
UID:10002666-1764327600-1764338400@www.mullumexservices.com.au
SUMMARY:Bingo
DESCRIPTION:Dabble in a game of Bingo with friends at Mullum! \nJoin us for one (or all) of four sessions every week. Get settled with your coffee of choice from 10am\, ready for eyes down at 11am.
URL:https://www.mullumexservices.com.au/event/bingo/2025-11-28/
LOCATION:Mullumbimby Ex-Services Club\, 58 Dalley Street\, Mullumbimby\, NSW\, 2482
CATEGORIES:All,Weekly Activities
ATTACH;FMTTYPE=image/jpeg:https://www.mullumexservices.com.au/wp-content/uploads/2023/03/Whats-On_Sub-Pages.jpg
END:VEVENT
BEGIN:VEVENT
DTSTART;TZID=Australia/Melbourne:20251128T170000
DTEND;TZID=Australia/Melbourne:20251128T180000
DTSTAMP:20260425T090859
CREATED:20240229T000823Z
LAST-MODIFIED:20260311T234708Z
UID:10011459-1764349200-1764352800@www.mullumexservices.com.au
SUMMARY:Friday Roast Raffles
DESCRIPTION:Join us for a night of great prize-winning fun! With Roast Trays to be won every Friday night\, you won’t want to miss this weekly event! \nTickets are on sale every Friday from 5pm\, with draws starting once all 100 tickets are sold. \n$5 for 1 Ticket\n$10 for 3 Tickets\n$20 for 6 Tickets \nMake sure to stick around for our regular Friday Raffles straight after!
URL:https://www.mullumexservices.com.au/event/friday-first-100-raffles-2/2025-11-28/
LOCATION:Mullumbimby Ex-Services Club\, 58 Dalley Street\, Mullumbimby\, NSW\, 2482
CATEGORIES:All,Promotions,Weekly Activities
ATTACH;FMTTYPE=image/png:https://www.mullumexservices.com.au/wp-content/uploads/2025/10/MULLUM-WEEKLY-RAFFLES-WEB-EVENT-1920x1080px.png
END:VEVENT
END:VCALENDAR