BEGIN:VCALENDAR
VERSION:2.0
PRODID:-//Mullumbimby Ex-Services Club - ECPv6.15.17.1//NONSGML v1.0//EN
CALSCALE:GREGORIAN
METHOD:PUBLISH
X-WR-CALNAME:Mullumbimby Ex-Services Club
X-ORIGINAL-URL:https://www.mullumexservices.com.au
X-WR-CALDESC:Events for Mullumbimby Ex-Services Club
REFRESH-INTERVAL;VALUE=DURATION:PT1H
X-Robots-Tag:noindex
X-PUBLISHED-TTL:PT1H
BEGIN:VTIMEZONE
TZID:Australia/Melbourne
BEGIN:STANDARD
TZOFFSETFROM:+1100
TZOFFSETTO:+1000
TZNAME:AEST
DTSTART:20240406T160000
END:STANDARD
BEGIN:DAYLIGHT
TZOFFSETFROM:+1000
TZOFFSETTO:+1100
TZNAME:AEDT
DTSTART:20241005T160000
END:DAYLIGHT
BEGIN:STANDARD
TZOFFSETFROM:+1100
TZOFFSETTO:+1000
TZNAME:AEST
DTSTART:20250405T160000
END:STANDARD
BEGIN:DAYLIGHT
TZOFFSETFROM:+1000
TZOFFSETTO:+1100
TZNAME:AEDT
DTSTART:20251004T160000
END:DAYLIGHT
BEGIN:STANDARD
TZOFFSETFROM:+1100
TZOFFSETTO:+1000
TZNAME:AEST
DTSTART:20260404T160000
END:STANDARD
BEGIN:DAYLIGHT
TZOFFSETFROM:+1000
TZOFFSETTO:+1100
TZNAME:AEDT
DTSTART:20261003T160000
END:DAYLIGHT
END:VTIMEZONE
BEGIN:VEVENT
DTSTART;TZID=Australia/Melbourne:20250801T110000
DTEND;TZID=Australia/Melbourne:20250801T140000
DTSTAMP:20260426T073922
CREATED:20230315T230710Z
LAST-MODIFIED:20251215T060641Z
UID:10002598-1754046000-1754056800@www.mullumexservices.com.au
SUMMARY:Bingo
DESCRIPTION:Dabble in a game of Bingo with friends at Mullum! \nJoin us for one (or all) of four sessions every week. Get settled with your coffee of choice from 10am\, ready for eyes down at 11am.
URL:https://www.mullumexservices.com.au/event/bingo/2025-08-01/
LOCATION:Mullumbimby Ex-Services Club\, 58 Dalley Street\, Mullumbimby\, NSW\, 2482
CATEGORIES:All,Weekly Activities
ATTACH;FMTTYPE=image/jpeg:https://www.mullumexservices.com.au/wp-content/uploads/2023/03/Whats-On_Sub-Pages.jpg
END:VEVENT
BEGIN:VEVENT
DTSTART;TZID=Australia/Melbourne:20250801T170000
DTEND;TZID=Australia/Melbourne:20250801T180000
DTSTAMP:20260426T073922
CREATED:20240229T000823Z
LAST-MODIFIED:20260311T234708Z
UID:10011442-1754067600-1754071200@www.mullumexservices.com.au
SUMMARY:Friday Roast Raffles
DESCRIPTION:Join us for a night of great prize-winning fun! With Roast Trays to be won every Friday night\, you won’t want to miss this weekly event! \nTickets are on sale every Friday from 5pm\, with draws starting once all 100 tickets are sold. \n$5 for 1 Ticket\n$10 for 3 Tickets\n$20 for 6 Tickets \nMake sure to stick around for our regular Friday Raffles straight after!
URL:https://www.mullumexservices.com.au/event/friday-first-100-raffles-2/2025-08-01/
LOCATION:Mullumbimby Ex-Services Club\, 58 Dalley Street\, Mullumbimby\, NSW\, 2482
CATEGORIES:All,Promotions,Weekly Activities
ATTACH;FMTTYPE=image/png:https://www.mullumexservices.com.au/wp-content/uploads/2025/10/MULLUM-WEEKLY-RAFFLES-WEB-EVENT-1920x1080px.png
END:VEVENT
BEGIN:VEVENT
DTSTART;TZID=Australia/Melbourne:20250805T110000
DTEND;TZID=Australia/Melbourne:20250805T140000
DTSTAMP:20260426T073922
CREATED:20230315T230710Z
LAST-MODIFIED:20251215T060641Z
UID:10002599-1754391600-1754402400@www.mullumexservices.com.au
SUMMARY:Bingo
DESCRIPTION:Dabble in a game of Bingo with friends at Mullum! \nJoin us for one (or all) of four sessions every week. Get settled with your coffee of choice from 10am\, ready for eyes down at 11am.
URL:https://www.mullumexservices.com.au/event/bingo/2025-08-05/
LOCATION:Mullumbimby Ex-Services Club\, 58 Dalley Street\, Mullumbimby\, NSW\, 2482
CATEGORIES:All,Weekly Activities
ATTACH;FMTTYPE=image/jpeg:https://www.mullumexservices.com.au/wp-content/uploads/2023/03/Whats-On_Sub-Pages.jpg
END:VEVENT
BEGIN:VEVENT
DTSTART;TZID=Australia/Melbourne:20250806T110000
DTEND;TZID=Australia/Melbourne:20250806T140000
DTSTAMP:20260426T073922
CREATED:20230315T230710Z
LAST-MODIFIED:20251215T060641Z
UID:10002600-1754478000-1754488800@www.mullumexservices.com.au
SUMMARY:Bingo
DESCRIPTION:Dabble in a game of Bingo with friends at Mullum! \nJoin us for one (or all) of four sessions every week. Get settled with your coffee of choice from 10am\, ready for eyes down at 11am.
URL:https://www.mullumexservices.com.au/event/bingo/2025-08-06/
LOCATION:Mullumbimby Ex-Services Club\, 58 Dalley Street\, Mullumbimby\, NSW\, 2482
CATEGORIES:All,Weekly Activities
ATTACH;FMTTYPE=image/jpeg:https://www.mullumexservices.com.au/wp-content/uploads/2023/03/Whats-On_Sub-Pages.jpg
END:VEVENT
BEGIN:VEVENT
DTSTART;TZID=Australia/Melbourne:20250806T180000
DTEND;TZID=Australia/Melbourne:20250806T190000
DTSTAMP:20260426T073922
CREATED:20230315T231200Z
LAST-MODIFIED:20240528T223801Z
UID:10003270-1754503200-1754506800@www.mullumexservices.com.au
SUMMARY:Wednesday Raffles
DESCRIPTION:Join us for a night of great prize-winning fun! With meat trays and Gift Cards to be won every Wednesday night\, you won’t want to miss this weekly event! \nBe sure to come in and grab a feed and a drink before the draws begin! \nTickets are on sale every Wednesday from 6pm\, with draws starting at 7pm. \nWe have a number of meat trays and gift vouchers up for grabs: \n10 x $30 meat trays\n10 x $30 gift cards \nClick here to book a table.
URL:https://www.mullumexservices.com.au/event/wednesday-raffles/2025-08-06/
LOCATION:Mullumbimby Ex-Services Club\, 58 Dalley Street\, Mullumbimby\, NSW\, 2482
CATEGORIES:All,Weekly Activities
ATTACH;FMTTYPE=image/jpeg:https://www.mullumexservices.com.au/wp-content/uploads/2023/03/Club-Info-1.jpg
END:VEVENT
BEGIN:VEVENT
DTSTART;TZID=Australia/Melbourne:20250807T110000
DTEND;TZID=Australia/Melbourne:20250807T140000
DTSTAMP:20260426T073922
CREATED:20230315T230710Z
LAST-MODIFIED:20251215T060641Z
UID:10002601-1754564400-1754575200@www.mullumexservices.com.au
SUMMARY:Bingo
DESCRIPTION:Dabble in a game of Bingo with friends at Mullum! \nJoin us for one (or all) of four sessions every week. Get settled with your coffee of choice from 10am\, ready for eyes down at 11am.
URL:https://www.mullumexservices.com.au/event/bingo/2025-08-07/
LOCATION:Mullumbimby Ex-Services Club\, 58 Dalley Street\, Mullumbimby\, NSW\, 2482
CATEGORIES:All,Weekly Activities
ATTACH;FMTTYPE=image/jpeg:https://www.mullumexservices.com.au/wp-content/uploads/2023/03/Whats-On_Sub-Pages.jpg
END:VEVENT
BEGIN:VEVENT
DTSTART;TZID=Australia/Melbourne:20250808T110000
DTEND;TZID=Australia/Melbourne:20250808T140000
DTSTAMP:20260426T073922
CREATED:20230315T230710Z
LAST-MODIFIED:20251215T060641Z
UID:10002602-1754650800-1754661600@www.mullumexservices.com.au
SUMMARY:Bingo
DESCRIPTION:Dabble in a game of Bingo with friends at Mullum! \nJoin us for one (or all) of four sessions every week. Get settled with your coffee of choice from 10am\, ready for eyes down at 11am.
URL:https://www.mullumexservices.com.au/event/bingo/2025-08-08/
LOCATION:Mullumbimby Ex-Services Club\, 58 Dalley Street\, Mullumbimby\, NSW\, 2482
CATEGORIES:All,Weekly Activities
ATTACH;FMTTYPE=image/jpeg:https://www.mullumexservices.com.au/wp-content/uploads/2023/03/Whats-On_Sub-Pages.jpg
END:VEVENT
BEGIN:VEVENT
DTSTART;TZID=Australia/Melbourne:20250808T170000
DTEND;TZID=Australia/Melbourne:20250808T180000
DTSTAMP:20260426T073922
CREATED:20240229T000823Z
LAST-MODIFIED:20260311T234708Z
UID:10011443-1754672400-1754676000@www.mullumexservices.com.au
SUMMARY:Friday Roast Raffles
DESCRIPTION:Join us for a night of great prize-winning fun! With Roast Trays to be won every Friday night\, you won’t want to miss this weekly event! \nTickets are on sale every Friday from 5pm\, with draws starting once all 100 tickets are sold. \n$5 for 1 Ticket\n$10 for 3 Tickets\n$20 for 6 Tickets \nMake sure to stick around for our regular Friday Raffles straight after!
URL:https://www.mullumexservices.com.au/event/friday-first-100-raffles-2/2025-08-08/
LOCATION:Mullumbimby Ex-Services Club\, 58 Dalley Street\, Mullumbimby\, NSW\, 2482
CATEGORIES:All,Promotions,Weekly Activities
ATTACH;FMTTYPE=image/png:https://www.mullumexservices.com.au/wp-content/uploads/2025/10/MULLUM-WEEKLY-RAFFLES-WEB-EVENT-1920x1080px.png
END:VEVENT
BEGIN:VEVENT
DTSTART;TZID=Australia/Melbourne:20250812T110000
DTEND;TZID=Australia/Melbourne:20250812T140000
DTSTAMP:20260426T073922
CREATED:20230315T230710Z
LAST-MODIFIED:20251215T060641Z
UID:10002603-1754996400-1755007200@www.mullumexservices.com.au
SUMMARY:Bingo
DESCRIPTION:Dabble in a game of Bingo with friends at Mullum! \nJoin us for one (or all) of four sessions every week. Get settled with your coffee of choice from 10am\, ready for eyes down at 11am.
URL:https://www.mullumexservices.com.au/event/bingo/2025-08-12/
LOCATION:Mullumbimby Ex-Services Club\, 58 Dalley Street\, Mullumbimby\, NSW\, 2482
CATEGORIES:All,Weekly Activities
ATTACH;FMTTYPE=image/jpeg:https://www.mullumexservices.com.au/wp-content/uploads/2023/03/Whats-On_Sub-Pages.jpg
END:VEVENT
BEGIN:VEVENT
DTSTART;TZID=Australia/Melbourne:20250813T110000
DTEND;TZID=Australia/Melbourne:20250813T140000
DTSTAMP:20260426T073922
CREATED:20230315T230710Z
LAST-MODIFIED:20251215T060641Z
UID:10002604-1755082800-1755093600@www.mullumexservices.com.au
SUMMARY:Bingo
DESCRIPTION:Dabble in a game of Bingo with friends at Mullum! \nJoin us for one (or all) of four sessions every week. Get settled with your coffee of choice from 10am\, ready for eyes down at 11am.
URL:https://www.mullumexservices.com.au/event/bingo/2025-08-13/
LOCATION:Mullumbimby Ex-Services Club\, 58 Dalley Street\, Mullumbimby\, NSW\, 2482
CATEGORIES:All,Weekly Activities
ATTACH;FMTTYPE=image/jpeg:https://www.mullumexservices.com.au/wp-content/uploads/2023/03/Whats-On_Sub-Pages.jpg
END:VEVENT
BEGIN:VEVENT
DTSTART;TZID=Australia/Melbourne:20250813T180000
DTEND;TZID=Australia/Melbourne:20250813T190000
DTSTAMP:20260426T073922
CREATED:20230315T231200Z
LAST-MODIFIED:20240528T223801Z
UID:10003271-1755108000-1755111600@www.mullumexservices.com.au
SUMMARY:Wednesday Raffles
DESCRIPTION:Join us for a night of great prize-winning fun! With meat trays and Gift Cards to be won every Wednesday night\, you won’t want to miss this weekly event! \nBe sure to come in and grab a feed and a drink before the draws begin! \nTickets are on sale every Wednesday from 6pm\, with draws starting at 7pm. \nWe have a number of meat trays and gift vouchers up for grabs: \n10 x $30 meat trays\n10 x $30 gift cards \nClick here to book a table.
URL:https://www.mullumexservices.com.au/event/wednesday-raffles/2025-08-13/
LOCATION:Mullumbimby Ex-Services Club\, 58 Dalley Street\, Mullumbimby\, NSW\, 2482
CATEGORIES:All,Weekly Activities
ATTACH;FMTTYPE=image/jpeg:https://www.mullumexservices.com.au/wp-content/uploads/2023/03/Club-Info-1.jpg
END:VEVENT
BEGIN:VEVENT
DTSTART;TZID=Australia/Melbourne:20250814T110000
DTEND;TZID=Australia/Melbourne:20250814T140000
DTSTAMP:20260426T073922
CREATED:20230315T230710Z
LAST-MODIFIED:20251215T060641Z
UID:10002605-1755169200-1755180000@www.mullumexservices.com.au
SUMMARY:Bingo
DESCRIPTION:Dabble in a game of Bingo with friends at Mullum! \nJoin us for one (or all) of four sessions every week. Get settled with your coffee of choice from 10am\, ready for eyes down at 11am.
URL:https://www.mullumexservices.com.au/event/bingo/2025-08-14/
LOCATION:Mullumbimby Ex-Services Club\, 58 Dalley Street\, Mullumbimby\, NSW\, 2482
CATEGORIES:All,Weekly Activities
ATTACH;FMTTYPE=image/jpeg:https://www.mullumexservices.com.au/wp-content/uploads/2023/03/Whats-On_Sub-Pages.jpg
END:VEVENT
BEGIN:VEVENT
DTSTART;TZID=Australia/Melbourne:20250815T110000
DTEND;TZID=Australia/Melbourne:20250815T140000
DTSTAMP:20260426T073922
CREATED:20230315T230710Z
LAST-MODIFIED:20251215T060641Z
UID:10002606-1755255600-1755266400@www.mullumexservices.com.au
SUMMARY:Bingo
DESCRIPTION:Dabble in a game of Bingo with friends at Mullum! \nJoin us for one (or all) of four sessions every week. Get settled with your coffee of choice from 10am\, ready for eyes down at 11am.
URL:https://www.mullumexservices.com.au/event/bingo/2025-08-15/
LOCATION:Mullumbimby Ex-Services Club\, 58 Dalley Street\, Mullumbimby\, NSW\, 2482
CATEGORIES:All,Weekly Activities
ATTACH;FMTTYPE=image/jpeg:https://www.mullumexservices.com.au/wp-content/uploads/2023/03/Whats-On_Sub-Pages.jpg
END:VEVENT
BEGIN:VEVENT
DTSTART;TZID=Australia/Melbourne:20250815T170000
DTEND;TZID=Australia/Melbourne:20250815T180000
DTSTAMP:20260426T073922
CREATED:20240229T000823Z
LAST-MODIFIED:20260311T234708Z
UID:10011444-1755277200-1755280800@www.mullumexservices.com.au
SUMMARY:Friday Roast Raffles
DESCRIPTION:Join us for a night of great prize-winning fun! With Roast Trays to be won every Friday night\, you won’t want to miss this weekly event! \nTickets are on sale every Friday from 5pm\, with draws starting once all 100 tickets are sold. \n$5 for 1 Ticket\n$10 for 3 Tickets\n$20 for 6 Tickets \nMake sure to stick around for our regular Friday Raffles straight after!
URL:https://www.mullumexservices.com.au/event/friday-first-100-raffles-2/2025-08-15/
LOCATION:Mullumbimby Ex-Services Club\, 58 Dalley Street\, Mullumbimby\, NSW\, 2482
CATEGORIES:All,Promotions,Weekly Activities
ATTACH;FMTTYPE=image/png:https://www.mullumexservices.com.au/wp-content/uploads/2025/10/MULLUM-WEEKLY-RAFFLES-WEB-EVENT-1920x1080px.png
END:VEVENT
BEGIN:VEVENT
DTSTART;TZID=Australia/Melbourne:20250819T110000
DTEND;TZID=Australia/Melbourne:20250819T140000
DTSTAMP:20260426T073922
CREATED:20230315T230710Z
LAST-MODIFIED:20251215T060641Z
UID:10002607-1755601200-1755612000@www.mullumexservices.com.au
SUMMARY:Bingo
DESCRIPTION:Dabble in a game of Bingo with friends at Mullum! \nJoin us for one (or all) of four sessions every week. Get settled with your coffee of choice from 10am\, ready for eyes down at 11am.
URL:https://www.mullumexservices.com.au/event/bingo/2025-08-19/
LOCATION:Mullumbimby Ex-Services Club\, 58 Dalley Street\, Mullumbimby\, NSW\, 2482
CATEGORIES:All,Weekly Activities
ATTACH;FMTTYPE=image/jpeg:https://www.mullumexservices.com.au/wp-content/uploads/2023/03/Whats-On_Sub-Pages.jpg
END:VEVENT
BEGIN:VEVENT
DTSTART;TZID=Australia/Melbourne:20250820T110000
DTEND;TZID=Australia/Melbourne:20250820T140000
DTSTAMP:20260426T073922
CREATED:20230315T230710Z
LAST-MODIFIED:20251215T060641Z
UID:10002608-1755687600-1755698400@www.mullumexservices.com.au
SUMMARY:Bingo
DESCRIPTION:Dabble in a game of Bingo with friends at Mullum! \nJoin us for one (or all) of four sessions every week. Get settled with your coffee of choice from 10am\, ready for eyes down at 11am.
URL:https://www.mullumexservices.com.au/event/bingo/2025-08-20/
LOCATION:Mullumbimby Ex-Services Club\, 58 Dalley Street\, Mullumbimby\, NSW\, 2482
CATEGORIES:All,Weekly Activities
ATTACH;FMTTYPE=image/jpeg:https://www.mullumexservices.com.au/wp-content/uploads/2023/03/Whats-On_Sub-Pages.jpg
END:VEVENT
BEGIN:VEVENT
DTSTART;TZID=Australia/Melbourne:20250820T180000
DTEND;TZID=Australia/Melbourne:20250820T190000
DTSTAMP:20260426T073922
CREATED:20230315T231200Z
LAST-MODIFIED:20240528T223801Z
UID:10003272-1755712800-1755716400@www.mullumexservices.com.au
SUMMARY:Wednesday Raffles
DESCRIPTION:Join us for a night of great prize-winning fun! With meat trays and Gift Cards to be won every Wednesday night\, you won’t want to miss this weekly event! \nBe sure to come in and grab a feed and a drink before the draws begin! \nTickets are on sale every Wednesday from 6pm\, with draws starting at 7pm. \nWe have a number of meat trays and gift vouchers up for grabs: \n10 x $30 meat trays\n10 x $30 gift cards \nClick here to book a table.
URL:https://www.mullumexservices.com.au/event/wednesday-raffles/2025-08-20/
LOCATION:Mullumbimby Ex-Services Club\, 58 Dalley Street\, Mullumbimby\, NSW\, 2482
CATEGORIES:All,Weekly Activities
ATTACH;FMTTYPE=image/jpeg:https://www.mullumexservices.com.au/wp-content/uploads/2023/03/Club-Info-1.jpg
END:VEVENT
BEGIN:VEVENT
DTSTART;TZID=Australia/Melbourne:20250821T110000
DTEND;TZID=Australia/Melbourne:20250821T140000
DTSTAMP:20260426T073922
CREATED:20230315T230710Z
LAST-MODIFIED:20251215T060641Z
UID:10002609-1755774000-1755784800@www.mullumexservices.com.au
SUMMARY:Bingo
DESCRIPTION:Dabble in a game of Bingo with friends at Mullum! \nJoin us for one (or all) of four sessions every week. Get settled with your coffee of choice from 10am\, ready for eyes down at 11am.
URL:https://www.mullumexservices.com.au/event/bingo/2025-08-21/
LOCATION:Mullumbimby Ex-Services Club\, 58 Dalley Street\, Mullumbimby\, NSW\, 2482
CATEGORIES:All,Weekly Activities
ATTACH;FMTTYPE=image/jpeg:https://www.mullumexservices.com.au/wp-content/uploads/2023/03/Whats-On_Sub-Pages.jpg
END:VEVENT
BEGIN:VEVENT
DTSTART;TZID=Australia/Melbourne:20250822T110000
DTEND;TZID=Australia/Melbourne:20250822T140000
DTSTAMP:20260426T073922
CREATED:20230315T230710Z
LAST-MODIFIED:20251215T060641Z
UID:10002610-1755860400-1755871200@www.mullumexservices.com.au
SUMMARY:Bingo
DESCRIPTION:Dabble in a game of Bingo with friends at Mullum! \nJoin us for one (or all) of four sessions every week. Get settled with your coffee of choice from 10am\, ready for eyes down at 11am.
URL:https://www.mullumexservices.com.au/event/bingo/2025-08-22/
LOCATION:Mullumbimby Ex-Services Club\, 58 Dalley Street\, Mullumbimby\, NSW\, 2482
CATEGORIES:All,Weekly Activities
ATTACH;FMTTYPE=image/jpeg:https://www.mullumexservices.com.au/wp-content/uploads/2023/03/Whats-On_Sub-Pages.jpg
END:VEVENT
BEGIN:VEVENT
DTSTART;TZID=Australia/Melbourne:20250822T170000
DTEND;TZID=Australia/Melbourne:20250822T180000
DTSTAMP:20260426T073922
CREATED:20240229T000823Z
LAST-MODIFIED:20260311T234708Z
UID:10011445-1755882000-1755885600@www.mullumexservices.com.au
SUMMARY:Friday Roast Raffles
DESCRIPTION:Join us for a night of great prize-winning fun! With Roast Trays to be won every Friday night\, you won’t want to miss this weekly event! \nTickets are on sale every Friday from 5pm\, with draws starting once all 100 tickets are sold. \n$5 for 1 Ticket\n$10 for 3 Tickets\n$20 for 6 Tickets \nMake sure to stick around for our regular Friday Raffles straight after!
URL:https://www.mullumexservices.com.au/event/friday-first-100-raffles-2/2025-08-22/
LOCATION:Mullumbimby Ex-Services Club\, 58 Dalley Street\, Mullumbimby\, NSW\, 2482
CATEGORIES:All,Promotions,Weekly Activities
ATTACH;FMTTYPE=image/png:https://www.mullumexservices.com.au/wp-content/uploads/2025/10/MULLUM-WEEKLY-RAFFLES-WEB-EVENT-1920x1080px.png
END:VEVENT
BEGIN:VEVENT
DTSTART;TZID=Australia/Melbourne:20250826T110000
DTEND;TZID=Australia/Melbourne:20250826T140000
DTSTAMP:20260426T073922
CREATED:20230315T230710Z
LAST-MODIFIED:20251215T060641Z
UID:10002611-1756206000-1756216800@www.mullumexservices.com.au
SUMMARY:Bingo
DESCRIPTION:Dabble in a game of Bingo with friends at Mullum! \nJoin us for one (or all) of four sessions every week. Get settled with your coffee of choice from 10am\, ready for eyes down at 11am.
URL:https://www.mullumexservices.com.au/event/bingo/2025-08-26/
LOCATION:Mullumbimby Ex-Services Club\, 58 Dalley Street\, Mullumbimby\, NSW\, 2482
CATEGORIES:All,Weekly Activities
ATTACH;FMTTYPE=image/jpeg:https://www.mullumexservices.com.au/wp-content/uploads/2023/03/Whats-On_Sub-Pages.jpg
END:VEVENT
BEGIN:VEVENT
DTSTART;TZID=Australia/Melbourne:20250827T110000
DTEND;TZID=Australia/Melbourne:20250827T140000
DTSTAMP:20260426T073922
CREATED:20230315T230710Z
LAST-MODIFIED:20251215T060641Z
UID:10002612-1756292400-1756303200@www.mullumexservices.com.au
SUMMARY:Bingo
DESCRIPTION:Dabble in a game of Bingo with friends at Mullum! \nJoin us for one (or all) of four sessions every week. Get settled with your coffee of choice from 10am\, ready for eyes down at 11am.
URL:https://www.mullumexservices.com.au/event/bingo/2025-08-27/
LOCATION:Mullumbimby Ex-Services Club\, 58 Dalley Street\, Mullumbimby\, NSW\, 2482
CATEGORIES:All,Weekly Activities
ATTACH;FMTTYPE=image/jpeg:https://www.mullumexservices.com.au/wp-content/uploads/2023/03/Whats-On_Sub-Pages.jpg
END:VEVENT
BEGIN:VEVENT
DTSTART;TZID=Australia/Melbourne:20250827T180000
DTEND;TZID=Australia/Melbourne:20250827T190000
DTSTAMP:20260426T073922
CREATED:20230315T231200Z
LAST-MODIFIED:20240528T223801Z
UID:10003273-1756317600-1756321200@www.mullumexservices.com.au
SUMMARY:Wednesday Raffles
DESCRIPTION:Join us for a night of great prize-winning fun! With meat trays and Gift Cards to be won every Wednesday night\, you won’t want to miss this weekly event! \nBe sure to come in and grab a feed and a drink before the draws begin! \nTickets are on sale every Wednesday from 6pm\, with draws starting at 7pm. \nWe have a number of meat trays and gift vouchers up for grabs: \n10 x $30 meat trays\n10 x $30 gift cards \nClick here to book a table.
URL:https://www.mullumexservices.com.au/event/wednesday-raffles/2025-08-27/
LOCATION:Mullumbimby Ex-Services Club\, 58 Dalley Street\, Mullumbimby\, NSW\, 2482
CATEGORIES:All,Weekly Activities
ATTACH;FMTTYPE=image/jpeg:https://www.mullumexservices.com.au/wp-content/uploads/2023/03/Club-Info-1.jpg
END:VEVENT
BEGIN:VEVENT
DTSTART;TZID=Australia/Melbourne:20250828T110000
DTEND;TZID=Australia/Melbourne:20250828T140000
DTSTAMP:20260426T073922
CREATED:20230315T230710Z
LAST-MODIFIED:20251215T060641Z
UID:10002613-1756378800-1756389600@www.mullumexservices.com.au
SUMMARY:Bingo
DESCRIPTION:Dabble in a game of Bingo with friends at Mullum! \nJoin us for one (or all) of four sessions every week. Get settled with your coffee of choice from 10am\, ready for eyes down at 11am.
URL:https://www.mullumexservices.com.au/event/bingo/2025-08-28/
LOCATION:Mullumbimby Ex-Services Club\, 58 Dalley Street\, Mullumbimby\, NSW\, 2482
CATEGORIES:All,Weekly Activities
ATTACH;FMTTYPE=image/jpeg:https://www.mullumexservices.com.au/wp-content/uploads/2023/03/Whats-On_Sub-Pages.jpg
END:VEVENT
BEGIN:VEVENT
DTSTART;TZID=Australia/Melbourne:20250829T110000
DTEND;TZID=Australia/Melbourne:20250829T140000
DTSTAMP:20260426T073922
CREATED:20230315T230710Z
LAST-MODIFIED:20251215T060641Z
UID:10002614-1756465200-1756476000@www.mullumexservices.com.au
SUMMARY:Bingo
DESCRIPTION:Dabble in a game of Bingo with friends at Mullum! \nJoin us for one (or all) of four sessions every week. Get settled with your coffee of choice from 10am\, ready for eyes down at 11am.
URL:https://www.mullumexservices.com.au/event/bingo/2025-08-29/
LOCATION:Mullumbimby Ex-Services Club\, 58 Dalley Street\, Mullumbimby\, NSW\, 2482
CATEGORIES:All,Weekly Activities
ATTACH;FMTTYPE=image/jpeg:https://www.mullumexservices.com.au/wp-content/uploads/2023/03/Whats-On_Sub-Pages.jpg
END:VEVENT
BEGIN:VEVENT
DTSTART;TZID=Australia/Melbourne:20250829T170000
DTEND;TZID=Australia/Melbourne:20250829T180000
DTSTAMP:20260426T073922
CREATED:20240229T000823Z
LAST-MODIFIED:20260311T234708Z
UID:10011446-1756486800-1756490400@www.mullumexservices.com.au
SUMMARY:Friday Roast Raffles
DESCRIPTION:Join us for a night of great prize-winning fun! With Roast Trays to be won every Friday night\, you won’t want to miss this weekly event! \nTickets are on sale every Friday from 5pm\, with draws starting once all 100 tickets are sold. \n$5 for 1 Ticket\n$10 for 3 Tickets\n$20 for 6 Tickets \nMake sure to stick around for our regular Friday Raffles straight after!
URL:https://www.mullumexservices.com.au/event/friday-first-100-raffles-2/2025-08-29/
LOCATION:Mullumbimby Ex-Services Club\, 58 Dalley Street\, Mullumbimby\, NSW\, 2482
CATEGORIES:All,Promotions,Weekly Activities
ATTACH;FMTTYPE=image/png:https://www.mullumexservices.com.au/wp-content/uploads/2025/10/MULLUM-WEEKLY-RAFFLES-WEB-EVENT-1920x1080px.png
END:VEVENT
END:VCALENDAR