BEGIN:VCALENDAR
VERSION:2.0
PRODID:-//Mullumbimby Ex-Services Club - ECPv6.15.17.1//NONSGML v1.0//EN
CALSCALE:GREGORIAN
METHOD:PUBLISH
X-ORIGINAL-URL:https://www.mullumexservices.com.au
X-WR-CALDESC:Events for Mullumbimby Ex-Services Club
REFRESH-INTERVAL;VALUE=DURATION:PT1H
X-Robots-Tag:noindex
X-PUBLISHED-TTL:PT1H
BEGIN:VTIMEZONE
TZID:Australia/Sydney
BEGIN:STANDARD
TZOFFSETFROM:+1100
TZOFFSETTO:+1000
TZNAME:AEST
DTSTART:20280401T160000
END:STANDARD
BEGIN:DAYLIGHT
TZOFFSETFROM:+1000
TZOFFSETTO:+1100
TZNAME:AEDT
DTSTART:20280930T160000
END:DAYLIGHT
BEGIN:STANDARD
TZOFFSETFROM:+1100
TZOFFSETTO:+1000
TZNAME:AEST
DTSTART:20290331T160000
END:STANDARD
BEGIN:DAYLIGHT
TZOFFSETFROM:+1000
TZOFFSETTO:+1100
TZNAME:AEDT
DTSTART:20291006T160000
END:DAYLIGHT
BEGIN:STANDARD
TZOFFSETFROM:+1100
TZOFFSETTO:+1000
TZNAME:AEST
DTSTART:20300406T160000
END:STANDARD
BEGIN:DAYLIGHT
TZOFFSETFROM:+1000
TZOFFSETTO:+1100
TZNAME:AEDT
DTSTART:20301005T160000
END:DAYLIGHT
END:VTIMEZONE
BEGIN:VTIMEZONE
TZID:Australia/Melbourne
BEGIN:STANDARD
TZOFFSETFROM:+1100
TZOFFSETTO:+1000
TZNAME:AEST
DTSTART:20280401T160000
END:STANDARD
BEGIN:DAYLIGHT
TZOFFSETFROM:+1000
TZOFFSETTO:+1100
TZNAME:AEDT
DTSTART:20280930T160000
END:DAYLIGHT
BEGIN:STANDARD
TZOFFSETFROM:+1100
TZOFFSETTO:+1000
TZNAME:AEST
DTSTART:20290331T160000
END:STANDARD
BEGIN:DAYLIGHT
TZOFFSETFROM:+1000
TZOFFSETTO:+1100
TZNAME:AEDT
DTSTART:20291006T160000
END:DAYLIGHT
BEGIN:STANDARD
TZOFFSETFROM:+1100
TZOFFSETTO:+1000
TZNAME:AEST
DTSTART:20300406T160000
END:STANDARD
BEGIN:DAYLIGHT
TZOFFSETFROM:+1000
TZOFFSETTO:+1100
TZNAME:AEDT
DTSTART:20301005T160000
END:DAYLIGHT
END:VTIMEZONE
BEGIN:VEVENT
DTSTART;TZID=Australia/Sydney:20290531T170000
DTEND;TZID=Australia/Sydney:20290531T210000
DTSTAMP:20260423T193509
CREATED:20250814T011015Z
LAST-MODIFIED:20260113T053715Z
UID:10011195-1874941200-1874955600@www.mullumexservices.com.au
SUMMARY:Thursday Curry Night
DESCRIPTION:Join us at Mullum for our Thursday Curry Night Specials! \nBookings are recommended\, please call us on 02 6684 2533. \n*Terms & Conditions Apply. Drink Responsibly.
URL:https://www.mullumexservices.com.au/event/thursday-curry-night/2029-05-31/
LOCATION:Mullumbimby Ex-Services Club\, 58 Dalley Street\, Mullumbimby\, NSW\, 2482
CATEGORIES:All,Meal specials,Specials
ATTACH;FMTTYPE=image/png:https://www.mullumexservices.com.au/wp-content/uploads/2025/08/EVENT-FEATURED-IMAGE.png
END:VEVENT
BEGIN:VEVENT
DTSTART;TZID=Australia/Melbourne:20290601T120000
DTEND;TZID=Australia/Melbourne:20290601T140000
DTSTAMP:20260423T193509
CREATED:20260204T230645Z
LAST-MODIFIED:20260302T013237Z
UID:10009835-1875009600-1875016800@www.mullumexservices.com.au
SUMMARY:Daily Lunch Special
DESCRIPTION:Visit Mullum Ex-Services Club for lunch and take advantage of our daily lunch specials!! \nSpecial available Monday to Friday for lunch service (12pm – 2pm). \nBookings are highly recommended! Call the club on (02) 6684 2533 to book. T&C’s Apply. \n 
URL:https://www.mullumexservices.com.au/event/lunch-deals-3/2029-06-01/
LOCATION:Mullumbimby Ex-Services Club\, 58 Dalley Street\, Mullumbimby\, NSW\, 2482
CATEGORIES:All,Meal specials,Members only,Specials
ATTACH;FMTTYPE=image/jpeg:https://www.mullumexservices.com.au/wp-content/uploads/2026/02/13-lunch-specials-tvs.jpg
END:VEVENT
BEGIN:VEVENT
DTSTART;TZID=Australia/Sydney:20290602T170000
DTEND;TZID=Australia/Sydney:20290602T210000
DTSTAMP:20260423T193509
CREATED:20260204T231856Z
LAST-MODIFIED:20260204T231909Z
UID:10010850-1875114000-1875128400@www.mullumexservices.com.au
SUMMARY:Saturday Night Meal Offer
DESCRIPTION:Join us at Mullum for our $25* Saturday Night Meal Offer! \nSURF & TURF PARMIGIANA\nCrumbed chicken schnitzel topped with creamy garlic sauce. mozzarella and prawns. Served with chips and salad. \nCRUSTED PEPPER PORK SCOTCH FILLETS\nPepper-crusted pork scotch fillets topped with creamy garlic prawn with a side of creamy pepper sauce. Served with chips and salad. \nAvailable every Saturday for dinner (from 5:30pm). \n$25 M | $27 NM \nBookings are recommended\, please call us on 02 6684 2533. \n*Terms & Conditions Apply. Drink Responsibly.
URL:https://www.mullumexservices.com.au/event/saturday-night-meal-offer-2/2029-06-02/
LOCATION:Mullumbimby Ex-Services Club\, 58 Dalley Street\, Mullumbimby\, NSW\, 2482
CATEGORIES:All,Meal specials,Specials
ATTACH;FMTTYPE=image/png:https://www.mullumexservices.com.au/wp-content/uploads/2025/08/SATURDAY-FEATURE.png
END:VEVENT
BEGIN:VEVENT
DTSTART;TZID=Australia/Melbourne:20290603T120000
DTEND;TZID=Australia/Melbourne:20290603T210000
DTSTAMP:20260423T193509
CREATED:20231214T000049Z
LAST-MODIFIED:20240912T225038Z
UID:10009636-1875182400-1875214800@www.mullumexservices.com.au
SUMMARY:Sunday Roast Special
DESCRIPTION:Join us at Mullum for our Sunday Roast Special! \nEnjoy a hearty Sunday roast starting from just $16*! \nAvailable every Sunday for lunch (12pm – 2pm) and dinner (from 5:30pm). \n$16 M | $18 NM \nBookings are recommended\, please call us on 02 6684 2533.
URL:https://www.mullumexservices.com.au/event/sunday-roast/2029-06-03/
LOCATION:Mullumbimby Ex-Services Club\, 58 Dalley Street\, Mullumbimby\, NSW\, 2482
CATEGORIES:All,Meal specials,Specials
ATTACH;FMTTYPE=image/jpeg:https://www.mullumexservices.com.au/wp-content/uploads/2023/12/Sunday-Roast-Header.jpg
END:VEVENT
BEGIN:VEVENT
DTSTART;TZID=Australia/Melbourne:20290604T120000
DTEND;TZID=Australia/Melbourne:20290604T140000
DTSTAMP:20260423T193509
CREATED:20260204T230645Z
LAST-MODIFIED:20260302T013237Z
UID:10009838-1875268800-1875276000@www.mullumexservices.com.au
SUMMARY:Daily Lunch Special
DESCRIPTION:Visit Mullum Ex-Services Club for lunch and take advantage of our daily lunch specials!! \nSpecial available Monday to Friday for lunch service (12pm – 2pm). \nBookings are highly recommended! Call the club on (02) 6684 2533 to book. T&C’s Apply. \n 
URL:https://www.mullumexservices.com.au/event/lunch-deals-3/2029-06-04/
LOCATION:Mullumbimby Ex-Services Club\, 58 Dalley Street\, Mullumbimby\, NSW\, 2482
CATEGORIES:All,Meal specials,Members only,Specials
ATTACH;FMTTYPE=image/jpeg:https://www.mullumexservices.com.au/wp-content/uploads/2026/02/13-lunch-specials-tvs.jpg
END:VEVENT
BEGIN:VEVENT
DTSTART;TZID=Australia/Melbourne:20290604T173000
DTEND;TZID=Australia/Melbourne:20290604T210000
DTSTAMP:20260423T193509
CREATED:20231213T233835Z
LAST-MODIFIED:20251215T061003Z
UID:10014099-1875288600-1875301200@www.mullumexservices.com.au
SUMMARY:Monday Schnitzel Night
DESCRIPTION:Join us at Mullum for our $10* Monday Chicken Schnitzel Special! \nEnjoy a golden crumbed chicken schnitzel! \nAvailable every Monday for dinner (from 5:30pm). \n$10 M | $12 NM \nBookings are recommended\, please call us on 02 6684 2533. \n*Terms & Conditions Apply.
URL:https://www.mullumexservices.com.au/event/schnitzel-night/2029-06-04/
LOCATION:Mullumbimby Ex-Services Club\, 58 Dalley Street\, Mullumbimby\, NSW\, 2482
CATEGORIES:All,Meal specials,Specials
ATTACH;FMTTYPE=image/jpeg:https://www.mullumexservices.com.au/wp-content/uploads/2023/12/Mullum-Schnitzel-Night.jpg
END:VEVENT
BEGIN:VEVENT
DTSTART;TZID=Australia/Melbourne:20290605T120000
DTEND;TZID=Australia/Melbourne:20290605T140000
DTSTAMP:20260423T193509
CREATED:20260204T230645Z
LAST-MODIFIED:20260302T013237Z
UID:10009839-1875355200-1875362400@www.mullumexservices.com.au
SUMMARY:Daily Lunch Special
DESCRIPTION:Visit Mullum Ex-Services Club for lunch and take advantage of our daily lunch specials!! \nSpecial available Monday to Friday for lunch service (12pm – 2pm). \nBookings are highly recommended! Call the club on (02) 6684 2533 to book. T&C’s Apply. \n 
URL:https://www.mullumexservices.com.au/event/lunch-deals-3/2029-06-05/
LOCATION:Mullumbimby Ex-Services Club\, 58 Dalley Street\, Mullumbimby\, NSW\, 2482
CATEGORIES:All,Meal specials,Members only,Specials
ATTACH;FMTTYPE=image/jpeg:https://www.mullumexservices.com.au/wp-content/uploads/2026/02/13-lunch-specials-tvs.jpg
END:VEVENT
BEGIN:VEVENT
DTSTART;TZID=Australia/Melbourne:20290606T120000
DTEND;TZID=Australia/Melbourne:20290606T140000
DTSTAMP:20260423T193509
CREATED:20260204T230645Z
LAST-MODIFIED:20260302T013237Z
UID:10009840-1875441600-1875448800@www.mullumexservices.com.au
SUMMARY:Daily Lunch Special
DESCRIPTION:Visit Mullum Ex-Services Club for lunch and take advantage of our daily lunch specials!! \nSpecial available Monday to Friday for lunch service (12pm – 2pm). \nBookings are highly recommended! Call the club on (02) 6684 2533 to book. T&C’s Apply. \n 
URL:https://www.mullumexservices.com.au/event/lunch-deals-3/2029-06-06/
LOCATION:Mullumbimby Ex-Services Club\, 58 Dalley Street\, Mullumbimby\, NSW\, 2482
CATEGORIES:All,Meal specials,Members only,Specials
ATTACH;FMTTYPE=image/jpeg:https://www.mullumexservices.com.au/wp-content/uploads/2026/02/13-lunch-specials-tvs.jpg
END:VEVENT
BEGIN:VEVENT
DTSTART;TZID=Australia/Melbourne:20290607T120000
DTEND;TZID=Australia/Melbourne:20290607T140000
DTSTAMP:20260423T193509
CREATED:20260204T230645Z
LAST-MODIFIED:20260302T013237Z
UID:10009841-1875528000-1875535200@www.mullumexservices.com.au
SUMMARY:Daily Lunch Special
DESCRIPTION:Visit Mullum Ex-Services Club for lunch and take advantage of our daily lunch specials!! \nSpecial available Monday to Friday for lunch service (12pm – 2pm). \nBookings are highly recommended! Call the club on (02) 6684 2533 to book. T&C’s Apply. \n 
URL:https://www.mullumexservices.com.au/event/lunch-deals-3/2029-06-07/
LOCATION:Mullumbimby Ex-Services Club\, 58 Dalley Street\, Mullumbimby\, NSW\, 2482
CATEGORIES:All,Meal specials,Members only,Specials
ATTACH;FMTTYPE=image/jpeg:https://www.mullumexservices.com.au/wp-content/uploads/2026/02/13-lunch-specials-tvs.jpg
END:VEVENT
BEGIN:VEVENT
DTSTART;TZID=Australia/Sydney:20290607T170000
DTEND;TZID=Australia/Sydney:20290607T210000
DTSTAMP:20260423T193509
CREATED:20250814T011015Z
LAST-MODIFIED:20260113T053715Z
UID:10011196-1875546000-1875560400@www.mullumexservices.com.au
SUMMARY:Thursday Curry Night
DESCRIPTION:Join us at Mullum for our Thursday Curry Night Specials! \nBookings are recommended\, please call us on 02 6684 2533. \n*Terms & Conditions Apply. Drink Responsibly.
URL:https://www.mullumexservices.com.au/event/thursday-curry-night/2029-06-07/
LOCATION:Mullumbimby Ex-Services Club\, 58 Dalley Street\, Mullumbimby\, NSW\, 2482
CATEGORIES:All,Meal specials,Specials
ATTACH;FMTTYPE=image/png:https://www.mullumexservices.com.au/wp-content/uploads/2025/08/EVENT-FEATURED-IMAGE.png
END:VEVENT
BEGIN:VEVENT
DTSTART;TZID=Australia/Melbourne:20290608T120000
DTEND;TZID=Australia/Melbourne:20290608T140000
DTSTAMP:20260423T193509
CREATED:20260204T230645Z
LAST-MODIFIED:20260302T013237Z
UID:10009842-1875614400-1875621600@www.mullumexservices.com.au
SUMMARY:Daily Lunch Special
DESCRIPTION:Visit Mullum Ex-Services Club for lunch and take advantage of our daily lunch specials!! \nSpecial available Monday to Friday for lunch service (12pm – 2pm). \nBookings are highly recommended! Call the club on (02) 6684 2533 to book. T&C’s Apply. \n 
URL:https://www.mullumexservices.com.au/event/lunch-deals-3/2029-06-08/
LOCATION:Mullumbimby Ex-Services Club\, 58 Dalley Street\, Mullumbimby\, NSW\, 2482
CATEGORIES:All,Meal specials,Members only,Specials
ATTACH;FMTTYPE=image/jpeg:https://www.mullumexservices.com.au/wp-content/uploads/2026/02/13-lunch-specials-tvs.jpg
END:VEVENT
BEGIN:VEVENT
DTSTART;TZID=Australia/Sydney:20290609T170000
DTEND;TZID=Australia/Sydney:20290609T210000
DTSTAMP:20260423T193509
CREATED:20260204T231856Z
LAST-MODIFIED:20260204T231909Z
UID:10010851-1875718800-1875733200@www.mullumexservices.com.au
SUMMARY:Saturday Night Meal Offer
DESCRIPTION:Join us at Mullum for our $25* Saturday Night Meal Offer! \nSURF & TURF PARMIGIANA\nCrumbed chicken schnitzel topped with creamy garlic sauce. mozzarella and prawns. Served with chips and salad. \nCRUSTED PEPPER PORK SCOTCH FILLETS\nPepper-crusted pork scotch fillets topped with creamy garlic prawn with a side of creamy pepper sauce. Served with chips and salad. \nAvailable every Saturday for dinner (from 5:30pm). \n$25 M | $27 NM \nBookings are recommended\, please call us on 02 6684 2533. \n*Terms & Conditions Apply. Drink Responsibly.
URL:https://www.mullumexservices.com.au/event/saturday-night-meal-offer-2/2029-06-09/
LOCATION:Mullumbimby Ex-Services Club\, 58 Dalley Street\, Mullumbimby\, NSW\, 2482
CATEGORIES:All,Meal specials,Specials
ATTACH;FMTTYPE=image/png:https://www.mullumexservices.com.au/wp-content/uploads/2025/08/SATURDAY-FEATURE.png
END:VEVENT
BEGIN:VEVENT
DTSTART;TZID=Australia/Melbourne:20290610T120000
DTEND;TZID=Australia/Melbourne:20290610T210000
DTSTAMP:20260423T193509
CREATED:20231214T000049Z
LAST-MODIFIED:20240912T225038Z
UID:10009637-1875787200-1875819600@www.mullumexservices.com.au
SUMMARY:Sunday Roast Special
DESCRIPTION:Join us at Mullum for our Sunday Roast Special! \nEnjoy a hearty Sunday roast starting from just $16*! \nAvailable every Sunday for lunch (12pm – 2pm) and dinner (from 5:30pm). \n$16 M | $18 NM \nBookings are recommended\, please call us on 02 6684 2533.
URL:https://www.mullumexservices.com.au/event/sunday-roast/2029-06-10/
LOCATION:Mullumbimby Ex-Services Club\, 58 Dalley Street\, Mullumbimby\, NSW\, 2482
CATEGORIES:All,Meal specials,Specials
ATTACH;FMTTYPE=image/jpeg:https://www.mullumexservices.com.au/wp-content/uploads/2023/12/Sunday-Roast-Header.jpg
END:VEVENT
BEGIN:VEVENT
DTSTART;TZID=Australia/Melbourne:20290611T120000
DTEND;TZID=Australia/Melbourne:20290611T140000
DTSTAMP:20260423T193509
CREATED:20260204T230645Z
LAST-MODIFIED:20260302T013237Z
UID:10009845-1875873600-1875880800@www.mullumexservices.com.au
SUMMARY:Daily Lunch Special
DESCRIPTION:Visit Mullum Ex-Services Club for lunch and take advantage of our daily lunch specials!! \nSpecial available Monday to Friday for lunch service (12pm – 2pm). \nBookings are highly recommended! Call the club on (02) 6684 2533 to book. T&C’s Apply. \n 
URL:https://www.mullumexservices.com.au/event/lunch-deals-3/2029-06-11/
LOCATION:Mullumbimby Ex-Services Club\, 58 Dalley Street\, Mullumbimby\, NSW\, 2482
CATEGORIES:All,Meal specials,Members only,Specials
ATTACH;FMTTYPE=image/jpeg:https://www.mullumexservices.com.au/wp-content/uploads/2026/02/13-lunch-specials-tvs.jpg
END:VEVENT
BEGIN:VEVENT
DTSTART;TZID=Australia/Melbourne:20290611T173000
DTEND;TZID=Australia/Melbourne:20290611T210000
DTSTAMP:20260423T193509
CREATED:20231213T233835Z
LAST-MODIFIED:20251215T061003Z
UID:10014100-1875893400-1875906000@www.mullumexservices.com.au
SUMMARY:Monday Schnitzel Night
DESCRIPTION:Join us at Mullum for our $10* Monday Chicken Schnitzel Special! \nEnjoy a golden crumbed chicken schnitzel! \nAvailable every Monday for dinner (from 5:30pm). \n$10 M | $12 NM \nBookings are recommended\, please call us on 02 6684 2533. \n*Terms & Conditions Apply.
URL:https://www.mullumexservices.com.au/event/schnitzel-night/2029-06-11/
LOCATION:Mullumbimby Ex-Services Club\, 58 Dalley Street\, Mullumbimby\, NSW\, 2482
CATEGORIES:All,Meal specials,Specials
ATTACH;FMTTYPE=image/jpeg:https://www.mullumexservices.com.au/wp-content/uploads/2023/12/Mullum-Schnitzel-Night.jpg
END:VEVENT
BEGIN:VEVENT
DTSTART;TZID=Australia/Melbourne:20290612T120000
DTEND;TZID=Australia/Melbourne:20290612T140000
DTSTAMP:20260423T193509
CREATED:20260204T230645Z
LAST-MODIFIED:20260302T013237Z
UID:10009846-1875960000-1875967200@www.mullumexservices.com.au
SUMMARY:Daily Lunch Special
DESCRIPTION:Visit Mullum Ex-Services Club for lunch and take advantage of our daily lunch specials!! \nSpecial available Monday to Friday for lunch service (12pm – 2pm). \nBookings are highly recommended! Call the club on (02) 6684 2533 to book. T&C’s Apply. \n 
URL:https://www.mullumexservices.com.au/event/lunch-deals-3/2029-06-12/
LOCATION:Mullumbimby Ex-Services Club\, 58 Dalley Street\, Mullumbimby\, NSW\, 2482
CATEGORIES:All,Meal specials,Members only,Specials
ATTACH;FMTTYPE=image/jpeg:https://www.mullumexservices.com.au/wp-content/uploads/2026/02/13-lunch-specials-tvs.jpg
END:VEVENT
BEGIN:VEVENT
DTSTART;TZID=Australia/Melbourne:20290613T120000
DTEND;TZID=Australia/Melbourne:20290613T140000
DTSTAMP:20260423T193509
CREATED:20260204T230645Z
LAST-MODIFIED:20260302T013237Z
UID:10009847-1876046400-1876053600@www.mullumexservices.com.au
SUMMARY:Daily Lunch Special
DESCRIPTION:Visit Mullum Ex-Services Club for lunch and take advantage of our daily lunch specials!! \nSpecial available Monday to Friday for lunch service (12pm – 2pm). \nBookings are highly recommended! Call the club on (02) 6684 2533 to book. T&C’s Apply. \n 
URL:https://www.mullumexservices.com.au/event/lunch-deals-3/2029-06-13/
LOCATION:Mullumbimby Ex-Services Club\, 58 Dalley Street\, Mullumbimby\, NSW\, 2482
CATEGORIES:All,Meal specials,Members only,Specials
ATTACH;FMTTYPE=image/jpeg:https://www.mullumexservices.com.au/wp-content/uploads/2026/02/13-lunch-specials-tvs.jpg
END:VEVENT
BEGIN:VEVENT
DTSTART;TZID=Australia/Melbourne:20290614T120000
DTEND;TZID=Australia/Melbourne:20290614T140000
DTSTAMP:20260423T193509
CREATED:20260204T230645Z
LAST-MODIFIED:20260302T013237Z
UID:10009848-1876132800-1876140000@www.mullumexservices.com.au
SUMMARY:Daily Lunch Special
DESCRIPTION:Visit Mullum Ex-Services Club for lunch and take advantage of our daily lunch specials!! \nSpecial available Monday to Friday for lunch service (12pm – 2pm). \nBookings are highly recommended! Call the club on (02) 6684 2533 to book. T&C’s Apply. \n 
URL:https://www.mullumexservices.com.au/event/lunch-deals-3/2029-06-14/
LOCATION:Mullumbimby Ex-Services Club\, 58 Dalley Street\, Mullumbimby\, NSW\, 2482
CATEGORIES:All,Meal specials,Members only,Specials
ATTACH;FMTTYPE=image/jpeg:https://www.mullumexservices.com.au/wp-content/uploads/2026/02/13-lunch-specials-tvs.jpg
END:VEVENT
BEGIN:VEVENT
DTSTART;TZID=Australia/Sydney:20290614T170000
DTEND;TZID=Australia/Sydney:20290614T210000
DTSTAMP:20260423T193509
CREATED:20250814T011015Z
LAST-MODIFIED:20260113T053715Z
UID:10011197-1876150800-1876165200@www.mullumexservices.com.au
SUMMARY:Thursday Curry Night
DESCRIPTION:Join us at Mullum for our Thursday Curry Night Specials! \nBookings are recommended\, please call us on 02 6684 2533. \n*Terms & Conditions Apply. Drink Responsibly.
URL:https://www.mullumexservices.com.au/event/thursday-curry-night/2029-06-14/
LOCATION:Mullumbimby Ex-Services Club\, 58 Dalley Street\, Mullumbimby\, NSW\, 2482
CATEGORIES:All,Meal specials,Specials
ATTACH;FMTTYPE=image/png:https://www.mullumexservices.com.au/wp-content/uploads/2025/08/EVENT-FEATURED-IMAGE.png
END:VEVENT
BEGIN:VEVENT
DTSTART;TZID=Australia/Melbourne:20290615T120000
DTEND;TZID=Australia/Melbourne:20290615T140000
DTSTAMP:20260423T193509
CREATED:20260204T230645Z
LAST-MODIFIED:20260302T013237Z
UID:10009849-1876219200-1876226400@www.mullumexservices.com.au
SUMMARY:Daily Lunch Special
DESCRIPTION:Visit Mullum Ex-Services Club for lunch and take advantage of our daily lunch specials!! \nSpecial available Monday to Friday for lunch service (12pm – 2pm). \nBookings are highly recommended! Call the club on (02) 6684 2533 to book. T&C’s Apply. \n 
URL:https://www.mullumexservices.com.au/event/lunch-deals-3/2029-06-15/
LOCATION:Mullumbimby Ex-Services Club\, 58 Dalley Street\, Mullumbimby\, NSW\, 2482
CATEGORIES:All,Meal specials,Members only,Specials
ATTACH;FMTTYPE=image/jpeg:https://www.mullumexservices.com.au/wp-content/uploads/2026/02/13-lunch-specials-tvs.jpg
END:VEVENT
BEGIN:VEVENT
DTSTART;TZID=Australia/Sydney:20290616T170000
DTEND;TZID=Australia/Sydney:20290616T210000
DTSTAMP:20260423T193509
CREATED:20260204T231856Z
LAST-MODIFIED:20260204T231909Z
UID:10010852-1876323600-1876338000@www.mullumexservices.com.au
SUMMARY:Saturday Night Meal Offer
DESCRIPTION:Join us at Mullum for our $25* Saturday Night Meal Offer! \nSURF & TURF PARMIGIANA\nCrumbed chicken schnitzel topped with creamy garlic sauce. mozzarella and prawns. Served with chips and salad. \nCRUSTED PEPPER PORK SCOTCH FILLETS\nPepper-crusted pork scotch fillets topped with creamy garlic prawn with a side of creamy pepper sauce. Served with chips and salad. \nAvailable every Saturday for dinner (from 5:30pm). \n$25 M | $27 NM \nBookings are recommended\, please call us on 02 6684 2533. \n*Terms & Conditions Apply. Drink Responsibly.
URL:https://www.mullumexservices.com.au/event/saturday-night-meal-offer-2/2029-06-16/
LOCATION:Mullumbimby Ex-Services Club\, 58 Dalley Street\, Mullumbimby\, NSW\, 2482
CATEGORIES:All,Meal specials,Specials
ATTACH;FMTTYPE=image/png:https://www.mullumexservices.com.au/wp-content/uploads/2025/08/SATURDAY-FEATURE.png
END:VEVENT
BEGIN:VEVENT
DTSTART;TZID=Australia/Melbourne:20290617T120000
DTEND;TZID=Australia/Melbourne:20290617T210000
DTSTAMP:20260423T193509
CREATED:20231214T000049Z
LAST-MODIFIED:20240912T225038Z
UID:10009638-1876392000-1876424400@www.mullumexservices.com.au
SUMMARY:Sunday Roast Special
DESCRIPTION:Join us at Mullum for our Sunday Roast Special! \nEnjoy a hearty Sunday roast starting from just $16*! \nAvailable every Sunday for lunch (12pm – 2pm) and dinner (from 5:30pm). \n$16 M | $18 NM \nBookings are recommended\, please call us on 02 6684 2533.
URL:https://www.mullumexservices.com.au/event/sunday-roast/2029-06-17/
LOCATION:Mullumbimby Ex-Services Club\, 58 Dalley Street\, Mullumbimby\, NSW\, 2482
CATEGORIES:All,Meal specials,Specials
ATTACH;FMTTYPE=image/jpeg:https://www.mullumexservices.com.au/wp-content/uploads/2023/12/Sunday-Roast-Header.jpg
END:VEVENT
BEGIN:VEVENT
DTSTART;TZID=Australia/Melbourne:20290618T120000
DTEND;TZID=Australia/Melbourne:20290618T140000
DTSTAMP:20260423T193509
CREATED:20260204T230645Z
LAST-MODIFIED:20260302T013237Z
UID:10009852-1876478400-1876485600@www.mullumexservices.com.au
SUMMARY:Daily Lunch Special
DESCRIPTION:Visit Mullum Ex-Services Club for lunch and take advantage of our daily lunch specials!! \nSpecial available Monday to Friday for lunch service (12pm – 2pm). \nBookings are highly recommended! Call the club on (02) 6684 2533 to book. T&C’s Apply. \n 
URL:https://www.mullumexservices.com.au/event/lunch-deals-3/2029-06-18/
LOCATION:Mullumbimby Ex-Services Club\, 58 Dalley Street\, Mullumbimby\, NSW\, 2482
CATEGORIES:All,Meal specials,Members only,Specials
ATTACH;FMTTYPE=image/jpeg:https://www.mullumexservices.com.au/wp-content/uploads/2026/02/13-lunch-specials-tvs.jpg
END:VEVENT
BEGIN:VEVENT
DTSTART;TZID=Australia/Melbourne:20290618T173000
DTEND;TZID=Australia/Melbourne:20290618T210000
DTSTAMP:20260423T193509
CREATED:20231213T233835Z
LAST-MODIFIED:20251215T061003Z
UID:10014101-1876498200-1876510800@www.mullumexservices.com.au
SUMMARY:Monday Schnitzel Night
DESCRIPTION:Join us at Mullum for our $10* Monday Chicken Schnitzel Special! \nEnjoy a golden crumbed chicken schnitzel! \nAvailable every Monday for dinner (from 5:30pm). \n$10 M | $12 NM \nBookings are recommended\, please call us on 02 6684 2533. \n*Terms & Conditions Apply.
URL:https://www.mullumexservices.com.au/event/schnitzel-night/2029-06-18/
LOCATION:Mullumbimby Ex-Services Club\, 58 Dalley Street\, Mullumbimby\, NSW\, 2482
CATEGORIES:All,Meal specials,Specials
ATTACH;FMTTYPE=image/jpeg:https://www.mullumexservices.com.au/wp-content/uploads/2023/12/Mullum-Schnitzel-Night.jpg
END:VEVENT
BEGIN:VEVENT
DTSTART;TZID=Australia/Melbourne:20290619T120000
DTEND;TZID=Australia/Melbourne:20290619T140000
DTSTAMP:20260423T193509
CREATED:20260204T230645Z
LAST-MODIFIED:20260302T013237Z
UID:10009853-1876564800-1876572000@www.mullumexservices.com.au
SUMMARY:Daily Lunch Special
DESCRIPTION:Visit Mullum Ex-Services Club for lunch and take advantage of our daily lunch specials!! \nSpecial available Monday to Friday for lunch service (12pm – 2pm). \nBookings are highly recommended! Call the club on (02) 6684 2533 to book. T&C’s Apply. \n 
URL:https://www.mullumexservices.com.au/event/lunch-deals-3/2029-06-19/
LOCATION:Mullumbimby Ex-Services Club\, 58 Dalley Street\, Mullumbimby\, NSW\, 2482
CATEGORIES:All,Meal specials,Members only,Specials
ATTACH;FMTTYPE=image/jpeg:https://www.mullumexservices.com.au/wp-content/uploads/2026/02/13-lunch-specials-tvs.jpg
END:VEVENT
BEGIN:VEVENT
DTSTART;TZID=Australia/Melbourne:20290620T120000
DTEND;TZID=Australia/Melbourne:20290620T140000
DTSTAMP:20260423T193509
CREATED:20260204T230645Z
LAST-MODIFIED:20260302T013237Z
UID:10009854-1876651200-1876658400@www.mullumexservices.com.au
SUMMARY:Daily Lunch Special
DESCRIPTION:Visit Mullum Ex-Services Club for lunch and take advantage of our daily lunch specials!! \nSpecial available Monday to Friday for lunch service (12pm – 2pm). \nBookings are highly recommended! Call the club on (02) 6684 2533 to book. T&C’s Apply. \n 
URL:https://www.mullumexservices.com.au/event/lunch-deals-3/2029-06-20/
LOCATION:Mullumbimby Ex-Services Club\, 58 Dalley Street\, Mullumbimby\, NSW\, 2482
CATEGORIES:All,Meal specials,Members only,Specials
ATTACH;FMTTYPE=image/jpeg:https://www.mullumexservices.com.au/wp-content/uploads/2026/02/13-lunch-specials-tvs.jpg
END:VEVENT
BEGIN:VEVENT
DTSTART;TZID=Australia/Melbourne:20290621T120000
DTEND;TZID=Australia/Melbourne:20290621T140000
DTSTAMP:20260423T193509
CREATED:20260204T230645Z
LAST-MODIFIED:20260302T013237Z
UID:10009855-1876737600-1876744800@www.mullumexservices.com.au
SUMMARY:Daily Lunch Special
DESCRIPTION:Visit Mullum Ex-Services Club for lunch and take advantage of our daily lunch specials!! \nSpecial available Monday to Friday for lunch service (12pm – 2pm). \nBookings are highly recommended! Call the club on (02) 6684 2533 to book. T&C’s Apply. \n 
URL:https://www.mullumexservices.com.au/event/lunch-deals-3/2029-06-21/
LOCATION:Mullumbimby Ex-Services Club\, 58 Dalley Street\, Mullumbimby\, NSW\, 2482
CATEGORIES:All,Meal specials,Members only,Specials
ATTACH;FMTTYPE=image/jpeg:https://www.mullumexservices.com.au/wp-content/uploads/2026/02/13-lunch-specials-tvs.jpg
END:VEVENT
BEGIN:VEVENT
DTSTART;TZID=Australia/Sydney:20290621T170000
DTEND;TZID=Australia/Sydney:20290621T210000
DTSTAMP:20260423T193509
CREATED:20250814T011015Z
LAST-MODIFIED:20260113T053715Z
UID:10011198-1876755600-1876770000@www.mullumexservices.com.au
SUMMARY:Thursday Curry Night
DESCRIPTION:Join us at Mullum for our Thursday Curry Night Specials! \nBookings are recommended\, please call us on 02 6684 2533. \n*Terms & Conditions Apply. Drink Responsibly.
URL:https://www.mullumexservices.com.au/event/thursday-curry-night/2029-06-21/
LOCATION:Mullumbimby Ex-Services Club\, 58 Dalley Street\, Mullumbimby\, NSW\, 2482
CATEGORIES:All,Meal specials,Specials
ATTACH;FMTTYPE=image/png:https://www.mullumexservices.com.au/wp-content/uploads/2025/08/EVENT-FEATURED-IMAGE.png
END:VEVENT
BEGIN:VEVENT
DTSTART;TZID=Australia/Melbourne:20290622T120000
DTEND;TZID=Australia/Melbourne:20290622T140000
DTSTAMP:20260423T193509
CREATED:20260204T230645Z
LAST-MODIFIED:20260302T013237Z
UID:10009856-1876824000-1876831200@www.mullumexservices.com.au
SUMMARY:Daily Lunch Special
DESCRIPTION:Visit Mullum Ex-Services Club for lunch and take advantage of our daily lunch specials!! \nSpecial available Monday to Friday for lunch service (12pm – 2pm). \nBookings are highly recommended! Call the club on (02) 6684 2533 to book. T&C’s Apply. \n 
URL:https://www.mullumexservices.com.au/event/lunch-deals-3/2029-06-22/
LOCATION:Mullumbimby Ex-Services Club\, 58 Dalley Street\, Mullumbimby\, NSW\, 2482
CATEGORIES:All,Meal specials,Members only,Specials
ATTACH;FMTTYPE=image/jpeg:https://www.mullumexservices.com.au/wp-content/uploads/2026/02/13-lunch-specials-tvs.jpg
END:VEVENT
BEGIN:VEVENT
DTSTART;TZID=Australia/Sydney:20290623T170000
DTEND;TZID=Australia/Sydney:20290623T210000
DTSTAMP:20260423T193509
CREATED:20260204T231856Z
LAST-MODIFIED:20260204T231909Z
UID:10010853-1876928400-1876942800@www.mullumexservices.com.au
SUMMARY:Saturday Night Meal Offer
DESCRIPTION:Join us at Mullum for our $25* Saturday Night Meal Offer! \nSURF & TURF PARMIGIANA\nCrumbed chicken schnitzel topped with creamy garlic sauce. mozzarella and prawns. Served with chips and salad. \nCRUSTED PEPPER PORK SCOTCH FILLETS\nPepper-crusted pork scotch fillets topped with creamy garlic prawn with a side of creamy pepper sauce. Served with chips and salad. \nAvailable every Saturday for dinner (from 5:30pm). \n$25 M | $27 NM \nBookings are recommended\, please call us on 02 6684 2533. \n*Terms & Conditions Apply. Drink Responsibly.
URL:https://www.mullumexservices.com.au/event/saturday-night-meal-offer-2/2029-06-23/
LOCATION:Mullumbimby Ex-Services Club\, 58 Dalley Street\, Mullumbimby\, NSW\, 2482
CATEGORIES:All,Meal specials,Specials
ATTACH;FMTTYPE=image/png:https://www.mullumexservices.com.au/wp-content/uploads/2025/08/SATURDAY-FEATURE.png
END:VEVENT
END:VCALENDAR