BEGIN:VCALENDAR
VERSION:2.0
PRODID:-//Mullumbimby Ex-Services Club - ECPv6.15.17.1//NONSGML v1.0//EN
CALSCALE:GREGORIAN
METHOD:PUBLISH
X-ORIGINAL-URL:https://www.mullumexservices.com.au
X-WR-CALDESC:Events for Mullumbimby Ex-Services Club
REFRESH-INTERVAL;VALUE=DURATION:PT1H
X-Robots-Tag:noindex
X-PUBLISHED-TTL:PT1H
BEGIN:VTIMEZONE
TZID:Australia/Melbourne
BEGIN:STANDARD
TZOFFSETFROM:+1100
TZOFFSETTO:+1000
TZNAME:AEST
DTSTART:20230401T160000
END:STANDARD
BEGIN:DAYLIGHT
TZOFFSETFROM:+1000
TZOFFSETTO:+1100
TZNAME:AEDT
DTSTART:20230930T160000
END:DAYLIGHT
BEGIN:STANDARD
TZOFFSETFROM:+1100
TZOFFSETTO:+1000
TZNAME:AEST
DTSTART:20240406T160000
END:STANDARD
BEGIN:DAYLIGHT
TZOFFSETFROM:+1000
TZOFFSETTO:+1100
TZNAME:AEDT
DTSTART:20241005T160000
END:DAYLIGHT
BEGIN:STANDARD
TZOFFSETFROM:+1100
TZOFFSETTO:+1000
TZNAME:AEST
DTSTART:20250405T160000
END:STANDARD
BEGIN:DAYLIGHT
TZOFFSETFROM:+1000
TZOFFSETTO:+1100
TZNAME:AEDT
DTSTART:20251004T160000
END:DAYLIGHT
END:VTIMEZONE
BEGIN:VEVENT
DTSTART;TZID=Australia/Melbourne:20241101T120000
DTEND;TZID=Australia/Melbourne:20241101T140000
DTSTAMP:20260421T121552
CREATED:20230719T230739Z
LAST-MODIFIED:20241122T042858Z
UID:10004838-1730462400-1730469600@www.mullumexservices.com.au
SUMMARY:Daily Lunch Special
DESCRIPTION:Visit Mullum Ex-Services Club for lunch and take advantage of our daily lunch specials!! \nSpecial available every dat for lunch service (12pm – 2pm). \nBookings are highly recommended! Call the club on (02) 6684 2533 to book.
URL:https://www.mullumexservices.com.au/event/lunch-deals/2024-11-01/
LOCATION:Mullumbimby Ex-Services Club\, 58 Dalley Street\, Mullumbimby\, NSW\, 2482
CATEGORIES:All,Meal specials,Members only,Specials
ATTACH;FMTTYPE=image/jpeg:https://www.mullumexservices.com.au/wp-content/uploads/2023/12/Eat-Drink_Gurkhas-on-Dalley.jpg
END:VEVENT
BEGIN:VEVENT
DTSTART;TZID=Australia/Melbourne:20241102T120000
DTEND;TZID=Australia/Melbourne:20241102T140000
DTSTAMP:20260421T121552
CREATED:20230719T230739Z
LAST-MODIFIED:20241122T042858Z
UID:10007987-1730548800-1730556000@www.mullumexservices.com.au
SUMMARY:Daily Lunch Special
DESCRIPTION:Visit Mullum Ex-Services Club for lunch and take advantage of our daily lunch specials!! \nSpecial available every dat for lunch service (12pm – 2pm). \nBookings are highly recommended! Call the club on (02) 6684 2533 to book.
URL:https://www.mullumexservices.com.au/event/lunch-deals/2024-11-02/
LOCATION:Mullumbimby Ex-Services Club\, 58 Dalley Street\, Mullumbimby\, NSW\, 2482
CATEGORIES:All,Meal specials,Members only,Specials
ATTACH;FMTTYPE=image/jpeg:https://www.mullumexservices.com.au/wp-content/uploads/2023/12/Eat-Drink_Gurkhas-on-Dalley.jpg
END:VEVENT
BEGIN:VEVENT
DTSTART;TZID=Australia/Melbourne:20241103T120000
DTEND;TZID=Australia/Melbourne:20241103T140000
DTSTAMP:20260421T121552
CREATED:20230719T230739Z
LAST-MODIFIED:20241122T042858Z
UID:10007988-1730635200-1730642400@www.mullumexservices.com.au
SUMMARY:Daily Lunch Special
DESCRIPTION:Visit Mullum Ex-Services Club for lunch and take advantage of our daily lunch specials!! \nSpecial available every dat for lunch service (12pm – 2pm). \nBookings are highly recommended! Call the club on (02) 6684 2533 to book.
URL:https://www.mullumexservices.com.au/event/lunch-deals/2024-11-03/
LOCATION:Mullumbimby Ex-Services Club\, 58 Dalley Street\, Mullumbimby\, NSW\, 2482
CATEGORIES:All,Meal specials,Members only,Specials
ATTACH;FMTTYPE=image/jpeg:https://www.mullumexservices.com.au/wp-content/uploads/2023/12/Eat-Drink_Gurkhas-on-Dalley.jpg
END:VEVENT
BEGIN:VEVENT
DTSTART;TZID=Australia/Melbourne:20241103T120000
DTEND;TZID=Australia/Melbourne:20241103T210000
DTSTAMP:20260421T121552
CREATED:20231214T000049Z
LAST-MODIFIED:20240912T225038Z
UID:10007500-1730635200-1730667600@www.mullumexservices.com.au
SUMMARY:Sunday Roast Special
DESCRIPTION:Join us at Mullum for our Sunday Roast Special! \nEnjoy a hearty Sunday roast starting from just $16*! \nAvailable every Sunday for lunch (12pm – 2pm) and dinner (from 5:30pm). \n$16 M | $18 NM \nBookings are recommended\, please call us on 02 6684 2533.
URL:https://www.mullumexservices.com.au/event/sunday-roast/2024-11-03/
LOCATION:Mullumbimby Ex-Services Club\, 58 Dalley Street\, Mullumbimby\, NSW\, 2482
CATEGORIES:All,Meal specials,Specials
ATTACH;FMTTYPE=image/jpeg:https://www.mullumexservices.com.au/wp-content/uploads/2023/12/Sunday-Roast-Header.jpg
END:VEVENT
BEGIN:VEVENT
DTSTART;TZID=Australia/Melbourne:20241104T120000
DTEND;TZID=Australia/Melbourne:20241104T140000
DTSTAMP:20260421T121552
CREATED:20230719T230739Z
LAST-MODIFIED:20241122T042858Z
UID:10007989-1730721600-1730728800@www.mullumexservices.com.au
SUMMARY:Daily Lunch Special
DESCRIPTION:Visit Mullum Ex-Services Club for lunch and take advantage of our daily lunch specials!! \nSpecial available every dat for lunch service (12pm – 2pm). \nBookings are highly recommended! Call the club on (02) 6684 2533 to book.
URL:https://www.mullumexservices.com.au/event/lunch-deals/2024-11-04/
LOCATION:Mullumbimby Ex-Services Club\, 58 Dalley Street\, Mullumbimby\, NSW\, 2482
CATEGORIES:All,Meal specials,Members only,Specials
ATTACH;FMTTYPE=image/jpeg:https://www.mullumexservices.com.au/wp-content/uploads/2023/12/Eat-Drink_Gurkhas-on-Dalley.jpg
END:VEVENT
BEGIN:VEVENT
DTSTART;TZID=Australia/Melbourne:20241104T173000
DTEND;TZID=Australia/Melbourne:20241104T210000
DTSTAMP:20260421T121552
CREATED:20231213T233835Z
LAST-MODIFIED:20251215T061003Z
UID:10006716-1730741400-1730754000@www.mullumexservices.com.au
SUMMARY:Monday Schnitzel Night
DESCRIPTION:Join us at Mullum for our $10* Monday Chicken Schnitzel Special! \nEnjoy a golden crumbed chicken schnitzel! \nAvailable every Monday for dinner (from 5:30pm). \n$10 M | $12 NM \nBookings are recommended\, please call us on 02 6684 2533. \n*Terms & Conditions Apply.
URL:https://www.mullumexservices.com.au/event/schnitzel-night/2024-11-04/
LOCATION:Mullumbimby Ex-Services Club\, 58 Dalley Street\, Mullumbimby\, NSW\, 2482
CATEGORIES:All,Meal specials,Specials
ATTACH;FMTTYPE=image/jpeg:https://www.mullumexservices.com.au/wp-content/uploads/2023/12/Mullum-Schnitzel-Night.jpg
END:VEVENT
BEGIN:VEVENT
DTSTART;TZID=Australia/Melbourne:20241105T120000
DTEND;TZID=Australia/Melbourne:20241105T140000
DTSTAMP:20260421T121552
CREATED:20230719T230739Z
LAST-MODIFIED:20241122T042858Z
UID:10004839-1730808000-1730815200@www.mullumexservices.com.au
SUMMARY:Daily Lunch Special
DESCRIPTION:Visit Mullum Ex-Services Club for lunch and take advantage of our daily lunch specials!! \nSpecial available every dat for lunch service (12pm – 2pm). \nBookings are highly recommended! Call the club on (02) 6684 2533 to book.
URL:https://www.mullumexservices.com.au/event/lunch-deals/2024-11-05/
LOCATION:Mullumbimby Ex-Services Club\, 58 Dalley Street\, Mullumbimby\, NSW\, 2482
CATEGORIES:All,Meal specials,Members only,Specials
ATTACH;FMTTYPE=image/jpeg:https://www.mullumexservices.com.au/wp-content/uploads/2023/12/Eat-Drink_Gurkhas-on-Dalley.jpg
END:VEVENT
BEGIN:VEVENT
DTSTART;TZID=Australia/Melbourne:20241105T173000
DTEND;TZID=Australia/Melbourne:20241105T210000
DTSTAMP:20260421T121552
CREATED:20231213T234606Z
LAST-MODIFIED:20240527T051130Z
UID:10006977-1730827800-1730840400@www.mullumexservices.com.au
SUMMARY:Tuesday Steak Night
DESCRIPTION:Join us at Mullum for our $17* Tuesday Steak Night! \nEnjoy a succulent steak\, plus\, a complimentary drink*! \nAvailable every Tuesday for dinner (from 5:30pm). \n$17 M | $19 NM \nBookings are recommended\, please call us on 02 6684 2533. \n*Terms & Conditions Apply. Drink Responsibly.
URL:https://www.mullumexservices.com.au/event/steak-night/2024-11-05/
LOCATION:Mullumbimby Ex-Services Club\, 58 Dalley Street\, Mullumbimby\, NSW\, 2482
CATEGORIES:All,Meal specials,Specials
ATTACH;FMTTYPE=image/jpeg:https://www.mullumexservices.com.au/wp-content/uploads/2023/12/Steak-Night-Header.jpg
END:VEVENT
BEGIN:VEVENT
DTSTART;TZID=Australia/Melbourne:20241106T120000
DTEND;TZID=Australia/Melbourne:20241106T140000
DTSTAMP:20260421T121552
CREATED:20230719T230739Z
LAST-MODIFIED:20241122T042858Z
UID:10004840-1730894400-1730901600@www.mullumexservices.com.au
SUMMARY:Daily Lunch Special
DESCRIPTION:Visit Mullum Ex-Services Club for lunch and take advantage of our daily lunch specials!! \nSpecial available every dat for lunch service (12pm – 2pm). \nBookings are highly recommended! Call the club on (02) 6684 2533 to book.
URL:https://www.mullumexservices.com.au/event/lunch-deals/2024-11-06/
LOCATION:Mullumbimby Ex-Services Club\, 58 Dalley Street\, Mullumbimby\, NSW\, 2482
CATEGORIES:All,Meal specials,Members only,Specials
ATTACH;FMTTYPE=image/jpeg:https://www.mullumexservices.com.au/wp-content/uploads/2023/12/Eat-Drink_Gurkhas-on-Dalley.jpg
END:VEVENT
BEGIN:VEVENT
DTSTART;TZID=Australia/Melbourne:20241107T120000
DTEND;TZID=Australia/Melbourne:20241107T140000
DTSTAMP:20260421T121552
CREATED:20230719T230739Z
LAST-MODIFIED:20241122T042858Z
UID:10004841-1730980800-1730988000@www.mullumexservices.com.au
SUMMARY:Daily Lunch Special
DESCRIPTION:Visit Mullum Ex-Services Club for lunch and take advantage of our daily lunch specials!! \nSpecial available every dat for lunch service (12pm – 2pm). \nBookings are highly recommended! Call the club on (02) 6684 2533 to book.
URL:https://www.mullumexservices.com.au/event/lunch-deals/2024-11-07/
LOCATION:Mullumbimby Ex-Services Club\, 58 Dalley Street\, Mullumbimby\, NSW\, 2482
CATEGORIES:All,Meal specials,Members only,Specials
ATTACH;FMTTYPE=image/jpeg:https://www.mullumexservices.com.au/wp-content/uploads/2023/12/Eat-Drink_Gurkhas-on-Dalley.jpg
END:VEVENT
BEGIN:VEVENT
DTSTART;TZID=Australia/Melbourne:20241108T120000
DTEND;TZID=Australia/Melbourne:20241108T140000
DTSTAMP:20260421T121552
CREATED:20230719T230739Z
LAST-MODIFIED:20241122T042858Z
UID:10004842-1731067200-1731074400@www.mullumexservices.com.au
SUMMARY:Daily Lunch Special
DESCRIPTION:Visit Mullum Ex-Services Club for lunch and take advantage of our daily lunch specials!! \nSpecial available every dat for lunch service (12pm – 2pm). \nBookings are highly recommended! Call the club on (02) 6684 2533 to book.
URL:https://www.mullumexservices.com.au/event/lunch-deals/2024-11-08/
LOCATION:Mullumbimby Ex-Services Club\, 58 Dalley Street\, Mullumbimby\, NSW\, 2482
CATEGORIES:All,Meal specials,Members only,Specials
ATTACH;FMTTYPE=image/jpeg:https://www.mullumexservices.com.au/wp-content/uploads/2023/12/Eat-Drink_Gurkhas-on-Dalley.jpg
END:VEVENT
BEGIN:VEVENT
DTSTART;TZID=Australia/Melbourne:20241109T120000
DTEND;TZID=Australia/Melbourne:20241109T140000
DTSTAMP:20260421T121552
CREATED:20230719T230739Z
LAST-MODIFIED:20241122T042858Z
UID:10007990-1731153600-1731160800@www.mullumexservices.com.au
SUMMARY:Daily Lunch Special
DESCRIPTION:Visit Mullum Ex-Services Club for lunch and take advantage of our daily lunch specials!! \nSpecial available every dat for lunch service (12pm – 2pm). \nBookings are highly recommended! Call the club on (02) 6684 2533 to book.
URL:https://www.mullumexservices.com.au/event/lunch-deals/2024-11-09/
LOCATION:Mullumbimby Ex-Services Club\, 58 Dalley Street\, Mullumbimby\, NSW\, 2482
CATEGORIES:All,Meal specials,Members only,Specials
ATTACH;FMTTYPE=image/jpeg:https://www.mullumexservices.com.au/wp-content/uploads/2023/12/Eat-Drink_Gurkhas-on-Dalley.jpg
END:VEVENT
BEGIN:VEVENT
DTSTART;TZID=Australia/Melbourne:20241110T120000
DTEND;TZID=Australia/Melbourne:20241110T140000
DTSTAMP:20260421T121552
CREATED:20230719T230739Z
LAST-MODIFIED:20241122T042858Z
UID:10007991-1731240000-1731247200@www.mullumexservices.com.au
SUMMARY:Daily Lunch Special
DESCRIPTION:Visit Mullum Ex-Services Club for lunch and take advantage of our daily lunch specials!! \nSpecial available every dat for lunch service (12pm – 2pm). \nBookings are highly recommended! Call the club on (02) 6684 2533 to book.
URL:https://www.mullumexservices.com.au/event/lunch-deals/2024-11-10/
LOCATION:Mullumbimby Ex-Services Club\, 58 Dalley Street\, Mullumbimby\, NSW\, 2482
CATEGORIES:All,Meal specials,Members only,Specials
ATTACH;FMTTYPE=image/jpeg:https://www.mullumexservices.com.au/wp-content/uploads/2023/12/Eat-Drink_Gurkhas-on-Dalley.jpg
END:VEVENT
BEGIN:VEVENT
DTSTART;TZID=Australia/Melbourne:20241110T120000
DTEND;TZID=Australia/Melbourne:20241110T210000
DTSTAMP:20260421T121552
CREATED:20231214T000049Z
LAST-MODIFIED:20240912T225038Z
UID:10007501-1731240000-1731272400@www.mullumexservices.com.au
SUMMARY:Sunday Roast Special
DESCRIPTION:Join us at Mullum for our Sunday Roast Special! \nEnjoy a hearty Sunday roast starting from just $16*! \nAvailable every Sunday for lunch (12pm – 2pm) and dinner (from 5:30pm). \n$16 M | $18 NM \nBookings are recommended\, please call us on 02 6684 2533.
URL:https://www.mullumexservices.com.au/event/sunday-roast/2024-11-10/
LOCATION:Mullumbimby Ex-Services Club\, 58 Dalley Street\, Mullumbimby\, NSW\, 2482
CATEGORIES:All,Meal specials,Specials
ATTACH;FMTTYPE=image/jpeg:https://www.mullumexservices.com.au/wp-content/uploads/2023/12/Sunday-Roast-Header.jpg
END:VEVENT
BEGIN:VEVENT
DTSTART;TZID=Australia/Melbourne:20241111T120000
DTEND;TZID=Australia/Melbourne:20241111T140000
DTSTAMP:20260421T121552
CREATED:20230719T230739Z
LAST-MODIFIED:20241122T042858Z
UID:10007992-1731326400-1731333600@www.mullumexservices.com.au
SUMMARY:Daily Lunch Special
DESCRIPTION:Visit Mullum Ex-Services Club for lunch and take advantage of our daily lunch specials!! \nSpecial available every dat for lunch service (12pm – 2pm). \nBookings are highly recommended! Call the club on (02) 6684 2533 to book.
URL:https://www.mullumexservices.com.au/event/lunch-deals/2024-11-11/
LOCATION:Mullumbimby Ex-Services Club\, 58 Dalley Street\, Mullumbimby\, NSW\, 2482
CATEGORIES:All,Meal specials,Members only,Specials
ATTACH;FMTTYPE=image/jpeg:https://www.mullumexservices.com.au/wp-content/uploads/2023/12/Eat-Drink_Gurkhas-on-Dalley.jpg
END:VEVENT
BEGIN:VEVENT
DTSTART;TZID=Australia/Melbourne:20241111T173000
DTEND;TZID=Australia/Melbourne:20241111T210000
DTSTAMP:20260421T121552
CREATED:20231213T233835Z
LAST-MODIFIED:20251215T061003Z
UID:10006717-1731346200-1731358800@www.mullumexservices.com.au
SUMMARY:Monday Schnitzel Night
DESCRIPTION:Join us at Mullum for our $10* Monday Chicken Schnitzel Special! \nEnjoy a golden crumbed chicken schnitzel! \nAvailable every Monday for dinner (from 5:30pm). \n$10 M | $12 NM \nBookings are recommended\, please call us on 02 6684 2533. \n*Terms & Conditions Apply.
URL:https://www.mullumexservices.com.au/event/schnitzel-night/2024-11-11/
LOCATION:Mullumbimby Ex-Services Club\, 58 Dalley Street\, Mullumbimby\, NSW\, 2482
CATEGORIES:All,Meal specials,Specials
ATTACH;FMTTYPE=image/jpeg:https://www.mullumexservices.com.au/wp-content/uploads/2023/12/Mullum-Schnitzel-Night.jpg
END:VEVENT
BEGIN:VEVENT
DTSTART;TZID=Australia/Melbourne:20241112T120000
DTEND;TZID=Australia/Melbourne:20241112T140000
DTSTAMP:20260421T121552
CREATED:20230719T230739Z
LAST-MODIFIED:20241122T042858Z
UID:10004843-1731412800-1731420000@www.mullumexservices.com.au
SUMMARY:Daily Lunch Special
DESCRIPTION:Visit Mullum Ex-Services Club for lunch and take advantage of our daily lunch specials!! \nSpecial available every dat for lunch service (12pm – 2pm). \nBookings are highly recommended! Call the club on (02) 6684 2533 to book.
URL:https://www.mullumexservices.com.au/event/lunch-deals/2024-11-12/
LOCATION:Mullumbimby Ex-Services Club\, 58 Dalley Street\, Mullumbimby\, NSW\, 2482
CATEGORIES:All,Meal specials,Members only,Specials
ATTACH;FMTTYPE=image/jpeg:https://www.mullumexservices.com.au/wp-content/uploads/2023/12/Eat-Drink_Gurkhas-on-Dalley.jpg
END:VEVENT
BEGIN:VEVENT
DTSTART;TZID=Australia/Melbourne:20241112T173000
DTEND;TZID=Australia/Melbourne:20241112T210000
DTSTAMP:20260421T121552
CREATED:20231213T234606Z
LAST-MODIFIED:20240527T051130Z
UID:10006978-1731432600-1731445200@www.mullumexservices.com.au
SUMMARY:Tuesday Steak Night
DESCRIPTION:Join us at Mullum for our $17* Tuesday Steak Night! \nEnjoy a succulent steak\, plus\, a complimentary drink*! \nAvailable every Tuesday for dinner (from 5:30pm). \n$17 M | $19 NM \nBookings are recommended\, please call us on 02 6684 2533. \n*Terms & Conditions Apply. Drink Responsibly.
URL:https://www.mullumexservices.com.au/event/steak-night/2024-11-12/
LOCATION:Mullumbimby Ex-Services Club\, 58 Dalley Street\, Mullumbimby\, NSW\, 2482
CATEGORIES:All,Meal specials,Specials
ATTACH;FMTTYPE=image/jpeg:https://www.mullumexservices.com.au/wp-content/uploads/2023/12/Steak-Night-Header.jpg
END:VEVENT
BEGIN:VEVENT
DTSTART;TZID=Australia/Melbourne:20241113T120000
DTEND;TZID=Australia/Melbourne:20241113T140000
DTSTAMP:20260421T121552
CREATED:20230719T230739Z
LAST-MODIFIED:20241122T042858Z
UID:10004844-1731499200-1731506400@www.mullumexservices.com.au
SUMMARY:Daily Lunch Special
DESCRIPTION:Visit Mullum Ex-Services Club for lunch and take advantage of our daily lunch specials!! \nSpecial available every dat for lunch service (12pm – 2pm). \nBookings are highly recommended! Call the club on (02) 6684 2533 to book.
URL:https://www.mullumexservices.com.au/event/lunch-deals/2024-11-13/
LOCATION:Mullumbimby Ex-Services Club\, 58 Dalley Street\, Mullumbimby\, NSW\, 2482
CATEGORIES:All,Meal specials,Members only,Specials
ATTACH;FMTTYPE=image/jpeg:https://www.mullumexservices.com.au/wp-content/uploads/2023/12/Eat-Drink_Gurkhas-on-Dalley.jpg
END:VEVENT
BEGIN:VEVENT
DTSTART;TZID=Australia/Melbourne:20241114T120000
DTEND;TZID=Australia/Melbourne:20241114T140000
DTSTAMP:20260421T121552
CREATED:20230719T230739Z
LAST-MODIFIED:20241122T042858Z
UID:10004845-1731585600-1731592800@www.mullumexservices.com.au
SUMMARY:Daily Lunch Special
DESCRIPTION:Visit Mullum Ex-Services Club for lunch and take advantage of our daily lunch specials!! \nSpecial available every dat for lunch service (12pm – 2pm). \nBookings are highly recommended! Call the club on (02) 6684 2533 to book.
URL:https://www.mullumexservices.com.au/event/lunch-deals/2024-11-14/
LOCATION:Mullumbimby Ex-Services Club\, 58 Dalley Street\, Mullumbimby\, NSW\, 2482
CATEGORIES:All,Meal specials,Members only,Specials
ATTACH;FMTTYPE=image/jpeg:https://www.mullumexservices.com.au/wp-content/uploads/2023/12/Eat-Drink_Gurkhas-on-Dalley.jpg
END:VEVENT
BEGIN:VEVENT
DTSTART;TZID=Australia/Melbourne:20241115T120000
DTEND;TZID=Australia/Melbourne:20241115T140000
DTSTAMP:20260421T121552
CREATED:20230719T230739Z
LAST-MODIFIED:20241122T042858Z
UID:10004846-1731672000-1731679200@www.mullumexservices.com.au
SUMMARY:Daily Lunch Special
DESCRIPTION:Visit Mullum Ex-Services Club for lunch and take advantage of our daily lunch specials!! \nSpecial available every dat for lunch service (12pm – 2pm). \nBookings are highly recommended! Call the club on (02) 6684 2533 to book.
URL:https://www.mullumexservices.com.au/event/lunch-deals/2024-11-15/
LOCATION:Mullumbimby Ex-Services Club\, 58 Dalley Street\, Mullumbimby\, NSW\, 2482
CATEGORIES:All,Meal specials,Members only,Specials
ATTACH;FMTTYPE=image/jpeg:https://www.mullumexservices.com.au/wp-content/uploads/2023/12/Eat-Drink_Gurkhas-on-Dalley.jpg
END:VEVENT
BEGIN:VEVENT
DTSTART;TZID=Australia/Melbourne:20241116T120000
DTEND;TZID=Australia/Melbourne:20241116T140000
DTSTAMP:20260421T121552
CREATED:20230719T230739Z
LAST-MODIFIED:20241122T042858Z
UID:10007993-1731758400-1731765600@www.mullumexservices.com.au
SUMMARY:Daily Lunch Special
DESCRIPTION:Visit Mullum Ex-Services Club for lunch and take advantage of our daily lunch specials!! \nSpecial available every dat for lunch service (12pm – 2pm). \nBookings are highly recommended! Call the club on (02) 6684 2533 to book.
URL:https://www.mullumexservices.com.au/event/lunch-deals/2024-11-16/
LOCATION:Mullumbimby Ex-Services Club\, 58 Dalley Street\, Mullumbimby\, NSW\, 2482
CATEGORIES:All,Meal specials,Members only,Specials
ATTACH;FMTTYPE=image/jpeg:https://www.mullumexservices.com.au/wp-content/uploads/2023/12/Eat-Drink_Gurkhas-on-Dalley.jpg
END:VEVENT
BEGIN:VEVENT
DTSTART;TZID=Australia/Melbourne:20241117T120000
DTEND;TZID=Australia/Melbourne:20241117T140000
DTSTAMP:20260421T121552
CREATED:20230719T230739Z
LAST-MODIFIED:20241122T042858Z
UID:10007994-1731844800-1731852000@www.mullumexservices.com.au
SUMMARY:Daily Lunch Special
DESCRIPTION:Visit Mullum Ex-Services Club for lunch and take advantage of our daily lunch specials!! \nSpecial available every dat for lunch service (12pm – 2pm). \nBookings are highly recommended! Call the club on (02) 6684 2533 to book.
URL:https://www.mullumexservices.com.au/event/lunch-deals/2024-11-17/
LOCATION:Mullumbimby Ex-Services Club\, 58 Dalley Street\, Mullumbimby\, NSW\, 2482
CATEGORIES:All,Meal specials,Members only,Specials
ATTACH;FMTTYPE=image/jpeg:https://www.mullumexservices.com.au/wp-content/uploads/2023/12/Eat-Drink_Gurkhas-on-Dalley.jpg
END:VEVENT
BEGIN:VEVENT
DTSTART;TZID=Australia/Melbourne:20241117T120000
DTEND;TZID=Australia/Melbourne:20241117T210000
DTSTAMP:20260421T121552
CREATED:20231214T000049Z
LAST-MODIFIED:20240912T225038Z
UID:10007502-1731844800-1731877200@www.mullumexservices.com.au
SUMMARY:Sunday Roast Special
DESCRIPTION:Join us at Mullum for our Sunday Roast Special! \nEnjoy a hearty Sunday roast starting from just $16*! \nAvailable every Sunday for lunch (12pm – 2pm) and dinner (from 5:30pm). \n$16 M | $18 NM \nBookings are recommended\, please call us on 02 6684 2533.
URL:https://www.mullumexservices.com.au/event/sunday-roast/2024-11-17/
LOCATION:Mullumbimby Ex-Services Club\, 58 Dalley Street\, Mullumbimby\, NSW\, 2482
CATEGORIES:All,Meal specials,Specials
ATTACH;FMTTYPE=image/jpeg:https://www.mullumexservices.com.au/wp-content/uploads/2023/12/Sunday-Roast-Header.jpg
END:VEVENT
BEGIN:VEVENT
DTSTART;TZID=Australia/Melbourne:20241118T120000
DTEND;TZID=Australia/Melbourne:20241118T140000
DTSTAMP:20260421T121552
CREATED:20230719T230739Z
LAST-MODIFIED:20241122T042858Z
UID:10007995-1731931200-1731938400@www.mullumexservices.com.au
SUMMARY:Daily Lunch Special
DESCRIPTION:Visit Mullum Ex-Services Club for lunch and take advantage of our daily lunch specials!! \nSpecial available every dat for lunch service (12pm – 2pm). \nBookings are highly recommended! Call the club on (02) 6684 2533 to book.
URL:https://www.mullumexservices.com.au/event/lunch-deals/2024-11-18/
LOCATION:Mullumbimby Ex-Services Club\, 58 Dalley Street\, Mullumbimby\, NSW\, 2482
CATEGORIES:All,Meal specials,Members only,Specials
ATTACH;FMTTYPE=image/jpeg:https://www.mullumexservices.com.au/wp-content/uploads/2023/12/Eat-Drink_Gurkhas-on-Dalley.jpg
END:VEVENT
BEGIN:VEVENT
DTSTART;TZID=Australia/Melbourne:20241118T173000
DTEND;TZID=Australia/Melbourne:20241118T210000
DTSTAMP:20260421T121552
CREATED:20231213T233835Z
LAST-MODIFIED:20251215T061003Z
UID:10006718-1731951000-1731963600@www.mullumexservices.com.au
SUMMARY:Monday Schnitzel Night
DESCRIPTION:Join us at Mullum for our $10* Monday Chicken Schnitzel Special! \nEnjoy a golden crumbed chicken schnitzel! \nAvailable every Monday for dinner (from 5:30pm). \n$10 M | $12 NM \nBookings are recommended\, please call us on 02 6684 2533. \n*Terms & Conditions Apply.
URL:https://www.mullumexservices.com.au/event/schnitzel-night/2024-11-18/
LOCATION:Mullumbimby Ex-Services Club\, 58 Dalley Street\, Mullumbimby\, NSW\, 2482
CATEGORIES:All,Meal specials,Specials
ATTACH;FMTTYPE=image/jpeg:https://www.mullumexservices.com.au/wp-content/uploads/2023/12/Mullum-Schnitzel-Night.jpg
END:VEVENT
BEGIN:VEVENT
DTSTART;TZID=Australia/Melbourne:20241119T120000
DTEND;TZID=Australia/Melbourne:20241119T140000
DTSTAMP:20260421T121552
CREATED:20230719T230739Z
LAST-MODIFIED:20241122T042858Z
UID:10004847-1732017600-1732024800@www.mullumexservices.com.au
SUMMARY:Daily Lunch Special
DESCRIPTION:Visit Mullum Ex-Services Club for lunch and take advantage of our daily lunch specials!! \nSpecial available every dat for lunch service (12pm – 2pm). \nBookings are highly recommended! Call the club on (02) 6684 2533 to book.
URL:https://www.mullumexservices.com.au/event/lunch-deals/2024-11-19/
LOCATION:Mullumbimby Ex-Services Club\, 58 Dalley Street\, Mullumbimby\, NSW\, 2482
CATEGORIES:All,Meal specials,Members only,Specials
ATTACH;FMTTYPE=image/jpeg:https://www.mullumexservices.com.au/wp-content/uploads/2023/12/Eat-Drink_Gurkhas-on-Dalley.jpg
END:VEVENT
BEGIN:VEVENT
DTSTART;TZID=Australia/Melbourne:20241119T173000
DTEND;TZID=Australia/Melbourne:20241119T210000
DTSTAMP:20260421T121552
CREATED:20231213T234606Z
LAST-MODIFIED:20240527T051130Z
UID:10006979-1732037400-1732050000@www.mullumexservices.com.au
SUMMARY:Tuesday Steak Night
DESCRIPTION:Join us at Mullum for our $17* Tuesday Steak Night! \nEnjoy a succulent steak\, plus\, a complimentary drink*! \nAvailable every Tuesday for dinner (from 5:30pm). \n$17 M | $19 NM \nBookings are recommended\, please call us on 02 6684 2533. \n*Terms & Conditions Apply. Drink Responsibly.
URL:https://www.mullumexservices.com.au/event/steak-night/2024-11-19/
LOCATION:Mullumbimby Ex-Services Club\, 58 Dalley Street\, Mullumbimby\, NSW\, 2482
CATEGORIES:All,Meal specials,Specials
ATTACH;FMTTYPE=image/jpeg:https://www.mullumexservices.com.au/wp-content/uploads/2023/12/Steak-Night-Header.jpg
END:VEVENT
BEGIN:VEVENT
DTSTART;TZID=Australia/Melbourne:20241120T120000
DTEND;TZID=Australia/Melbourne:20241120T140000
DTSTAMP:20260421T121552
CREATED:20230719T230739Z
LAST-MODIFIED:20241122T042858Z
UID:10004848-1732104000-1732111200@www.mullumexservices.com.au
SUMMARY:Daily Lunch Special
DESCRIPTION:Visit Mullum Ex-Services Club for lunch and take advantage of our daily lunch specials!! \nSpecial available every dat for lunch service (12pm – 2pm). \nBookings are highly recommended! Call the club on (02) 6684 2533 to book.
URL:https://www.mullumexservices.com.au/event/lunch-deals/2024-11-20/
LOCATION:Mullumbimby Ex-Services Club\, 58 Dalley Street\, Mullumbimby\, NSW\, 2482
CATEGORIES:All,Meal specials,Members only,Specials
ATTACH;FMTTYPE=image/jpeg:https://www.mullumexservices.com.au/wp-content/uploads/2023/12/Eat-Drink_Gurkhas-on-Dalley.jpg
END:VEVENT
BEGIN:VEVENT
DTSTART;TZID=Australia/Melbourne:20241121T120000
DTEND;TZID=Australia/Melbourne:20241121T140000
DTSTAMP:20260421T121552
CREATED:20230719T230739Z
LAST-MODIFIED:20241122T042858Z
UID:10004849-1732190400-1732197600@www.mullumexservices.com.au
SUMMARY:Daily Lunch Special
DESCRIPTION:Visit Mullum Ex-Services Club for lunch and take advantage of our daily lunch specials!! \nSpecial available every dat for lunch service (12pm – 2pm). \nBookings are highly recommended! Call the club on (02) 6684 2533 to book.
URL:https://www.mullumexservices.com.au/event/lunch-deals/2024-11-21/
LOCATION:Mullumbimby Ex-Services Club\, 58 Dalley Street\, Mullumbimby\, NSW\, 2482
CATEGORIES:All,Meal specials,Members only,Specials
ATTACH;FMTTYPE=image/jpeg:https://www.mullumexservices.com.au/wp-content/uploads/2023/12/Eat-Drink_Gurkhas-on-Dalley.jpg
END:VEVENT
END:VCALENDAR