BEGIN:VCALENDAR
VERSION:2.0
PRODID:-//Mullumbimby Ex-Services Club - ECPv6.15.17.1//NONSGML v1.0//EN
CALSCALE:GREGORIAN
METHOD:PUBLISH
X-ORIGINAL-URL:https://www.mullumexservices.com.au
X-WR-CALDESC:Events for Mullumbimby Ex-Services Club
REFRESH-INTERVAL;VALUE=DURATION:PT1H
X-Robots-Tag:noindex
X-PUBLISHED-TTL:PT1H
BEGIN:VTIMEZONE
TZID:Australia/Melbourne
BEGIN:STANDARD
TZOFFSETFROM:+1100
TZOFFSETTO:+1000
TZNAME:AEST
DTSTART:20260404T160000
END:STANDARD
BEGIN:DAYLIGHT
TZOFFSETFROM:+1000
TZOFFSETTO:+1100
TZNAME:AEDT
DTSTART:20261003T160000
END:DAYLIGHT
BEGIN:STANDARD
TZOFFSETFROM:+1100
TZOFFSETTO:+1000
TZNAME:AEST
DTSTART:20270403T160000
END:STANDARD
BEGIN:DAYLIGHT
TZOFFSETFROM:+1000
TZOFFSETTO:+1100
TZNAME:AEDT
DTSTART:20271002T160000
END:DAYLIGHT
BEGIN:STANDARD
TZOFFSETFROM:+1100
TZOFFSETTO:+1000
TZNAME:AEST
DTSTART:20280401T160000
END:STANDARD
BEGIN:DAYLIGHT
TZOFFSETFROM:+1000
TZOFFSETTO:+1100
TZNAME:AEDT
DTSTART:20280930T160000
END:DAYLIGHT
END:VTIMEZONE
BEGIN:VEVENT
DTSTART;TZID=Australia/Melbourne:20270509T170000
DTEND;TZID=Australia/Melbourne:20270509T180000
DTSTAMP:20260426T062435
CREATED:20230315T225545Z
LAST-MODIFIED:20241030T221509Z
UID:10001797-1809882000-1809885600@www.mullumexservices.com.au
SUMMARY:Members Happy Hour 5-6pm
DESCRIPTION:Members can enjoy happy hour every day at Mullum! \nMonday: 5pm – 6pm \nTuesday: 5pm – 6pm \nWednesday: 5pm – 7pm \nThursday: 5pm – 6pm \nFriday: 5pm – 7pm \nSaturday: 2:30pm – 4:30pm \nSunday: 5pm – 6pm \n  \nClick here to become a member. \n  \nTerms & conditions apply. Members only promotion. Directed to members over 18 years only.
URL:https://www.mullumexservices.com.au/event/members-happy-hour-5-6/2027-05-09/
LOCATION:Mullumbimby Ex-Services Club\, 58 Dalley Street\, Mullumbimby\, NSW\, 2482
CATEGORIES:All,Drink specials,Members only,Specials
ATTACH;FMTTYPE=image/jpeg:https://www.mullumexservices.com.au/wp-content/uploads/2023/03/Eat-Drink_Cafe-Bar.jpg
END:VEVENT
BEGIN:VEVENT
DTSTART;TZID=Australia/Melbourne:20270510T120000
DTEND;TZID=Australia/Melbourne:20270510T140000
DTSTAMP:20260426T062435
CREATED:20260204T230645Z
LAST-MODIFIED:20260302T013237Z
UID:10008382-1809950400-1809957600@www.mullumexservices.com.au
SUMMARY:Daily Lunch Special
DESCRIPTION:Visit Mullum Ex-Services Club for lunch and take advantage of our daily lunch specials!! \nSpecial available Monday to Friday for lunch service (12pm – 2pm). \nBookings are highly recommended! Call the club on (02) 6684 2533 to book. T&C’s Apply. \n 
URL:https://www.mullumexservices.com.au/event/lunch-deals-3/2027-05-10/
LOCATION:Mullumbimby Ex-Services Club\, 58 Dalley Street\, Mullumbimby\, NSW\, 2482
CATEGORIES:All,Meal specials,Members only,Specials
ATTACH;FMTTYPE=image/jpeg:https://www.mullumexservices.com.au/wp-content/uploads/2026/02/13-lunch-specials-tvs.jpg
END:VEVENT
BEGIN:VEVENT
DTSTART;TZID=Australia/Melbourne:20270510T170000
DTEND;TZID=Australia/Melbourne:20270510T180000
DTSTAMP:20260426T062435
CREATED:20230315T225545Z
LAST-MODIFIED:20241030T221509Z
UID:10000880-1809968400-1809972000@www.mullumexservices.com.au
SUMMARY:Members Happy Hour 5-6pm
DESCRIPTION:Members can enjoy happy hour every day at Mullum! \nMonday: 5pm – 6pm \nTuesday: 5pm – 6pm \nWednesday: 5pm – 7pm \nThursday: 5pm – 6pm \nFriday: 5pm – 7pm \nSaturday: 2:30pm – 4:30pm \nSunday: 5pm – 6pm \n  \nClick here to become a member. \n  \nTerms & conditions apply. Members only promotion. Directed to members over 18 years only.
URL:https://www.mullumexservices.com.au/event/members-happy-hour-5-6/2027-05-10/
LOCATION:Mullumbimby Ex-Services Club\, 58 Dalley Street\, Mullumbimby\, NSW\, 2482
CATEGORIES:All,Drink specials,Members only,Specials
ATTACH;FMTTYPE=image/jpeg:https://www.mullumexservices.com.au/wp-content/uploads/2023/03/Eat-Drink_Cafe-Bar.jpg
END:VEVENT
BEGIN:VEVENT
DTSTART;TZID=Australia/Melbourne:20270511T120000
DTEND;TZID=Australia/Melbourne:20270511T140000
DTSTAMP:20260426T062435
CREATED:20260204T230645Z
LAST-MODIFIED:20260302T013237Z
UID:10005363-1810036800-1810044000@www.mullumexservices.com.au
SUMMARY:Daily Lunch Special
DESCRIPTION:Visit Mullum Ex-Services Club for lunch and take advantage of our daily lunch specials!! \nSpecial available Monday to Friday for lunch service (12pm – 2pm). \nBookings are highly recommended! Call the club on (02) 6684 2533 to book. T&C’s Apply. \n 
URL:https://www.mullumexservices.com.au/event/lunch-deals-3/2027-05-11/
LOCATION:Mullumbimby Ex-Services Club\, 58 Dalley Street\, Mullumbimby\, NSW\, 2482
CATEGORIES:All,Meal specials,Members only,Specials
ATTACH;FMTTYPE=image/jpeg:https://www.mullumexservices.com.au/wp-content/uploads/2026/02/13-lunch-specials-tvs.jpg
END:VEVENT
BEGIN:VEVENT
DTSTART;TZID=Australia/Melbourne:20270511T170000
DTEND;TZID=Australia/Melbourne:20270511T180000
DTSTAMP:20260426T062435
CREATED:20230315T225545Z
LAST-MODIFIED:20241030T221509Z
UID:10000881-1810054800-1810058400@www.mullumexservices.com.au
SUMMARY:Members Happy Hour 5-6pm
DESCRIPTION:Members can enjoy happy hour every day at Mullum! \nMonday: 5pm – 6pm \nTuesday: 5pm – 6pm \nWednesday: 5pm – 7pm \nThursday: 5pm – 6pm \nFriday: 5pm – 7pm \nSaturday: 2:30pm – 4:30pm \nSunday: 5pm – 6pm \n  \nClick here to become a member. \n  \nTerms & conditions apply. Members only promotion. Directed to members over 18 years only.
URL:https://www.mullumexservices.com.au/event/members-happy-hour-5-6/2027-05-11/
LOCATION:Mullumbimby Ex-Services Club\, 58 Dalley Street\, Mullumbimby\, NSW\, 2482
CATEGORIES:All,Drink specials,Members only,Specials
ATTACH;FMTTYPE=image/jpeg:https://www.mullumexservices.com.au/wp-content/uploads/2023/03/Eat-Drink_Cafe-Bar.jpg
END:VEVENT
BEGIN:VEVENT
DTSTART;TZID=Australia/Melbourne:20270512T120000
DTEND;TZID=Australia/Melbourne:20270512T140000
DTSTAMP:20260426T062435
CREATED:20260204T230645Z
LAST-MODIFIED:20260302T013237Z
UID:10005364-1810123200-1810130400@www.mullumexservices.com.au
SUMMARY:Daily Lunch Special
DESCRIPTION:Visit Mullum Ex-Services Club for lunch and take advantage of our daily lunch specials!! \nSpecial available Monday to Friday for lunch service (12pm – 2pm). \nBookings are highly recommended! Call the club on (02) 6684 2533 to book. T&C’s Apply. \n 
URL:https://www.mullumexservices.com.au/event/lunch-deals-3/2027-05-12/
LOCATION:Mullumbimby Ex-Services Club\, 58 Dalley Street\, Mullumbimby\, NSW\, 2482
CATEGORIES:All,Meal specials,Members only,Specials
ATTACH;FMTTYPE=image/jpeg:https://www.mullumexservices.com.au/wp-content/uploads/2026/02/13-lunch-specials-tvs.jpg
END:VEVENT
BEGIN:VEVENT
DTSTART;TZID=Australia/Melbourne:20270512T170000
DTEND;TZID=Australia/Melbourne:20270512T190000
DTSTAMP:20260426T062435
CREATED:20230315T225830Z
LAST-MODIFIED:20241030T221523Z
UID:10001493-1810141200-1810148400@www.mullumexservices.com.au
SUMMARY:Members Happy Hour 5-7pm
DESCRIPTION:Members can enjoy happy hour every day at Mullum! \nMonday: 5pm – 6pm \nTuesday: 5pm – 6pm \nWednesday: 5pm – 7pm \nThursday: 5pm – 6pm \nFriday: 5pm – 7pm \nSaturday: 2:30pm – 4:30pm \nSunday: 5pm – 6pm \n  \nClick here to become a member. \n  \nTerms & conditions apply. Members only promotion. Directed to members over 18 years only.
URL:https://www.mullumexservices.com.au/event/members-happy-hour-5-7/2027-05-12/
LOCATION:Mullumbimby Ex-Services Club\, 58 Dalley Street\, Mullumbimby\, NSW\, 2482
CATEGORIES:All,Drink specials,Members only,Specials
ATTACH;FMTTYPE=image/jpeg:https://www.mullumexservices.com.au/wp-content/uploads/2023/03/Eat-Drink_Cafe-Bar.jpg
END:VEVENT
BEGIN:VEVENT
DTSTART;TZID=Australia/Melbourne:20270513T120000
DTEND;TZID=Australia/Melbourne:20270513T140000
DTSTAMP:20260426T062435
CREATED:20260204T230645Z
LAST-MODIFIED:20260302T013237Z
UID:10005365-1810209600-1810216800@www.mullumexservices.com.au
SUMMARY:Daily Lunch Special
DESCRIPTION:Visit Mullum Ex-Services Club for lunch and take advantage of our daily lunch specials!! \nSpecial available Monday to Friday for lunch service (12pm – 2pm). \nBookings are highly recommended! Call the club on (02) 6684 2533 to book. T&C’s Apply. \n 
URL:https://www.mullumexservices.com.au/event/lunch-deals-3/2027-05-13/
LOCATION:Mullumbimby Ex-Services Club\, 58 Dalley Street\, Mullumbimby\, NSW\, 2482
CATEGORIES:All,Meal specials,Members only,Specials
ATTACH;FMTTYPE=image/jpeg:https://www.mullumexservices.com.au/wp-content/uploads/2026/02/13-lunch-specials-tvs.jpg
END:VEVENT
BEGIN:VEVENT
DTSTART;TZID=Australia/Melbourne:20270513T170000
DTEND;TZID=Australia/Melbourne:20270513T180000
DTSTAMP:20260426T062435
CREATED:20230315T225545Z
LAST-MODIFIED:20241030T221509Z
UID:10000882-1810227600-1810231200@www.mullumexservices.com.au
SUMMARY:Members Happy Hour 5-6pm
DESCRIPTION:Members can enjoy happy hour every day at Mullum! \nMonday: 5pm – 6pm \nTuesday: 5pm – 6pm \nWednesday: 5pm – 7pm \nThursday: 5pm – 6pm \nFriday: 5pm – 7pm \nSaturday: 2:30pm – 4:30pm \nSunday: 5pm – 6pm \n  \nClick here to become a member. \n  \nTerms & conditions apply. Members only promotion. Directed to members over 18 years only.
URL:https://www.mullumexservices.com.au/event/members-happy-hour-5-6/2027-05-13/
LOCATION:Mullumbimby Ex-Services Club\, 58 Dalley Street\, Mullumbimby\, NSW\, 2482
CATEGORIES:All,Drink specials,Members only,Specials
ATTACH;FMTTYPE=image/jpeg:https://www.mullumexservices.com.au/wp-content/uploads/2023/03/Eat-Drink_Cafe-Bar.jpg
END:VEVENT
BEGIN:VEVENT
DTSTART;TZID=Australia/Melbourne:20270514T120000
DTEND;TZID=Australia/Melbourne:20270514T140000
DTSTAMP:20260426T062435
CREATED:20260204T230645Z
LAST-MODIFIED:20260302T013237Z
UID:10005366-1810296000-1810303200@www.mullumexservices.com.au
SUMMARY:Daily Lunch Special
DESCRIPTION:Visit Mullum Ex-Services Club for lunch and take advantage of our daily lunch specials!! \nSpecial available Monday to Friday for lunch service (12pm – 2pm). \nBookings are highly recommended! Call the club on (02) 6684 2533 to book. T&C’s Apply. \n 
URL:https://www.mullumexservices.com.au/event/lunch-deals-3/2027-05-14/
LOCATION:Mullumbimby Ex-Services Club\, 58 Dalley Street\, Mullumbimby\, NSW\, 2482
CATEGORIES:All,Meal specials,Members only,Specials
ATTACH;FMTTYPE=image/jpeg:https://www.mullumexservices.com.au/wp-content/uploads/2026/02/13-lunch-specials-tvs.jpg
END:VEVENT
BEGIN:VEVENT
DTSTART;TZID=Australia/Melbourne:20270514T170000
DTEND;TZID=Australia/Melbourne:20270514T190000
DTSTAMP:20260426T062435
CREATED:20230315T225830Z
LAST-MODIFIED:20241030T221523Z
UID:10001494-1810314000-1810321200@www.mullumexservices.com.au
SUMMARY:Members Happy Hour 5-7pm
DESCRIPTION:Members can enjoy happy hour every day at Mullum! \nMonday: 5pm – 6pm \nTuesday: 5pm – 6pm \nWednesday: 5pm – 7pm \nThursday: 5pm – 6pm \nFriday: 5pm – 7pm \nSaturday: 2:30pm – 4:30pm \nSunday: 5pm – 6pm \n  \nClick here to become a member. \n  \nTerms & conditions apply. Members only promotion. Directed to members over 18 years only.
URL:https://www.mullumexservices.com.au/event/members-happy-hour-5-7/2027-05-14/
LOCATION:Mullumbimby Ex-Services Club\, 58 Dalley Street\, Mullumbimby\, NSW\, 2482
CATEGORIES:All,Drink specials,Members only,Specials
ATTACH;FMTTYPE=image/jpeg:https://www.mullumexservices.com.au/wp-content/uploads/2023/03/Eat-Drink_Cafe-Bar.jpg
END:VEVENT
BEGIN:VEVENT
DTSTART;TZID=Australia/Melbourne:20270515T143000
DTEND;TZID=Australia/Melbourne:20270515T163000
DTSTAMP:20260426T062435
CREATED:20230315T230209Z
LAST-MODIFIED:20241030T221516Z
UID:10002059-1810391400-1810398600@www.mullumexservices.com.au
SUMMARY:Members Happy Hour 2:30-4:30pm
DESCRIPTION:Members can enjoy happy hour every day at Mullum! \nMonday: 5pm – 6pm \nTuesday: 5pm – 6pm \nWednesday: 5pm – 7pm \nThursday: 5pm – 6pm \nFriday: 5pm – 7pm \nSaturday: 2:30pm – 4:30pm \nSunday: 5pm – 6pm \n  \nClick here to become a member. \n  \nTerms & conditions apply. Members only promotion. Directed to members over 18 years only.
URL:https://www.mullumexservices.com.au/event/members-happy-hour-230-430/2027-05-15/
LOCATION:Mullumbimby Ex-Services Club\, 58 Dalley Street\, Mullumbimby\, NSW\, 2482
CATEGORIES:All,Drink specials,Members only,Specials
ATTACH;FMTTYPE=image/jpeg:https://www.mullumexservices.com.au/wp-content/uploads/2023/03/Eat-Drink_Cafe-Bar.jpg
END:VEVENT
BEGIN:VEVENT
DTSTART;TZID=Australia/Melbourne:20270516T170000
DTEND;TZID=Australia/Melbourne:20270516T180000
DTSTAMP:20260426T062435
CREATED:20230315T225545Z
LAST-MODIFIED:20241030T221509Z
UID:10001798-1810486800-1810490400@www.mullumexservices.com.au
SUMMARY:Members Happy Hour 5-6pm
DESCRIPTION:Members can enjoy happy hour every day at Mullum! \nMonday: 5pm – 6pm \nTuesday: 5pm – 6pm \nWednesday: 5pm – 7pm \nThursday: 5pm – 6pm \nFriday: 5pm – 7pm \nSaturday: 2:30pm – 4:30pm \nSunday: 5pm – 6pm \n  \nClick here to become a member. \n  \nTerms & conditions apply. Members only promotion. Directed to members over 18 years only.
URL:https://www.mullumexservices.com.au/event/members-happy-hour-5-6/2027-05-16/
LOCATION:Mullumbimby Ex-Services Club\, 58 Dalley Street\, Mullumbimby\, NSW\, 2482
CATEGORIES:All,Drink specials,Members only,Specials
ATTACH;FMTTYPE=image/jpeg:https://www.mullumexservices.com.au/wp-content/uploads/2023/03/Eat-Drink_Cafe-Bar.jpg
END:VEVENT
BEGIN:VEVENT
DTSTART;TZID=Australia/Melbourne:20270517T120000
DTEND;TZID=Australia/Melbourne:20270517T140000
DTSTAMP:20260426T062435
CREATED:20260204T230645Z
LAST-MODIFIED:20260302T013237Z
UID:10008385-1810555200-1810562400@www.mullumexservices.com.au
SUMMARY:Daily Lunch Special
DESCRIPTION:Visit Mullum Ex-Services Club for lunch and take advantage of our daily lunch specials!! \nSpecial available Monday to Friday for lunch service (12pm – 2pm). \nBookings are highly recommended! Call the club on (02) 6684 2533 to book. T&C’s Apply. \n 
URL:https://www.mullumexservices.com.au/event/lunch-deals-3/2027-05-17/
LOCATION:Mullumbimby Ex-Services Club\, 58 Dalley Street\, Mullumbimby\, NSW\, 2482
CATEGORIES:All,Meal specials,Members only,Specials
ATTACH;FMTTYPE=image/jpeg:https://www.mullumexservices.com.au/wp-content/uploads/2026/02/13-lunch-specials-tvs.jpg
END:VEVENT
BEGIN:VEVENT
DTSTART;TZID=Australia/Melbourne:20270517T170000
DTEND;TZID=Australia/Melbourne:20270517T180000
DTSTAMP:20260426T062435
CREATED:20230315T225545Z
LAST-MODIFIED:20241030T221509Z
UID:10000884-1810573200-1810576800@www.mullumexservices.com.au
SUMMARY:Members Happy Hour 5-6pm
DESCRIPTION:Members can enjoy happy hour every day at Mullum! \nMonday: 5pm – 6pm \nTuesday: 5pm – 6pm \nWednesday: 5pm – 7pm \nThursday: 5pm – 6pm \nFriday: 5pm – 7pm \nSaturday: 2:30pm – 4:30pm \nSunday: 5pm – 6pm \n  \nClick here to become a member. \n  \nTerms & conditions apply. Members only promotion. Directed to members over 18 years only.
URL:https://www.mullumexservices.com.au/event/members-happy-hour-5-6/2027-05-17/
LOCATION:Mullumbimby Ex-Services Club\, 58 Dalley Street\, Mullumbimby\, NSW\, 2482
CATEGORIES:All,Drink specials,Members only,Specials
ATTACH;FMTTYPE=image/jpeg:https://www.mullumexservices.com.au/wp-content/uploads/2023/03/Eat-Drink_Cafe-Bar.jpg
END:VEVENT
BEGIN:VEVENT
DTSTART;TZID=Australia/Melbourne:20270518T120000
DTEND;TZID=Australia/Melbourne:20270518T140000
DTSTAMP:20260426T062435
CREATED:20260204T230645Z
LAST-MODIFIED:20260302T013237Z
UID:10005367-1810641600-1810648800@www.mullumexservices.com.au
SUMMARY:Daily Lunch Special
DESCRIPTION:Visit Mullum Ex-Services Club for lunch and take advantage of our daily lunch specials!! \nSpecial available Monday to Friday for lunch service (12pm – 2pm). \nBookings are highly recommended! Call the club on (02) 6684 2533 to book. T&C’s Apply. \n 
URL:https://www.mullumexservices.com.au/event/lunch-deals-3/2027-05-18/
LOCATION:Mullumbimby Ex-Services Club\, 58 Dalley Street\, Mullumbimby\, NSW\, 2482
CATEGORIES:All,Meal specials,Members only,Specials
ATTACH;FMTTYPE=image/jpeg:https://www.mullumexservices.com.au/wp-content/uploads/2026/02/13-lunch-specials-tvs.jpg
END:VEVENT
BEGIN:VEVENT
DTSTART;TZID=Australia/Melbourne:20270518T170000
DTEND;TZID=Australia/Melbourne:20270518T180000
DTSTAMP:20260426T062435
CREATED:20230315T225545Z
LAST-MODIFIED:20241030T221509Z
UID:10000885-1810659600-1810663200@www.mullumexservices.com.au
SUMMARY:Members Happy Hour 5-6pm
DESCRIPTION:Members can enjoy happy hour every day at Mullum! \nMonday: 5pm – 6pm \nTuesday: 5pm – 6pm \nWednesday: 5pm – 7pm \nThursday: 5pm – 6pm \nFriday: 5pm – 7pm \nSaturday: 2:30pm – 4:30pm \nSunday: 5pm – 6pm \n  \nClick here to become a member. \n  \nTerms & conditions apply. Members only promotion. Directed to members over 18 years only.
URL:https://www.mullumexservices.com.au/event/members-happy-hour-5-6/2027-05-18/
LOCATION:Mullumbimby Ex-Services Club\, 58 Dalley Street\, Mullumbimby\, NSW\, 2482
CATEGORIES:All,Drink specials,Members only,Specials
ATTACH;FMTTYPE=image/jpeg:https://www.mullumexservices.com.au/wp-content/uploads/2023/03/Eat-Drink_Cafe-Bar.jpg
END:VEVENT
BEGIN:VEVENT
DTSTART;TZID=Australia/Melbourne:20270519T120000
DTEND;TZID=Australia/Melbourne:20270519T140000
DTSTAMP:20260426T062435
CREATED:20260204T230645Z
LAST-MODIFIED:20260302T013237Z
UID:10005368-1810728000-1810735200@www.mullumexservices.com.au
SUMMARY:Daily Lunch Special
DESCRIPTION:Visit Mullum Ex-Services Club for lunch and take advantage of our daily lunch specials!! \nSpecial available Monday to Friday for lunch service (12pm – 2pm). \nBookings are highly recommended! Call the club on (02) 6684 2533 to book. T&C’s Apply. \n 
URL:https://www.mullumexservices.com.au/event/lunch-deals-3/2027-05-19/
LOCATION:Mullumbimby Ex-Services Club\, 58 Dalley Street\, Mullumbimby\, NSW\, 2482
CATEGORIES:All,Meal specials,Members only,Specials
ATTACH;FMTTYPE=image/jpeg:https://www.mullumexservices.com.au/wp-content/uploads/2026/02/13-lunch-specials-tvs.jpg
END:VEVENT
BEGIN:VEVENT
DTSTART;TZID=Australia/Melbourne:20270519T170000
DTEND;TZID=Australia/Melbourne:20270519T190000
DTSTAMP:20260426T062435
CREATED:20230315T225830Z
LAST-MODIFIED:20241030T221523Z
UID:10001495-1810746000-1810753200@www.mullumexservices.com.au
SUMMARY:Members Happy Hour 5-7pm
DESCRIPTION:Members can enjoy happy hour every day at Mullum! \nMonday: 5pm – 6pm \nTuesday: 5pm – 6pm \nWednesday: 5pm – 7pm \nThursday: 5pm – 6pm \nFriday: 5pm – 7pm \nSaturday: 2:30pm – 4:30pm \nSunday: 5pm – 6pm \n  \nClick here to become a member. \n  \nTerms & conditions apply. Members only promotion. Directed to members over 18 years only.
URL:https://www.mullumexservices.com.au/event/members-happy-hour-5-7/2027-05-19/
LOCATION:Mullumbimby Ex-Services Club\, 58 Dalley Street\, Mullumbimby\, NSW\, 2482
CATEGORIES:All,Drink specials,Members only,Specials
ATTACH;FMTTYPE=image/jpeg:https://www.mullumexservices.com.au/wp-content/uploads/2023/03/Eat-Drink_Cafe-Bar.jpg
END:VEVENT
BEGIN:VEVENT
DTSTART;TZID=Australia/Melbourne:20270520T120000
DTEND;TZID=Australia/Melbourne:20270520T140000
DTSTAMP:20260426T062435
CREATED:20260204T230645Z
LAST-MODIFIED:20260302T013237Z
UID:10005369-1810814400-1810821600@www.mullumexservices.com.au
SUMMARY:Daily Lunch Special
DESCRIPTION:Visit Mullum Ex-Services Club for lunch and take advantage of our daily lunch specials!! \nSpecial available Monday to Friday for lunch service (12pm – 2pm). \nBookings are highly recommended! Call the club on (02) 6684 2533 to book. T&C’s Apply. \n 
URL:https://www.mullumexservices.com.au/event/lunch-deals-3/2027-05-20/
LOCATION:Mullumbimby Ex-Services Club\, 58 Dalley Street\, Mullumbimby\, NSW\, 2482
CATEGORIES:All,Meal specials,Members only,Specials
ATTACH;FMTTYPE=image/jpeg:https://www.mullumexservices.com.au/wp-content/uploads/2026/02/13-lunch-specials-tvs.jpg
END:VEVENT
BEGIN:VEVENT
DTSTART;TZID=Australia/Melbourne:20270520T170000
DTEND;TZID=Australia/Melbourne:20270520T180000
DTSTAMP:20260426T062435
CREATED:20230315T225545Z
LAST-MODIFIED:20241030T221509Z
UID:10000886-1810832400-1810836000@www.mullumexservices.com.au
SUMMARY:Members Happy Hour 5-6pm
DESCRIPTION:Members can enjoy happy hour every day at Mullum! \nMonday: 5pm – 6pm \nTuesday: 5pm – 6pm \nWednesday: 5pm – 7pm \nThursday: 5pm – 6pm \nFriday: 5pm – 7pm \nSaturday: 2:30pm – 4:30pm \nSunday: 5pm – 6pm \n  \nClick here to become a member. \n  \nTerms & conditions apply. Members only promotion. Directed to members over 18 years only.
URL:https://www.mullumexservices.com.au/event/members-happy-hour-5-6/2027-05-20/
LOCATION:Mullumbimby Ex-Services Club\, 58 Dalley Street\, Mullumbimby\, NSW\, 2482
CATEGORIES:All,Drink specials,Members only,Specials
ATTACH;FMTTYPE=image/jpeg:https://www.mullumexservices.com.au/wp-content/uploads/2023/03/Eat-Drink_Cafe-Bar.jpg
END:VEVENT
BEGIN:VEVENT
DTSTART;TZID=Australia/Melbourne:20270521T120000
DTEND;TZID=Australia/Melbourne:20270521T140000
DTSTAMP:20260426T062435
CREATED:20260204T230645Z
LAST-MODIFIED:20260302T013237Z
UID:10005370-1810900800-1810908000@www.mullumexservices.com.au
SUMMARY:Daily Lunch Special
DESCRIPTION:Visit Mullum Ex-Services Club for lunch and take advantage of our daily lunch specials!! \nSpecial available Monday to Friday for lunch service (12pm – 2pm). \nBookings are highly recommended! Call the club on (02) 6684 2533 to book. T&C’s Apply. \n 
URL:https://www.mullumexservices.com.au/event/lunch-deals-3/2027-05-21/
LOCATION:Mullumbimby Ex-Services Club\, 58 Dalley Street\, Mullumbimby\, NSW\, 2482
CATEGORIES:All,Meal specials,Members only,Specials
ATTACH;FMTTYPE=image/jpeg:https://www.mullumexservices.com.au/wp-content/uploads/2026/02/13-lunch-specials-tvs.jpg
END:VEVENT
BEGIN:VEVENT
DTSTART;TZID=Australia/Melbourne:20270521T170000
DTEND;TZID=Australia/Melbourne:20270521T190000
DTSTAMP:20260426T062435
CREATED:20230315T225830Z
LAST-MODIFIED:20241030T221523Z
UID:10001496-1810918800-1810926000@www.mullumexservices.com.au
SUMMARY:Members Happy Hour 5-7pm
DESCRIPTION:Members can enjoy happy hour every day at Mullum! \nMonday: 5pm – 6pm \nTuesday: 5pm – 6pm \nWednesday: 5pm – 7pm \nThursday: 5pm – 6pm \nFriday: 5pm – 7pm \nSaturday: 2:30pm – 4:30pm \nSunday: 5pm – 6pm \n  \nClick here to become a member. \n  \nTerms & conditions apply. Members only promotion. Directed to members over 18 years only.
URL:https://www.mullumexservices.com.au/event/members-happy-hour-5-7/2027-05-21/
LOCATION:Mullumbimby Ex-Services Club\, 58 Dalley Street\, Mullumbimby\, NSW\, 2482
CATEGORIES:All,Drink specials,Members only,Specials
ATTACH;FMTTYPE=image/jpeg:https://www.mullumexservices.com.au/wp-content/uploads/2023/03/Eat-Drink_Cafe-Bar.jpg
END:VEVENT
BEGIN:VEVENT
DTSTART;TZID=Australia/Melbourne:20270522T143000
DTEND;TZID=Australia/Melbourne:20270522T163000
DTSTAMP:20260426T062435
CREATED:20230315T230209Z
LAST-MODIFIED:20241030T221516Z
UID:10002060-1810996200-1811003400@www.mullumexservices.com.au
SUMMARY:Members Happy Hour 2:30-4:30pm
DESCRIPTION:Members can enjoy happy hour every day at Mullum! \nMonday: 5pm – 6pm \nTuesday: 5pm – 6pm \nWednesday: 5pm – 7pm \nThursday: 5pm – 6pm \nFriday: 5pm – 7pm \nSaturday: 2:30pm – 4:30pm \nSunday: 5pm – 6pm \n  \nClick here to become a member. \n  \nTerms & conditions apply. Members only promotion. Directed to members over 18 years only.
URL:https://www.mullumexservices.com.au/event/members-happy-hour-230-430/2027-05-22/
LOCATION:Mullumbimby Ex-Services Club\, 58 Dalley Street\, Mullumbimby\, NSW\, 2482
CATEGORIES:All,Drink specials,Members only,Specials
ATTACH;FMTTYPE=image/jpeg:https://www.mullumexservices.com.au/wp-content/uploads/2023/03/Eat-Drink_Cafe-Bar.jpg
END:VEVENT
BEGIN:VEVENT
DTSTART;TZID=Australia/Melbourne:20270523T170000
DTEND;TZID=Australia/Melbourne:20270523T180000
DTSTAMP:20260426T062435
CREATED:20230315T225545Z
LAST-MODIFIED:20241030T221509Z
UID:10001799-1811091600-1811095200@www.mullumexservices.com.au
SUMMARY:Members Happy Hour 5-6pm
DESCRIPTION:Members can enjoy happy hour every day at Mullum! \nMonday: 5pm – 6pm \nTuesday: 5pm – 6pm \nWednesday: 5pm – 7pm \nThursday: 5pm – 6pm \nFriday: 5pm – 7pm \nSaturday: 2:30pm – 4:30pm \nSunday: 5pm – 6pm \n  \nClick here to become a member. \n  \nTerms & conditions apply. Members only promotion. Directed to members over 18 years only.
URL:https://www.mullumexservices.com.au/event/members-happy-hour-5-6/2027-05-23/
LOCATION:Mullumbimby Ex-Services Club\, 58 Dalley Street\, Mullumbimby\, NSW\, 2482
CATEGORIES:All,Drink specials,Members only,Specials
ATTACH;FMTTYPE=image/jpeg:https://www.mullumexservices.com.au/wp-content/uploads/2023/03/Eat-Drink_Cafe-Bar.jpg
END:VEVENT
BEGIN:VEVENT
DTSTART;TZID=Australia/Melbourne:20270524T120000
DTEND;TZID=Australia/Melbourne:20270524T140000
DTSTAMP:20260426T062435
CREATED:20260204T230645Z
LAST-MODIFIED:20260302T013237Z
UID:10008388-1811160000-1811167200@www.mullumexservices.com.au
SUMMARY:Daily Lunch Special
DESCRIPTION:Visit Mullum Ex-Services Club for lunch and take advantage of our daily lunch specials!! \nSpecial available Monday to Friday for lunch service (12pm – 2pm). \nBookings are highly recommended! Call the club on (02) 6684 2533 to book. T&C’s Apply. \n 
URL:https://www.mullumexservices.com.au/event/lunch-deals-3/2027-05-24/
LOCATION:Mullumbimby Ex-Services Club\, 58 Dalley Street\, Mullumbimby\, NSW\, 2482
CATEGORIES:All,Meal specials,Members only,Specials
ATTACH;FMTTYPE=image/jpeg:https://www.mullumexservices.com.au/wp-content/uploads/2026/02/13-lunch-specials-tvs.jpg
END:VEVENT
BEGIN:VEVENT
DTSTART;TZID=Australia/Melbourne:20270524T170000
DTEND;TZID=Australia/Melbourne:20270524T180000
DTSTAMP:20260426T062435
CREATED:20230315T225545Z
LAST-MODIFIED:20241030T221509Z
UID:10000888-1811178000-1811181600@www.mullumexservices.com.au
SUMMARY:Members Happy Hour 5-6pm
DESCRIPTION:Members can enjoy happy hour every day at Mullum! \nMonday: 5pm – 6pm \nTuesday: 5pm – 6pm \nWednesday: 5pm – 7pm \nThursday: 5pm – 6pm \nFriday: 5pm – 7pm \nSaturday: 2:30pm – 4:30pm \nSunday: 5pm – 6pm \n  \nClick here to become a member. \n  \nTerms & conditions apply. Members only promotion. Directed to members over 18 years only.
URL:https://www.mullumexservices.com.au/event/members-happy-hour-5-6/2027-05-24/
LOCATION:Mullumbimby Ex-Services Club\, 58 Dalley Street\, Mullumbimby\, NSW\, 2482
CATEGORIES:All,Drink specials,Members only,Specials
ATTACH;FMTTYPE=image/jpeg:https://www.mullumexservices.com.au/wp-content/uploads/2023/03/Eat-Drink_Cafe-Bar.jpg
END:VEVENT
BEGIN:VEVENT
DTSTART;TZID=Australia/Melbourne:20270525T120000
DTEND;TZID=Australia/Melbourne:20270525T140000
DTSTAMP:20260426T062435
CREATED:20260204T230645Z
LAST-MODIFIED:20260302T013237Z
UID:10005371-1811246400-1811253600@www.mullumexservices.com.au
SUMMARY:Daily Lunch Special
DESCRIPTION:Visit Mullum Ex-Services Club for lunch and take advantage of our daily lunch specials!! \nSpecial available Monday to Friday for lunch service (12pm – 2pm). \nBookings are highly recommended! Call the club on (02) 6684 2533 to book. T&C’s Apply. \n 
URL:https://www.mullumexservices.com.au/event/lunch-deals-3/2027-05-25/
LOCATION:Mullumbimby Ex-Services Club\, 58 Dalley Street\, Mullumbimby\, NSW\, 2482
CATEGORIES:All,Meal specials,Members only,Specials
ATTACH;FMTTYPE=image/jpeg:https://www.mullumexservices.com.au/wp-content/uploads/2026/02/13-lunch-specials-tvs.jpg
END:VEVENT
BEGIN:VEVENT
DTSTART;TZID=Australia/Melbourne:20270525T170000
DTEND;TZID=Australia/Melbourne:20270525T180000
DTSTAMP:20260426T062435
CREATED:20230315T225545Z
LAST-MODIFIED:20241030T221509Z
UID:10000889-1811264400-1811268000@www.mullumexservices.com.au
SUMMARY:Members Happy Hour 5-6pm
DESCRIPTION:Members can enjoy happy hour every day at Mullum! \nMonday: 5pm – 6pm \nTuesday: 5pm – 6pm \nWednesday: 5pm – 7pm \nThursday: 5pm – 6pm \nFriday: 5pm – 7pm \nSaturday: 2:30pm – 4:30pm \nSunday: 5pm – 6pm \n  \nClick here to become a member. \n  \nTerms & conditions apply. Members only promotion. Directed to members over 18 years only.
URL:https://www.mullumexservices.com.au/event/members-happy-hour-5-6/2027-05-25/
LOCATION:Mullumbimby Ex-Services Club\, 58 Dalley Street\, Mullumbimby\, NSW\, 2482
CATEGORIES:All,Drink specials,Members only,Specials
ATTACH;FMTTYPE=image/jpeg:https://www.mullumexservices.com.au/wp-content/uploads/2023/03/Eat-Drink_Cafe-Bar.jpg
END:VEVENT
BEGIN:VEVENT
DTSTART;TZID=Australia/Melbourne:20270526T120000
DTEND;TZID=Australia/Melbourne:20270526T140000
DTSTAMP:20260426T062435
CREATED:20260204T230645Z
LAST-MODIFIED:20260302T013237Z
UID:10005372-1811332800-1811340000@www.mullumexservices.com.au
SUMMARY:Daily Lunch Special
DESCRIPTION:Visit Mullum Ex-Services Club for lunch and take advantage of our daily lunch specials!! \nSpecial available Monday to Friday for lunch service (12pm – 2pm). \nBookings are highly recommended! Call the club on (02) 6684 2533 to book. T&C’s Apply. \n 
URL:https://www.mullumexservices.com.au/event/lunch-deals-3/2027-05-26/
LOCATION:Mullumbimby Ex-Services Club\, 58 Dalley Street\, Mullumbimby\, NSW\, 2482
CATEGORIES:All,Meal specials,Members only,Specials
ATTACH;FMTTYPE=image/jpeg:https://www.mullumexservices.com.au/wp-content/uploads/2026/02/13-lunch-specials-tvs.jpg
END:VEVENT
END:VCALENDAR