BEGIN:VCALENDAR
VERSION:2.0
PRODID:-//Mullumbimby Ex-Services Club - ECPv6.15.17.1//NONSGML v1.0//EN
CALSCALE:GREGORIAN
METHOD:PUBLISH
X-ORIGINAL-URL:https://www.mullumexservices.com.au
X-WR-CALDESC:Events for Mullumbimby Ex-Services Club
REFRESH-INTERVAL;VALUE=DURATION:PT1H
X-Robots-Tag:noindex
X-PUBLISHED-TTL:PT1H
BEGIN:VTIMEZONE
TZID:Australia/Melbourne
BEGIN:STANDARD
TZOFFSETFROM:+1100
TZOFFSETTO:+1000
TZNAME:AEST
DTSTART:20260404T160000
END:STANDARD
BEGIN:DAYLIGHT
TZOFFSETFROM:+1000
TZOFFSETTO:+1100
TZNAME:AEDT
DTSTART:20261003T160000
END:DAYLIGHT
BEGIN:STANDARD
TZOFFSETFROM:+1100
TZOFFSETTO:+1000
TZNAME:AEST
DTSTART:20270403T160000
END:STANDARD
BEGIN:DAYLIGHT
TZOFFSETFROM:+1000
TZOFFSETTO:+1100
TZNAME:AEDT
DTSTART:20271002T160000
END:DAYLIGHT
BEGIN:STANDARD
TZOFFSETFROM:+1100
TZOFFSETTO:+1000
TZNAME:AEST
DTSTART:20280401T160000
END:STANDARD
BEGIN:DAYLIGHT
TZOFFSETFROM:+1000
TZOFFSETTO:+1100
TZNAME:AEDT
DTSTART:20280930T160000
END:DAYLIGHT
END:VTIMEZONE
BEGIN:VEVENT
DTSTART;TZID=Australia/Melbourne:20270420T120000
DTEND;TZID=Australia/Melbourne:20270420T140000
DTSTAMP:20260421T104157
CREATED:20260204T230645Z
LAST-MODIFIED:20260302T013237Z
UID:10005351-1808222400-1808229600@www.mullumexservices.com.au
SUMMARY:Daily Lunch Special
DESCRIPTION:Visit Mullum Ex-Services Club for lunch and take advantage of our daily lunch specials!! \nSpecial available Monday to Friday for lunch service (12pm – 2pm). \nBookings are highly recommended! Call the club on (02) 6684 2533 to book. T&C’s Apply. \n 
URL:https://www.mullumexservices.com.au/event/lunch-deals-3/2027-04-20/
LOCATION:Mullumbimby Ex-Services Club\, 58 Dalley Street\, Mullumbimby\, NSW\, 2482
CATEGORIES:All,Meal specials,Members only,Specials
ATTACH;FMTTYPE=image/jpeg:https://www.mullumexservices.com.au/wp-content/uploads/2026/02/13-lunch-specials-tvs.jpg
END:VEVENT
BEGIN:VEVENT
DTSTART;TZID=Australia/Melbourne:20270420T170000
DTEND;TZID=Australia/Melbourne:20270420T180000
DTSTAMP:20260421T104157
CREATED:20230315T225545Z
LAST-MODIFIED:20241030T221509Z
UID:10000869-1808240400-1808244000@www.mullumexservices.com.au
SUMMARY:Members Happy Hour 5-6pm
DESCRIPTION:Members can enjoy happy hour every day at Mullum! \nMonday: 5pm – 6pm \nTuesday: 5pm – 6pm \nWednesday: 5pm – 7pm \nThursday: 5pm – 6pm \nFriday: 5pm – 7pm \nSaturday: 2:30pm – 4:30pm \nSunday: 5pm – 6pm \n  \nClick here to become a member. \n  \nTerms & conditions apply. Members only promotion. Directed to members over 18 years only.
URL:https://www.mullumexservices.com.au/event/members-happy-hour-5-6/2027-04-20/
LOCATION:Mullumbimby Ex-Services Club\, 58 Dalley Street\, Mullumbimby\, NSW\, 2482
CATEGORIES:All,Drink specials,Members only,Specials
ATTACH;FMTTYPE=image/jpeg:https://www.mullumexservices.com.au/wp-content/uploads/2023/03/Eat-Drink_Cafe-Bar.jpg
END:VEVENT
BEGIN:VEVENT
DTSTART;TZID=Australia/Melbourne:20270421T120000
DTEND;TZID=Australia/Melbourne:20270421T140000
DTSTAMP:20260421T104157
CREATED:20260204T230645Z
LAST-MODIFIED:20260302T013237Z
UID:10005352-1808308800-1808316000@www.mullumexservices.com.au
SUMMARY:Daily Lunch Special
DESCRIPTION:Visit Mullum Ex-Services Club for lunch and take advantage of our daily lunch specials!! \nSpecial available Monday to Friday for lunch service (12pm – 2pm). \nBookings are highly recommended! Call the club on (02) 6684 2533 to book. T&C’s Apply. \n 
URL:https://www.mullumexservices.com.au/event/lunch-deals-3/2027-04-21/
LOCATION:Mullumbimby Ex-Services Club\, 58 Dalley Street\, Mullumbimby\, NSW\, 2482
CATEGORIES:All,Meal specials,Members only,Specials
ATTACH;FMTTYPE=image/jpeg:https://www.mullumexservices.com.au/wp-content/uploads/2026/02/13-lunch-specials-tvs.jpg
END:VEVENT
BEGIN:VEVENT
DTSTART;TZID=Australia/Melbourne:20270421T170000
DTEND;TZID=Australia/Melbourne:20270421T190000
DTSTAMP:20260421T104157
CREATED:20230315T225830Z
LAST-MODIFIED:20241030T221523Z
UID:10001487-1808326800-1808334000@www.mullumexservices.com.au
SUMMARY:Members Happy Hour 5-7pm
DESCRIPTION:Members can enjoy happy hour every day at Mullum! \nMonday: 5pm – 6pm \nTuesday: 5pm – 6pm \nWednesday: 5pm – 7pm \nThursday: 5pm – 6pm \nFriday: 5pm – 7pm \nSaturday: 2:30pm – 4:30pm \nSunday: 5pm – 6pm \n  \nClick here to become a member. \n  \nTerms & conditions apply. Members only promotion. Directed to members over 18 years only.
URL:https://www.mullumexservices.com.au/event/members-happy-hour-5-7/2027-04-21/
LOCATION:Mullumbimby Ex-Services Club\, 58 Dalley Street\, Mullumbimby\, NSW\, 2482
CATEGORIES:All,Drink specials,Members only,Specials
ATTACH;FMTTYPE=image/jpeg:https://www.mullumexservices.com.au/wp-content/uploads/2023/03/Eat-Drink_Cafe-Bar.jpg
END:VEVENT
BEGIN:VEVENT
DTSTART;TZID=Australia/Melbourne:20270422T120000
DTEND;TZID=Australia/Melbourne:20270422T140000
DTSTAMP:20260421T104157
CREATED:20260204T230645Z
LAST-MODIFIED:20260302T013237Z
UID:10005353-1808395200-1808402400@www.mullumexservices.com.au
SUMMARY:Daily Lunch Special
DESCRIPTION:Visit Mullum Ex-Services Club for lunch and take advantage of our daily lunch specials!! \nSpecial available Monday to Friday for lunch service (12pm – 2pm). \nBookings are highly recommended! Call the club on (02) 6684 2533 to book. T&C’s Apply. \n 
URL:https://www.mullumexservices.com.au/event/lunch-deals-3/2027-04-22/
LOCATION:Mullumbimby Ex-Services Club\, 58 Dalley Street\, Mullumbimby\, NSW\, 2482
CATEGORIES:All,Meal specials,Members only,Specials
ATTACH;FMTTYPE=image/jpeg:https://www.mullumexservices.com.au/wp-content/uploads/2026/02/13-lunch-specials-tvs.jpg
END:VEVENT
BEGIN:VEVENT
DTSTART;TZID=Australia/Melbourne:20270422T170000
DTEND;TZID=Australia/Melbourne:20270422T180000
DTSTAMP:20260421T104157
CREATED:20230315T225545Z
LAST-MODIFIED:20241030T221509Z
UID:10000870-1808413200-1808416800@www.mullumexservices.com.au
SUMMARY:Members Happy Hour 5-6pm
DESCRIPTION:Members can enjoy happy hour every day at Mullum! \nMonday: 5pm – 6pm \nTuesday: 5pm – 6pm \nWednesday: 5pm – 7pm \nThursday: 5pm – 6pm \nFriday: 5pm – 7pm \nSaturday: 2:30pm – 4:30pm \nSunday: 5pm – 6pm \n  \nClick here to become a member. \n  \nTerms & conditions apply. Members only promotion. Directed to members over 18 years only.
URL:https://www.mullumexservices.com.au/event/members-happy-hour-5-6/2027-04-22/
LOCATION:Mullumbimby Ex-Services Club\, 58 Dalley Street\, Mullumbimby\, NSW\, 2482
CATEGORIES:All,Drink specials,Members only,Specials
ATTACH;FMTTYPE=image/jpeg:https://www.mullumexservices.com.au/wp-content/uploads/2023/03/Eat-Drink_Cafe-Bar.jpg
END:VEVENT
BEGIN:VEVENT
DTSTART;TZID=Australia/Melbourne:20270423T120000
DTEND;TZID=Australia/Melbourne:20270423T140000
DTSTAMP:20260421T104157
CREATED:20260204T230645Z
LAST-MODIFIED:20260302T013237Z
UID:10005354-1808481600-1808488800@www.mullumexservices.com.au
SUMMARY:Daily Lunch Special
DESCRIPTION:Visit Mullum Ex-Services Club for lunch and take advantage of our daily lunch specials!! \nSpecial available Monday to Friday for lunch service (12pm – 2pm). \nBookings are highly recommended! Call the club on (02) 6684 2533 to book. T&C’s Apply. \n 
URL:https://www.mullumexservices.com.au/event/lunch-deals-3/2027-04-23/
LOCATION:Mullumbimby Ex-Services Club\, 58 Dalley Street\, Mullumbimby\, NSW\, 2482
CATEGORIES:All,Meal specials,Members only,Specials
ATTACH;FMTTYPE=image/jpeg:https://www.mullumexservices.com.au/wp-content/uploads/2026/02/13-lunch-specials-tvs.jpg
END:VEVENT
BEGIN:VEVENT
DTSTART;TZID=Australia/Melbourne:20270423T170000
DTEND;TZID=Australia/Melbourne:20270423T190000
DTSTAMP:20260421T104157
CREATED:20230315T225830Z
LAST-MODIFIED:20241030T221523Z
UID:10001488-1808499600-1808506800@www.mullumexservices.com.au
SUMMARY:Members Happy Hour 5-7pm
DESCRIPTION:Members can enjoy happy hour every day at Mullum! \nMonday: 5pm – 6pm \nTuesday: 5pm – 6pm \nWednesday: 5pm – 7pm \nThursday: 5pm – 6pm \nFriday: 5pm – 7pm \nSaturday: 2:30pm – 4:30pm \nSunday: 5pm – 6pm \n  \nClick here to become a member. \n  \nTerms & conditions apply. Members only promotion. Directed to members over 18 years only.
URL:https://www.mullumexservices.com.au/event/members-happy-hour-5-7/2027-04-23/
LOCATION:Mullumbimby Ex-Services Club\, 58 Dalley Street\, Mullumbimby\, NSW\, 2482
CATEGORIES:All,Drink specials,Members only,Specials
ATTACH;FMTTYPE=image/jpeg:https://www.mullumexservices.com.au/wp-content/uploads/2023/03/Eat-Drink_Cafe-Bar.jpg
END:VEVENT
BEGIN:VEVENT
DTSTART;TZID=Australia/Melbourne:20270424T143000
DTEND;TZID=Australia/Melbourne:20270424T163000
DTSTAMP:20260421T104157
CREATED:20230315T230209Z
LAST-MODIFIED:20241030T221516Z
UID:10002056-1808577000-1808584200@www.mullumexservices.com.au
SUMMARY:Members Happy Hour 2:30-4:30pm
DESCRIPTION:Members can enjoy happy hour every day at Mullum! \nMonday: 5pm – 6pm \nTuesday: 5pm – 6pm \nWednesday: 5pm – 7pm \nThursday: 5pm – 6pm \nFriday: 5pm – 7pm \nSaturday: 2:30pm – 4:30pm \nSunday: 5pm – 6pm \n  \nClick here to become a member. \n  \nTerms & conditions apply. Members only promotion. Directed to members over 18 years only.
URL:https://www.mullumexservices.com.au/event/members-happy-hour-230-430/2027-04-24/
LOCATION:Mullumbimby Ex-Services Club\, 58 Dalley Street\, Mullumbimby\, NSW\, 2482
CATEGORIES:All,Drink specials,Members only,Specials
ATTACH;FMTTYPE=image/jpeg:https://www.mullumexservices.com.au/wp-content/uploads/2023/03/Eat-Drink_Cafe-Bar.jpg
END:VEVENT
BEGIN:VEVENT
DTSTART;TZID=Australia/Melbourne:20270425T170000
DTEND;TZID=Australia/Melbourne:20270425T180000
DTSTAMP:20260421T104157
CREATED:20230315T225545Z
LAST-MODIFIED:20241030T221509Z
UID:10001795-1808672400-1808676000@www.mullumexservices.com.au
SUMMARY:Members Happy Hour 5-6pm
DESCRIPTION:Members can enjoy happy hour every day at Mullum! \nMonday: 5pm – 6pm \nTuesday: 5pm – 6pm \nWednesday: 5pm – 7pm \nThursday: 5pm – 6pm \nFriday: 5pm – 7pm \nSaturday: 2:30pm – 4:30pm \nSunday: 5pm – 6pm \n  \nClick here to become a member. \n  \nTerms & conditions apply. Members only promotion. Directed to members over 18 years only.
URL:https://www.mullumexservices.com.au/event/members-happy-hour-5-6/2027-04-25/
LOCATION:Mullumbimby Ex-Services Club\, 58 Dalley Street\, Mullumbimby\, NSW\, 2482
CATEGORIES:All,Drink specials,Members only,Specials
ATTACH;FMTTYPE=image/jpeg:https://www.mullumexservices.com.au/wp-content/uploads/2023/03/Eat-Drink_Cafe-Bar.jpg
END:VEVENT
BEGIN:VEVENT
DTSTART;TZID=Australia/Melbourne:20270426T120000
DTEND;TZID=Australia/Melbourne:20270426T140000
DTSTAMP:20260421T104157
CREATED:20260204T230645Z
LAST-MODIFIED:20260302T013237Z
UID:10008376-1808740800-1808748000@www.mullumexservices.com.au
SUMMARY:Daily Lunch Special
DESCRIPTION:Visit Mullum Ex-Services Club for lunch and take advantage of our daily lunch specials!! \nSpecial available Monday to Friday for lunch service (12pm – 2pm). \nBookings are highly recommended! Call the club on (02) 6684 2533 to book. T&C’s Apply. \n 
URL:https://www.mullumexservices.com.au/event/lunch-deals-3/2027-04-26/
LOCATION:Mullumbimby Ex-Services Club\, 58 Dalley Street\, Mullumbimby\, NSW\, 2482
CATEGORIES:All,Meal specials,Members only,Specials
ATTACH;FMTTYPE=image/jpeg:https://www.mullumexservices.com.au/wp-content/uploads/2026/02/13-lunch-specials-tvs.jpg
END:VEVENT
BEGIN:VEVENT
DTSTART;TZID=Australia/Melbourne:20270426T170000
DTEND;TZID=Australia/Melbourne:20270426T180000
DTSTAMP:20260421T104157
CREATED:20230315T225545Z
LAST-MODIFIED:20241030T221509Z
UID:10000872-1808758800-1808762400@www.mullumexservices.com.au
SUMMARY:Members Happy Hour 5-6pm
DESCRIPTION:Members can enjoy happy hour every day at Mullum! \nMonday: 5pm – 6pm \nTuesday: 5pm – 6pm \nWednesday: 5pm – 7pm \nThursday: 5pm – 6pm \nFriday: 5pm – 7pm \nSaturday: 2:30pm – 4:30pm \nSunday: 5pm – 6pm \n  \nClick here to become a member. \n  \nTerms & conditions apply. Members only promotion. Directed to members over 18 years only.
URL:https://www.mullumexservices.com.au/event/members-happy-hour-5-6/2027-04-26/
LOCATION:Mullumbimby Ex-Services Club\, 58 Dalley Street\, Mullumbimby\, NSW\, 2482
CATEGORIES:All,Drink specials,Members only,Specials
ATTACH;FMTTYPE=image/jpeg:https://www.mullumexservices.com.au/wp-content/uploads/2023/03/Eat-Drink_Cafe-Bar.jpg
END:VEVENT
BEGIN:VEVENT
DTSTART;TZID=Australia/Melbourne:20270427T120000
DTEND;TZID=Australia/Melbourne:20270427T140000
DTSTAMP:20260421T104157
CREATED:20260204T230645Z
LAST-MODIFIED:20260302T013237Z
UID:10005355-1808827200-1808834400@www.mullumexservices.com.au
SUMMARY:Daily Lunch Special
DESCRIPTION:Visit Mullum Ex-Services Club for lunch and take advantage of our daily lunch specials!! \nSpecial available Monday to Friday for lunch service (12pm – 2pm). \nBookings are highly recommended! Call the club on (02) 6684 2533 to book. T&C’s Apply. \n 
URL:https://www.mullumexservices.com.au/event/lunch-deals-3/2027-04-27/
LOCATION:Mullumbimby Ex-Services Club\, 58 Dalley Street\, Mullumbimby\, NSW\, 2482
CATEGORIES:All,Meal specials,Members only,Specials
ATTACH;FMTTYPE=image/jpeg:https://www.mullumexservices.com.au/wp-content/uploads/2026/02/13-lunch-specials-tvs.jpg
END:VEVENT
BEGIN:VEVENT
DTSTART;TZID=Australia/Melbourne:20270427T170000
DTEND;TZID=Australia/Melbourne:20270427T180000
DTSTAMP:20260421T104157
CREATED:20230315T225545Z
LAST-MODIFIED:20241030T221509Z
UID:10000873-1808845200-1808848800@www.mullumexservices.com.au
SUMMARY:Members Happy Hour 5-6pm
DESCRIPTION:Members can enjoy happy hour every day at Mullum! \nMonday: 5pm – 6pm \nTuesday: 5pm – 6pm \nWednesday: 5pm – 7pm \nThursday: 5pm – 6pm \nFriday: 5pm – 7pm \nSaturday: 2:30pm – 4:30pm \nSunday: 5pm – 6pm \n  \nClick here to become a member. \n  \nTerms & conditions apply. Members only promotion. Directed to members over 18 years only.
URL:https://www.mullumexservices.com.au/event/members-happy-hour-5-6/2027-04-27/
LOCATION:Mullumbimby Ex-Services Club\, 58 Dalley Street\, Mullumbimby\, NSW\, 2482
CATEGORIES:All,Drink specials,Members only,Specials
ATTACH;FMTTYPE=image/jpeg:https://www.mullumexservices.com.au/wp-content/uploads/2023/03/Eat-Drink_Cafe-Bar.jpg
END:VEVENT
BEGIN:VEVENT
DTSTART;TZID=Australia/Melbourne:20270428T120000
DTEND;TZID=Australia/Melbourne:20270428T140000
DTSTAMP:20260421T104157
CREATED:20260204T230645Z
LAST-MODIFIED:20260302T013237Z
UID:10005356-1808913600-1808920800@www.mullumexservices.com.au
SUMMARY:Daily Lunch Special
DESCRIPTION:Visit Mullum Ex-Services Club for lunch and take advantage of our daily lunch specials!! \nSpecial available Monday to Friday for lunch service (12pm – 2pm). \nBookings are highly recommended! Call the club on (02) 6684 2533 to book. T&C’s Apply. \n 
URL:https://www.mullumexservices.com.au/event/lunch-deals-3/2027-04-28/
LOCATION:Mullumbimby Ex-Services Club\, 58 Dalley Street\, Mullumbimby\, NSW\, 2482
CATEGORIES:All,Meal specials,Members only,Specials
ATTACH;FMTTYPE=image/jpeg:https://www.mullumexservices.com.au/wp-content/uploads/2026/02/13-lunch-specials-tvs.jpg
END:VEVENT
BEGIN:VEVENT
DTSTART;TZID=Australia/Melbourne:20270428T170000
DTEND;TZID=Australia/Melbourne:20270428T190000
DTSTAMP:20260421T104157
CREATED:20230315T225830Z
LAST-MODIFIED:20241030T221523Z
UID:10001489-1808931600-1808938800@www.mullumexservices.com.au
SUMMARY:Members Happy Hour 5-7pm
DESCRIPTION:Members can enjoy happy hour every day at Mullum! \nMonday: 5pm – 6pm \nTuesday: 5pm – 6pm \nWednesday: 5pm – 7pm \nThursday: 5pm – 6pm \nFriday: 5pm – 7pm \nSaturday: 2:30pm – 4:30pm \nSunday: 5pm – 6pm \n  \nClick here to become a member. \n  \nTerms & conditions apply. Members only promotion. Directed to members over 18 years only.
URL:https://www.mullumexservices.com.au/event/members-happy-hour-5-7/2027-04-28/
LOCATION:Mullumbimby Ex-Services Club\, 58 Dalley Street\, Mullumbimby\, NSW\, 2482
CATEGORIES:All,Drink specials,Members only,Specials
ATTACH;FMTTYPE=image/jpeg:https://www.mullumexservices.com.au/wp-content/uploads/2023/03/Eat-Drink_Cafe-Bar.jpg
END:VEVENT
BEGIN:VEVENT
DTSTART;TZID=Australia/Melbourne:20270429T120000
DTEND;TZID=Australia/Melbourne:20270429T140000
DTSTAMP:20260421T104157
CREATED:20260204T230645Z
LAST-MODIFIED:20260302T013237Z
UID:10005357-1809000000-1809007200@www.mullumexservices.com.au
SUMMARY:Daily Lunch Special
DESCRIPTION:Visit Mullum Ex-Services Club for lunch and take advantage of our daily lunch specials!! \nSpecial available Monday to Friday for lunch service (12pm – 2pm). \nBookings are highly recommended! Call the club on (02) 6684 2533 to book. T&C’s Apply. \n 
URL:https://www.mullumexservices.com.au/event/lunch-deals-3/2027-04-29/
LOCATION:Mullumbimby Ex-Services Club\, 58 Dalley Street\, Mullumbimby\, NSW\, 2482
CATEGORIES:All,Meal specials,Members only,Specials
ATTACH;FMTTYPE=image/jpeg:https://www.mullumexservices.com.au/wp-content/uploads/2026/02/13-lunch-specials-tvs.jpg
END:VEVENT
BEGIN:VEVENT
DTSTART;TZID=Australia/Melbourne:20270429T170000
DTEND;TZID=Australia/Melbourne:20270429T180000
DTSTAMP:20260421T104157
CREATED:20230315T225545Z
LAST-MODIFIED:20241030T221509Z
UID:10000874-1809018000-1809021600@www.mullumexservices.com.au
SUMMARY:Members Happy Hour 5-6pm
DESCRIPTION:Members can enjoy happy hour every day at Mullum! \nMonday: 5pm – 6pm \nTuesday: 5pm – 6pm \nWednesday: 5pm – 7pm \nThursday: 5pm – 6pm \nFriday: 5pm – 7pm \nSaturday: 2:30pm – 4:30pm \nSunday: 5pm – 6pm \n  \nClick here to become a member. \n  \nTerms & conditions apply. Members only promotion. Directed to members over 18 years only.
URL:https://www.mullumexservices.com.au/event/members-happy-hour-5-6/2027-04-29/
LOCATION:Mullumbimby Ex-Services Club\, 58 Dalley Street\, Mullumbimby\, NSW\, 2482
CATEGORIES:All,Drink specials,Members only,Specials
ATTACH;FMTTYPE=image/jpeg:https://www.mullumexservices.com.au/wp-content/uploads/2023/03/Eat-Drink_Cafe-Bar.jpg
END:VEVENT
BEGIN:VEVENT
DTSTART;TZID=Australia/Melbourne:20270430T120000
DTEND;TZID=Australia/Melbourne:20270430T140000
DTSTAMP:20260421T104157
CREATED:20260204T230645Z
LAST-MODIFIED:20260302T013237Z
UID:10005358-1809086400-1809093600@www.mullumexservices.com.au
SUMMARY:Daily Lunch Special
DESCRIPTION:Visit Mullum Ex-Services Club for lunch and take advantage of our daily lunch specials!! \nSpecial available Monday to Friday for lunch service (12pm – 2pm). \nBookings are highly recommended! Call the club on (02) 6684 2533 to book. T&C’s Apply. \n 
URL:https://www.mullumexservices.com.au/event/lunch-deals-3/2027-04-30/
LOCATION:Mullumbimby Ex-Services Club\, 58 Dalley Street\, Mullumbimby\, NSW\, 2482
CATEGORIES:All,Meal specials,Members only,Specials
ATTACH;FMTTYPE=image/jpeg:https://www.mullumexservices.com.au/wp-content/uploads/2026/02/13-lunch-specials-tvs.jpg
END:VEVENT
BEGIN:VEVENT
DTSTART;TZID=Australia/Melbourne:20270430T170000
DTEND;TZID=Australia/Melbourne:20270430T190000
DTSTAMP:20260421T104157
CREATED:20230315T225830Z
LAST-MODIFIED:20241030T221523Z
UID:10001490-1809104400-1809111600@www.mullumexservices.com.au
SUMMARY:Members Happy Hour 5-7pm
DESCRIPTION:Members can enjoy happy hour every day at Mullum! \nMonday: 5pm – 6pm \nTuesday: 5pm – 6pm \nWednesday: 5pm – 7pm \nThursday: 5pm – 6pm \nFriday: 5pm – 7pm \nSaturday: 2:30pm – 4:30pm \nSunday: 5pm – 6pm \n  \nClick here to become a member. \n  \nTerms & conditions apply. Members only promotion. Directed to members over 18 years only.
URL:https://www.mullumexservices.com.au/event/members-happy-hour-5-7/2027-04-30/
LOCATION:Mullumbimby Ex-Services Club\, 58 Dalley Street\, Mullumbimby\, NSW\, 2482
CATEGORIES:All,Drink specials,Members only,Specials
ATTACH;FMTTYPE=image/jpeg:https://www.mullumexservices.com.au/wp-content/uploads/2023/03/Eat-Drink_Cafe-Bar.jpg
END:VEVENT
BEGIN:VEVENT
DTSTART;TZID=Australia/Melbourne:20270501T143000
DTEND;TZID=Australia/Melbourne:20270501T163000
DTSTAMP:20260421T104158
CREATED:20230315T230209Z
LAST-MODIFIED:20241030T221516Z
UID:10002057-1809181800-1809189000@www.mullumexservices.com.au
SUMMARY:Members Happy Hour 2:30-4:30pm
DESCRIPTION:Members can enjoy happy hour every day at Mullum! \nMonday: 5pm – 6pm \nTuesday: 5pm – 6pm \nWednesday: 5pm – 7pm \nThursday: 5pm – 6pm \nFriday: 5pm – 7pm \nSaturday: 2:30pm – 4:30pm \nSunday: 5pm – 6pm \n  \nClick here to become a member. \n  \nTerms & conditions apply. Members only promotion. Directed to members over 18 years only.
URL:https://www.mullumexservices.com.au/event/members-happy-hour-230-430/2027-05-01/
LOCATION:Mullumbimby Ex-Services Club\, 58 Dalley Street\, Mullumbimby\, NSW\, 2482
CATEGORIES:All,Drink specials,Members only,Specials
ATTACH;FMTTYPE=image/jpeg:https://www.mullumexservices.com.au/wp-content/uploads/2023/03/Eat-Drink_Cafe-Bar.jpg
END:VEVENT
BEGIN:VEVENT
DTSTART;TZID=Australia/Melbourne:20270502T170000
DTEND;TZID=Australia/Melbourne:20270502T180000
DTSTAMP:20260421T104158
CREATED:20230315T225545Z
LAST-MODIFIED:20241030T221509Z
UID:10001796-1809277200-1809280800@www.mullumexservices.com.au
SUMMARY:Members Happy Hour 5-6pm
DESCRIPTION:Members can enjoy happy hour every day at Mullum! \nMonday: 5pm – 6pm \nTuesday: 5pm – 6pm \nWednesday: 5pm – 7pm \nThursday: 5pm – 6pm \nFriday: 5pm – 7pm \nSaturday: 2:30pm – 4:30pm \nSunday: 5pm – 6pm \n  \nClick here to become a member. \n  \nTerms & conditions apply. Members only promotion. Directed to members over 18 years only.
URL:https://www.mullumexservices.com.au/event/members-happy-hour-5-6/2027-05-02/
LOCATION:Mullumbimby Ex-Services Club\, 58 Dalley Street\, Mullumbimby\, NSW\, 2482
CATEGORIES:All,Drink specials,Members only,Specials
ATTACH;FMTTYPE=image/jpeg:https://www.mullumexservices.com.au/wp-content/uploads/2023/03/Eat-Drink_Cafe-Bar.jpg
END:VEVENT
BEGIN:VEVENT
DTSTART;TZID=Australia/Melbourne:20270503T120000
DTEND;TZID=Australia/Melbourne:20270503T140000
DTSTAMP:20260421T104158
CREATED:20260204T230645Z
LAST-MODIFIED:20260302T013237Z
UID:10008379-1809345600-1809352800@www.mullumexservices.com.au
SUMMARY:Daily Lunch Special
DESCRIPTION:Visit Mullum Ex-Services Club for lunch and take advantage of our daily lunch specials!! \nSpecial available Monday to Friday for lunch service (12pm – 2pm). \nBookings are highly recommended! Call the club on (02) 6684 2533 to book. T&C’s Apply. \n 
URL:https://www.mullumexservices.com.au/event/lunch-deals-3/2027-05-03/
LOCATION:Mullumbimby Ex-Services Club\, 58 Dalley Street\, Mullumbimby\, NSW\, 2482
CATEGORIES:All,Meal specials,Members only,Specials
ATTACH;FMTTYPE=image/jpeg:https://www.mullumexservices.com.au/wp-content/uploads/2026/02/13-lunch-specials-tvs.jpg
END:VEVENT
BEGIN:VEVENT
DTSTART;TZID=Australia/Melbourne:20270503T170000
DTEND;TZID=Australia/Melbourne:20270503T180000
DTSTAMP:20260421T104158
CREATED:20230315T225545Z
LAST-MODIFIED:20241030T221509Z
UID:10000876-1809363600-1809367200@www.mullumexservices.com.au
SUMMARY:Members Happy Hour 5-6pm
DESCRIPTION:Members can enjoy happy hour every day at Mullum! \nMonday: 5pm – 6pm \nTuesday: 5pm – 6pm \nWednesday: 5pm – 7pm \nThursday: 5pm – 6pm \nFriday: 5pm – 7pm \nSaturday: 2:30pm – 4:30pm \nSunday: 5pm – 6pm \n  \nClick here to become a member. \n  \nTerms & conditions apply. Members only promotion. Directed to members over 18 years only.
URL:https://www.mullumexservices.com.au/event/members-happy-hour-5-6/2027-05-03/
LOCATION:Mullumbimby Ex-Services Club\, 58 Dalley Street\, Mullumbimby\, NSW\, 2482
CATEGORIES:All,Drink specials,Members only,Specials
ATTACH;FMTTYPE=image/jpeg:https://www.mullumexservices.com.au/wp-content/uploads/2023/03/Eat-Drink_Cafe-Bar.jpg
END:VEVENT
BEGIN:VEVENT
DTSTART;TZID=Australia/Melbourne:20270504T120000
DTEND;TZID=Australia/Melbourne:20270504T140000
DTSTAMP:20260421T104158
CREATED:20260204T230645Z
LAST-MODIFIED:20260302T013237Z
UID:10005359-1809432000-1809439200@www.mullumexservices.com.au
SUMMARY:Daily Lunch Special
DESCRIPTION:Visit Mullum Ex-Services Club for lunch and take advantage of our daily lunch specials!! \nSpecial available Monday to Friday for lunch service (12pm – 2pm). \nBookings are highly recommended! Call the club on (02) 6684 2533 to book. T&C’s Apply. \n 
URL:https://www.mullumexservices.com.au/event/lunch-deals-3/2027-05-04/
LOCATION:Mullumbimby Ex-Services Club\, 58 Dalley Street\, Mullumbimby\, NSW\, 2482
CATEGORIES:All,Meal specials,Members only,Specials
ATTACH;FMTTYPE=image/jpeg:https://www.mullumexservices.com.au/wp-content/uploads/2026/02/13-lunch-specials-tvs.jpg
END:VEVENT
BEGIN:VEVENT
DTSTART;TZID=Australia/Melbourne:20270504T170000
DTEND;TZID=Australia/Melbourne:20270504T180000
DTSTAMP:20260421T104158
CREATED:20230315T225545Z
LAST-MODIFIED:20241030T221509Z
UID:10000877-1809450000-1809453600@www.mullumexservices.com.au
SUMMARY:Members Happy Hour 5-6pm
DESCRIPTION:Members can enjoy happy hour every day at Mullum! \nMonday: 5pm – 6pm \nTuesday: 5pm – 6pm \nWednesday: 5pm – 7pm \nThursday: 5pm – 6pm \nFriday: 5pm – 7pm \nSaturday: 2:30pm – 4:30pm \nSunday: 5pm – 6pm \n  \nClick here to become a member. \n  \nTerms & conditions apply. Members only promotion. Directed to members over 18 years only.
URL:https://www.mullumexservices.com.au/event/members-happy-hour-5-6/2027-05-04/
LOCATION:Mullumbimby Ex-Services Club\, 58 Dalley Street\, Mullumbimby\, NSW\, 2482
CATEGORIES:All,Drink specials,Members only,Specials
ATTACH;FMTTYPE=image/jpeg:https://www.mullumexservices.com.au/wp-content/uploads/2023/03/Eat-Drink_Cafe-Bar.jpg
END:VEVENT
BEGIN:VEVENT
DTSTART;TZID=Australia/Melbourne:20270505T120000
DTEND;TZID=Australia/Melbourne:20270505T140000
DTSTAMP:20260421T104158
CREATED:20260204T230645Z
LAST-MODIFIED:20260302T013237Z
UID:10005360-1809518400-1809525600@www.mullumexservices.com.au
SUMMARY:Daily Lunch Special
DESCRIPTION:Visit Mullum Ex-Services Club for lunch and take advantage of our daily lunch specials!! \nSpecial available Monday to Friday for lunch service (12pm – 2pm). \nBookings are highly recommended! Call the club on (02) 6684 2533 to book. T&C’s Apply. \n 
URL:https://www.mullumexservices.com.au/event/lunch-deals-3/2027-05-05/
LOCATION:Mullumbimby Ex-Services Club\, 58 Dalley Street\, Mullumbimby\, NSW\, 2482
CATEGORIES:All,Meal specials,Members only,Specials
ATTACH;FMTTYPE=image/jpeg:https://www.mullumexservices.com.au/wp-content/uploads/2026/02/13-lunch-specials-tvs.jpg
END:VEVENT
BEGIN:VEVENT
DTSTART;TZID=Australia/Melbourne:20270505T170000
DTEND;TZID=Australia/Melbourne:20270505T190000
DTSTAMP:20260421T104158
CREATED:20230315T225830Z
LAST-MODIFIED:20241030T221523Z
UID:10001491-1809536400-1809543600@www.mullumexservices.com.au
SUMMARY:Members Happy Hour 5-7pm
DESCRIPTION:Members can enjoy happy hour every day at Mullum! \nMonday: 5pm – 6pm \nTuesday: 5pm – 6pm \nWednesday: 5pm – 7pm \nThursday: 5pm – 6pm \nFriday: 5pm – 7pm \nSaturday: 2:30pm – 4:30pm \nSunday: 5pm – 6pm \n  \nClick here to become a member. \n  \nTerms & conditions apply. Members only promotion. Directed to members over 18 years only.
URL:https://www.mullumexservices.com.au/event/members-happy-hour-5-7/2027-05-05/
LOCATION:Mullumbimby Ex-Services Club\, 58 Dalley Street\, Mullumbimby\, NSW\, 2482
CATEGORIES:All,Drink specials,Members only,Specials
ATTACH;FMTTYPE=image/jpeg:https://www.mullumexservices.com.au/wp-content/uploads/2023/03/Eat-Drink_Cafe-Bar.jpg
END:VEVENT
BEGIN:VEVENT
DTSTART;TZID=Australia/Melbourne:20270506T120000
DTEND;TZID=Australia/Melbourne:20270506T140000
DTSTAMP:20260421T104158
CREATED:20260204T230645Z
LAST-MODIFIED:20260302T013237Z
UID:10005361-1809604800-1809612000@www.mullumexservices.com.au
SUMMARY:Daily Lunch Special
DESCRIPTION:Visit Mullum Ex-Services Club for lunch and take advantage of our daily lunch specials!! \nSpecial available Monday to Friday for lunch service (12pm – 2pm). \nBookings are highly recommended! Call the club on (02) 6684 2533 to book. T&C’s Apply. \n 
URL:https://www.mullumexservices.com.au/event/lunch-deals-3/2027-05-06/
LOCATION:Mullumbimby Ex-Services Club\, 58 Dalley Street\, Mullumbimby\, NSW\, 2482
CATEGORIES:All,Meal specials,Members only,Specials
ATTACH;FMTTYPE=image/jpeg:https://www.mullumexservices.com.au/wp-content/uploads/2026/02/13-lunch-specials-tvs.jpg
END:VEVENT
BEGIN:VEVENT
DTSTART;TZID=Australia/Melbourne:20270506T170000
DTEND;TZID=Australia/Melbourne:20270506T180000
DTSTAMP:20260421T104158
CREATED:20230315T225545Z
LAST-MODIFIED:20241030T221509Z
UID:10000878-1809622800-1809626400@www.mullumexservices.com.au
SUMMARY:Members Happy Hour 5-6pm
DESCRIPTION:Members can enjoy happy hour every day at Mullum! \nMonday: 5pm – 6pm \nTuesday: 5pm – 6pm \nWednesday: 5pm – 7pm \nThursday: 5pm – 6pm \nFriday: 5pm – 7pm \nSaturday: 2:30pm – 4:30pm \nSunday: 5pm – 6pm \n  \nClick here to become a member. \n  \nTerms & conditions apply. Members only promotion. Directed to members over 18 years only.
URL:https://www.mullumexservices.com.au/event/members-happy-hour-5-6/2027-05-06/
LOCATION:Mullumbimby Ex-Services Club\, 58 Dalley Street\, Mullumbimby\, NSW\, 2482
CATEGORIES:All,Drink specials,Members only,Specials
ATTACH;FMTTYPE=image/jpeg:https://www.mullumexservices.com.au/wp-content/uploads/2023/03/Eat-Drink_Cafe-Bar.jpg
END:VEVENT
END:VCALENDAR